BEGIN:VCALENDAR
VERSION:2.0
PRODID:-//Associazione Nazionale Alpini - Sezione di Milano - ECPv6.10.2//NONSGML v1.0//EN
CALSCALE:GREGORIAN
METHOD:PUBLISH
X-ORIGINAL-URL:https://www.milano.ana.it
X-WR-CALDESC:Eventi per Associazione Nazionale Alpini - Sezione di Milano
REFRESH-INTERVAL;VALUE=DURATION:PT1H
X-Robots-Tag:noindex
X-PUBLISHED-TTL:PT1H
BEGIN:VTIMEZONE
TZID:Europe/Paris
BEGIN:DAYLIGHT
TZOFFSETFROM:+0100
TZOFFSETTO:+0200
TZNAME:CEST
DTSTART:20210328T010000
END:DAYLIGHT
BEGIN:STANDARD
TZOFFSETFROM:+0200
TZOFFSETTO:+0100
TZNAME:CET
DTSTART:20211031T010000
END:STANDARD
END:VTIMEZONE
BEGIN:VEVENT
DTSTART;TZID=Europe/Paris:20210516T090000
DTEND;TZID=Europe/Paris:20210516T120000
DTSTAMP:20260420T141405
CREATED:20210424T093900Z
LAST-MODIFIED:20210424T093900Z
UID:5088-1621155600-1621166400@www.milano.ana.it
SUMMARY:Assemblea Melzo
DESCRIPTION:
URL:https://www.milano.ana.it/event/assemblea-melzo/
CATEGORIES:Eventi dei Gruppi
END:VEVENT
BEGIN:VEVENT
DTSTART;TZID=Europe/Paris:20210516T093000
DTEND;TZID=Europe/Paris:20210516T120000
DTSTAMP:20260420T141405
CREATED:20210418T124611Z
LAST-MODIFIED:20210418T124611Z
UID:5066-1621157400-1621166400@www.milano.ana.it
SUMMARY:Assemblea Cassano d'Adda
DESCRIPTION:
URL:https://www.milano.ana.it/event/assemblea-cassano-dadda/
CATEGORIES:Eventi dei Gruppi
END:VEVENT
BEGIN:VEVENT
DTSTART;TZID=Europe/Paris:20210516T100000
DTEND;TZID=Europe/Paris:20210516T120000
DTSTAMP:20260420T141405
CREATED:20210424T093432Z
LAST-MODIFIED:20210424T093432Z
UID:5078-1621159200-1621166400@www.milano.ana.it
SUMMARY:Assemblea Bareggio
DESCRIPTION:
URL:https://www.milano.ana.it/event/assemblea-bareggio/
CATEGORIES:Eventi dei Gruppi
END:VEVENT
BEGIN:VEVENT
DTSTART;TZID=Europe/Paris:20210516T100000
DTEND;TZID=Europe/Paris:20210516T120000
DTSTAMP:20260420T141405
CREATED:20210510T203002Z
LAST-MODIFIED:20210510T203002Z
UID:5141-1621159200-1621166400@www.milano.ana.it
SUMMARY:Assemblea Corsico
DESCRIPTION:
URL:https://www.milano.ana.it/event/assemblea-corsico/
CATEGORIES:Eventi dei Gruppi
END:VEVENT
END:VCALENDAR