BEGIN:VCALENDAR
VERSION:2.0
PRODID:-//Associazione Nazionale Alpini - Sezione di Milano - ECPv6.10.2//NONSGML v1.0//EN
CALSCALE:GREGORIAN
METHOD:PUBLISH
X-ORIGINAL-URL:https://www.milano.ana.it
X-WR-CALDESC:Eventi per Associazione Nazionale Alpini - Sezione di Milano
REFRESH-INTERVAL;VALUE=DURATION:PT1H
X-Robots-Tag:noindex
X-PUBLISHED-TTL:PT1H
BEGIN:VTIMEZONE
TZID:Europe/Paris
BEGIN:DAYLIGHT
TZOFFSETFROM:+0100
TZOFFSETTO:+0200
TZNAME:CEST
DTSTART:20210328T010000
END:DAYLIGHT
BEGIN:STANDARD
TZOFFSETFROM:+0200
TZOFFSETTO:+0100
TZNAME:CET
DTSTART:20211031T010000
END:STANDARD
END:VTIMEZONE
BEGIN:VEVENT
DTSTART;TZID=Europe/Paris:20210523T090000
DTEND;TZID=Europe/Paris:20210523T120000
DTSTAMP:20260420T124255
CREATED:20210418T124710Z
LAST-MODIFIED:20210418T124710Z
UID:5068-1621760400-1621771200@www.milano.ana.it
SUMMARY:Assemblea Cesano Maderno
DESCRIPTION:
URL:https://www.milano.ana.it/event/assemblea-cesano-maderno/
CATEGORIES:Eventi dei Gruppi
END:VEVENT
BEGIN:VEVENT
DTSTART;TZID=Europe/Paris:20210523T100000
DTEND;TZID=Europe/Paris:20210523T120000
DTSTAMP:20260420T124255
CREATED:20210510T201657Z
LAST-MODIFIED:20210510T201657Z
UID:5129-1621764000-1621771200@www.milano.ana.it
SUMMARY:Assemblea Rho
DESCRIPTION:
URL:https://www.milano.ana.it/event/assemblea-rho/
CATEGORIES:Eventi dei Gruppi
END:VEVENT
BEGIN:VEVENT
DTSTART;TZID=Europe/Paris:20210523T100000
DTEND;TZID=Europe/Paris:20210523T120000
DTSTAMP:20260420T124255
CREATED:20210510T201804Z
LAST-MODIFIED:20210510T201804Z
UID:5131-1621764000-1621771200@www.milano.ana.it
SUMMARY:Assemblea Sesto S.Giovanni
DESCRIPTION:
URL:https://www.milano.ana.it/event/assemblea-sesto-s-giovanni/
CATEGORIES:Eventi dei Gruppi
END:VEVENT
END:VCALENDAR