BEGIN:VCALENDAR
VERSION:2.0
PRODID:-//Associazione Nazionale Alpini - Sezione di Milano - ECPv6.10.2//NONSGML v1.0//EN
CALSCALE:GREGORIAN
METHOD:PUBLISH
X-WR-CALNAME:Associazione Nazionale Alpini - Sezione di Milano
X-ORIGINAL-URL:https://www.milano.ana.it
X-WR-CALDESC:Eventi per Associazione Nazionale Alpini - Sezione di Milano
REFRESH-INTERVAL;VALUE=DURATION:PT1H
X-Robots-Tag:noindex
X-PUBLISHED-TTL:PT1H
BEGIN:VTIMEZONE
TZID:Europe/Paris
BEGIN:DAYLIGHT
TZOFFSETFROM:+0100
TZOFFSETTO:+0200
TZNAME:CEST
DTSTART:20210328T010000
END:DAYLIGHT
BEGIN:STANDARD
TZOFFSETFROM:+0200
TZOFFSETTO:+0100
TZNAME:CET
DTSTART:20211031T010000
END:STANDARD
END:VTIMEZONE
BEGIN:VEVENT
DTSTART;TZID=Europe/Paris:20210530T090000
DTEND;TZID=Europe/Paris:20210530T120000
DTSTAMP:20260420T141246
CREATED:20210427T095751Z
LAST-MODIFIED:20210427T095751Z
UID:5096-1622365200-1622376000@www.milano.ana.it
SUMMARY:Assemblea sezionale
DESCRIPTION:Ancora da definire il luogo
URL:https://www.milano.ana.it/event/assemblea-sezionale-3/
CATEGORIES:Eventi Sezionali
END:VEVENT
END:VCALENDAR