BEGIN:VCALENDAR
VERSION:2.0
PRODID:-//Associazione Nazionale Alpini - Sezione di Milano - ECPv6.10.2//NONSGML v1.0//EN
CALSCALE:GREGORIAN
METHOD:PUBLISH
X-ORIGINAL-URL:https://www.milano.ana.it
X-WR-CALDESC:Eventi per Associazione Nazionale Alpini - Sezione di Milano
REFRESH-INTERVAL;VALUE=DURATION:PT1H
X-Robots-Tag:noindex
X-PUBLISHED-TTL:PT1H
BEGIN:VTIMEZONE
TZID:Europe/Paris
BEGIN:DAYLIGHT
TZOFFSETFROM:+0100
TZOFFSETTO:+0200
TZNAME:CEST
DTSTART:20210328T010000
END:DAYLIGHT
BEGIN:STANDARD
TZOFFSETFROM:+0200
TZOFFSETTO:+0100
TZNAME:CET
DTSTART:20211031T010000
END:STANDARD
END:VTIMEZONE
BEGIN:VEVENT
DTSTART;TZID=Europe/Paris:20211115T210000
DTEND;TZID=Europe/Paris:20211115T230000
DTSTAMP:20260424T113434
CREATED:20211010T122832Z
LAST-MODIFIED:20211111T163400Z
UID:5329-1637010000-1637017200@www.milano.ana.it
SUMMARY:Cinisello Balsamo - Riunione Capigruppo
DESCRIPTION:
URL:https://www.milano.ana.it/event/cesano-maderno-riunione-capigruppo/
CATEGORIES:Eventi Sezionali
END:VEVENT
END:VCALENDAR