BEGIN:VCALENDAR
VERSION:2.0
PRODID:-//Associazione Nazionale Alpini - Sezione di Milano - ECPv6.10.2//NONSGML v1.0//EN
CALSCALE:GREGORIAN
METHOD:PUBLISH
X-ORIGINAL-URL:https://www.milano.ana.it
X-WR-CALDESC:Eventi per Associazione Nazionale Alpini - Sezione di Milano
REFRESH-INTERVAL;VALUE=DURATION:PT1H
X-Robots-Tag:noindex
X-PUBLISHED-TTL:PT1H
BEGIN:VTIMEZONE
TZID:Europe/Paris
BEGIN:DAYLIGHT
TZOFFSETFROM:+0100
TZOFFSETTO:+0200
TZNAME:CEST
DTSTART:20210328T010000
END:DAYLIGHT
BEGIN:STANDARD
TZOFFSETFROM:+0200
TZOFFSETTO:+0100
TZNAME:CET
DTSTART:20211031T010000
END:STANDARD
END:VTIMEZONE
BEGIN:VEVENT
DTSTART;TZID=Europe/Paris:20211120T150000
DTEND;TZID=Europe/Paris:20211120T180000
DTSTAMP:20260420T141500
CREATED:20211010T120102Z
LAST-MODIFIED:20211010T120102Z
UID:5312-1637420400-1637431200@www.milano.ana.it
SUMMARY:Assemblea ordinaria Gruppo Magenta
DESCRIPTION:
URL:https://www.milano.ana.it/event/assemblea-ordinaria-gruppo-magenta/
CATEGORIES:Eventi dei Gruppi
END:VEVENT
END:VCALENDAR