BEGIN:VCALENDAR
VERSION:2.0
PRODID:-//Associazione Nazionale Alpini - Sezione di Milano - ECPv6.10.2//NONSGML v1.0//EN
CALSCALE:GREGORIAN
METHOD:PUBLISH
X-WR-CALNAME:Associazione Nazionale Alpini - Sezione di Milano
X-ORIGINAL-URL:https://www.milano.ana.it
X-WR-CALDESC:Eventi per Associazione Nazionale Alpini - Sezione di Milano
REFRESH-INTERVAL;VALUE=DURATION:PT1H
X-Robots-Tag:noindex
X-PUBLISHED-TTL:PT1H
BEGIN:VTIMEZONE
TZID:Europe/Paris
BEGIN:DAYLIGHT
TZOFFSETFROM:+0100
TZOFFSETTO:+0200
TZNAME:CEST
DTSTART:20220327T010000
END:DAYLIGHT
BEGIN:STANDARD
TZOFFSETFROM:+0200
TZOFFSETTO:+0100
TZNAME:CET
DTSTART:20221030T010000
END:STANDARD
END:VTIMEZONE
BEGIN:VEVENT
DTSTART;VALUE=DATE:20220505
DTEND;VALUE=DATE:20220509
DTSTAMP:20260420T123959
CREATED:20220301T145720Z
LAST-MODIFIED:20220301T145720Z
UID:5727-1651708800-1652054399@www.milano.ana.it
SUMMARY:Rimini-San Marino - Adunata nazionale
DESCRIPTION:
URL:https://www.milano.ana.it/event/rimini-san-marino-adunata-nazionale/
CATEGORIES:Adunata Nazionale 2022
END:VEVENT
BEGIN:VEVENT
DTSTART;TZID=Europe/Paris:20220509T210000
DTEND;TZID=Europe/Paris:20220509T230000
DTSTAMP:20260420T123959
CREATED:20220310T155935Z
LAST-MODIFIED:20220310T155935Z
UID:5769-1652130000-1652137200@www.milano.ana.it
SUMMARY:Milano sede - Consiglio sezionale
DESCRIPTION:
URL:https://www.milano.ana.it/event/milano-sede-consiglio-sezionale-6/
CATEGORIES:Eventi Sezionali
END:VEVENT
END:VCALENDAR