BEGIN:VCALENDAR
VERSION:2.0
PRODID:-//Associazione Nazionale Alpini - Sezione di Milano - ECPv6.10.2//NONSGML v1.0//EN
CALSCALE:GREGORIAN
METHOD:PUBLISH
X-ORIGINAL-URL:https://www.milano.ana.it
X-WR-CALDESC:Eventi per Associazione Nazionale Alpini - Sezione di Milano
REFRESH-INTERVAL;VALUE=DURATION:PT1H
X-Robots-Tag:noindex
X-PUBLISHED-TTL:PT1H
BEGIN:VTIMEZONE
TZID:Europe/Paris
BEGIN:DAYLIGHT
TZOFFSETFROM:+0100
TZOFFSETTO:+0200
TZNAME:CEST
DTSTART:20230326T010000
END:DAYLIGHT
BEGIN:STANDARD
TZOFFSETFROM:+0200
TZOFFSETTO:+0100
TZNAME:CET
DTSTART:20231029T010000
END:STANDARD
END:VTIMEZONE
BEGIN:VEVENT
DTSTART;TZID=Europe/Paris:20230115T090000
DTEND;TZID=Europe/Paris:20230115T120000
DTSTAMP:20260421T155301
CREATED:20221121T154133Z
LAST-MODIFIED:20221121T154133Z
UID:6235-1673773200-1673784000@www.milano.ana.it
SUMMARY:Cernusco S/N - Assemblea di Gruppo
DESCRIPTION:
URL:https://www.milano.ana.it/event/cernusco-s-n-assemblea-di-gruppo-2/
CATEGORIES:Eventi dei Gruppi
END:VEVENT
BEGIN:VEVENT
DTSTART;TZID=Europe/Paris:20230115T090000
DTEND;TZID=Europe/Paris:20230115T120000
DTSTAMP:20260421T155301
CREATED:20221124T161357Z
LAST-MODIFIED:20221124T161357Z
UID:6249-1673773200-1673784000@www.milano.ana.it
SUMMARY:Melegnano - Assemblea di Gruppo
DESCRIPTION:
URL:https://www.milano.ana.it/event/melegnano-assemblea-di-gruppo-2/
CATEGORIES:Eventi dei Gruppi
END:VEVENT
END:VCALENDAR