BEGIN:VCALENDAR
VERSION:2.0
PRODID:-//Associazione Nazionale Alpini - Sezione di Milano - ECPv6.10.2//NONSGML v1.0//EN
CALSCALE:GREGORIAN
METHOD:PUBLISH
X-ORIGINAL-URL:https://www.milano.ana.it
X-WR-CALDESC:Eventi per Associazione Nazionale Alpini - Sezione di Milano
REFRESH-INTERVAL;VALUE=DURATION:PT1H
X-Robots-Tag:noindex
X-PUBLISHED-TTL:PT1H
BEGIN:VTIMEZONE
TZID:Europe/Paris
BEGIN:DAYLIGHT
TZOFFSETFROM:+0100
TZOFFSETTO:+0200
TZNAME:CEST
DTSTART:20230326T010000
END:DAYLIGHT
BEGIN:STANDARD
TZOFFSETFROM:+0200
TZOFFSETTO:+0100
TZNAME:CET
DTSTART:20231029T010000
END:STANDARD
END:VTIMEZONE
BEGIN:VEVENT
DTSTART;VALUE=DATE:20230116
DTEND;VALUE=DATE:20230117
DTSTAMP:20260421T155253
CREATED:20230116T155702Z
LAST-MODIFIED:20230116T155702Z
UID:6385-1673827200-1673913599@www.milano.ana.it
SUMMARY:Pavia - Centenario della Sezione
DESCRIPTION:
URL:https://www.milano.ana.it/event/pavia-centenario-della-sezione/
CATEGORIES:Eventi Sezionali
END:VEVENT
BEGIN:VEVENT
DTSTART;TZID=Europe/Paris:20230116T210000
DTEND;TZID=Europe/Paris:20230116T230000
DTSTAMP:20260421T155253
CREATED:20230116T153442Z
LAST-MODIFIED:20230116T153442Z
UID:6369-1673902800-1673910000@www.milano.ana.it
SUMMARY:Milano sede - Riunione Capigruppo
DESCRIPTION:
URL:https://www.milano.ana.it/event/milano-sede-riunione-capigruppo/
CATEGORIES:Eventi Sezionali
END:VEVENT
END:VCALENDAR