BEGIN:VCALENDAR
VERSION:2.0
PRODID:-//Associazione Nazionale Alpini - Sezione di Milano - ECPv6.10.2//NONSGML v1.0//EN
CALSCALE:GREGORIAN
METHOD:PUBLISH
X-WR-CALNAME:Associazione Nazionale Alpini - Sezione di Milano
X-ORIGINAL-URL:https://www.milano.ana.it
X-WR-CALDESC:Eventi per Associazione Nazionale Alpini - Sezione di Milano
REFRESH-INTERVAL;VALUE=DURATION:PT1H
X-Robots-Tag:noindex
X-PUBLISHED-TTL:PT1H
BEGIN:VTIMEZONE
TZID:Europe/Paris
BEGIN:DAYLIGHT
TZOFFSETFROM:+0100
TZOFFSETTO:+0200
TZNAME:CEST
DTSTART:20230326T010000
END:DAYLIGHT
BEGIN:STANDARD
TZOFFSETFROM:+0200
TZOFFSETTO:+0100
TZNAME:CET
DTSTART:20231029T010000
END:STANDARD
END:VTIMEZONE
BEGIN:VEVENT
DTSTART;TZID=Europe/Paris:20230128T173000
DTEND;TZID=Europe/Paris:20230128T190000
DTSTAMP:20260421T154214
CREATED:20221227T083753Z
LAST-MODIFIED:20221227T083753Z
UID:6328-1674927000-1674932400@www.milano.ana.it
SUMMARY:MI-Crescenzago - Assemblea di Gruppo
DESCRIPTION:
URL:https://www.milano.ana.it/event/mi-crescenzago-assemblea-di-gruppo-2/
CATEGORIES:Eventi dei Gruppi
END:VEVENT
BEGIN:VEVENT
DTSTART;TZID=Europe/Paris:20230128T173000
DTEND;TZID=Europe/Paris:20230128T193000
DTSTAMP:20260421T154214
CREATED:20221227T082909Z
LAST-MODIFIED:20230119T162651Z
UID:6317-1674927000-1674934200@www.milano.ana.it
SUMMARY:Cormano - Assemblea di Gruppo
DESCRIPTION:
URL:https://www.milano.ana.it/event/cormano-assemblea-di-gruppo-3/
CATEGORIES:Eventi dei Gruppi
END:VEVENT
BEGIN:VEVENT
DTSTART;TZID=Europe/Paris:20230128T180000
DTEND;TZID=Europe/Paris:20230128T200000
DTSTAMP:20260421T154214
CREATED:20221227T083647Z
LAST-MODIFIED:20221227T083647Z
UID:6326-1674928800-1674936000@www.milano.ana.it
SUMMARY:Cologno Monzese - Assemblea di Gruppo
DESCRIPTION:
URL:https://www.milano.ana.it/event/cologno-monzese-assemblea-di-gruppo-3/
CATEGORIES:Eventi dei Gruppi
END:VEVENT
END:VCALENDAR