BEGIN:VCALENDAR
VERSION:2.0
PRODID:-//Associazione Nazionale Alpini - Sezione di Milano - ECPv6.10.2//NONSGML v1.0//EN
CALSCALE:GREGORIAN
METHOD:PUBLISH
X-ORIGINAL-URL:https://www.milano.ana.it
X-WR-CALDESC:Eventi per Associazione Nazionale Alpini - Sezione di Milano
REFRESH-INTERVAL;VALUE=DURATION:PT1H
X-Robots-Tag:noindex
X-PUBLISHED-TTL:PT1H
BEGIN:VTIMEZONE
TZID:Europe/Paris
BEGIN:DAYLIGHT
TZOFFSETFROM:+0100
TZOFFSETTO:+0200
TZNAME:CEST
DTSTART:20230326T010000
END:DAYLIGHT
BEGIN:STANDARD
TZOFFSETFROM:+0200
TZOFFSETTO:+0100
TZNAME:CET
DTSTART:20231029T010000
END:STANDARD
END:VTIMEZONE
BEGIN:VEVENT
DTSTART;TZID=Europe/Paris:20230205T090000
DTEND;TZID=Europe/Paris:20230205T120000
DTSTAMP:20260423T105627
CREATED:20221116T140431Z
LAST-MODIFIED:20221116T140431Z
UID:6215-1675587600-1675598400@www.milano.ana.it
SUMMARY:Agrate Brianza - Assemblea di Gruppo
DESCRIPTION:
URL:https://www.milano.ana.it/event/agrate-brianza-assemblea-di-gruppo-3/
CATEGORIES:Eventi dei Gruppi
END:VEVENT
BEGIN:VEVENT
DTSTART;TZID=Europe/Paris:20230205T090000
DTEND;TZID=Europe/Paris:20230205T120000
DTSTAMP:20260423T105627
CREATED:20221121T154504Z
LAST-MODIFIED:20221121T154504Z
UID:6241-1675587600-1675598400@www.milano.ana.it
SUMMARY:Limbiate - Assemblea di Gruppo
DESCRIPTION:
URL:https://www.milano.ana.it/event/limbiate-assemblea-di-gruppo-3/
CATEGORIES:Eventi dei Gruppi
END:VEVENT
BEGIN:VEVENT
DTSTART;TZID=Europe/Paris:20230205T090000
DTEND;TZID=Europe/Paris:20230205T120000
DTSTAMP:20260423T105627
CREATED:20221129T195646Z
LAST-MODIFIED:20221129T195646Z
UID:6272-1675587600-1675598400@www.milano.ana.it
SUMMARY:Brugherio - Assemblea di Gruppo
DESCRIPTION:
URL:https://www.milano.ana.it/event/brugherio-assemblea-di-gruppo-3/
CATEGORIES:Eventi dei Gruppi
END:VEVENT
END:VCALENDAR