BEGIN:VCALENDAR
VERSION:2.0
PRODID:-//Associazione Nazionale Alpini - Sezione di Milano - ECPv6.10.2//NONSGML v1.0//EN
CALSCALE:GREGORIAN
METHOD:PUBLISH
X-ORIGINAL-URL:https://www.milano.ana.it
X-WR-CALDESC:Eventi per Associazione Nazionale Alpini - Sezione di Milano
REFRESH-INTERVAL;VALUE=DURATION:PT1H
X-Robots-Tag:noindex
X-PUBLISHED-TTL:PT1H
BEGIN:VTIMEZONE
TZID:Europe/Paris
BEGIN:DAYLIGHT
TZOFFSETFROM:+0100
TZOFFSETTO:+0200
TZNAME:CEST
DTSTART:20230326T010000
END:DAYLIGHT
BEGIN:STANDARD
TZOFFSETFROM:+0200
TZOFFSETTO:+0100
TZNAME:CET
DTSTART:20231029T010000
END:STANDARD
END:VTIMEZONE
BEGIN:VEVENT
DTSTART;TZID=Europe/Paris:20230401T210000
DTEND;TZID=Europe/Paris:20230401T230000
DTSTAMP:20260421T143047
CREATED:20230301T161400Z
LAST-MODIFIED:20230301T161400Z
UID:6539-1680382800-1680390000@www.milano.ana.it
SUMMARY:Spettacolo teatrale "La sera dei baci" c/o Scuola Militare Teuliè
DESCRIPTION:
URL:https://www.milano.ana.it/event/spettacolo-teatrale-la-sera-dei-baci-c-o-scuola-militare-teulie/
CATEGORIES:Eventi Sezionali
END:VEVENT
END:VCALENDAR