BEGIN:VCALENDAR
VERSION:2.0
PRODID:-//Associazione Nazionale Alpini - Sezione di Milano - ECPv6.10.2//NONSGML v1.0//EN
CALSCALE:GREGORIAN
METHOD:PUBLISH
X-ORIGINAL-URL:https://www.milano.ana.it
X-WR-CALDESC:Eventi per Associazione Nazionale Alpini - Sezione di Milano
REFRESH-INTERVAL;VALUE=DURATION:PT1H
X-Robots-Tag:noindex
X-PUBLISHED-TTL:PT1H
BEGIN:VTIMEZONE
TZID:Europe/Paris
BEGIN:DAYLIGHT
TZOFFSETFROM:+0100
TZOFFSETTO:+0200
TZNAME:CEST
DTSTART:20240331T010000
END:DAYLIGHT
BEGIN:STANDARD
TZOFFSETFROM:+0200
TZOFFSETTO:+0100
TZNAME:CET
DTSTART:20241027T010000
END:STANDARD
END:VTIMEZONE
BEGIN:VEVENT
DTSTART;VALUE=DATE:20240127
DTEND;VALUE=DATE:20240128
DTSTAMP:20260421T110035
CREATED:20240109T193957Z
LAST-MODIFIED:20240109T193957Z
UID:7171-1706313600-1706399999@www.milano.ana.it
SUMMARY:Brescia - 81° di Nikolajewka SOLENNE
DESCRIPTION:
URL:https://www.milano.ana.it/event/brescia-81-di-nikolajewka-solenne/
CATEGORIES:Eventi Nazionali
END:VEVENT
BEGIN:VEVENT
DTSTART;TZID=Europe/Paris:20240127T173000
DTEND;TZID=Europe/Paris:20240127T190000
DTSTAMP:20260421T110035
CREATED:20240109T195125Z
LAST-MODIFIED:20240109T195125Z
UID:7183-1706376600-1706382000@www.milano.ana.it
SUMMARY:Assemblea Gruppo Milano Crescenzago
DESCRIPTION:
URL:https://www.milano.ana.it/event/assemblea-gruppo-milano-crescenzago-2/
CATEGORIES:Eventi dei Gruppi
END:VEVENT
BEGIN:VEVENT
DTSTART;TZID=Europe/Paris:20240127T210000
DTEND;TZID=Europe/Paris:20240127T210000
DTSTAMP:20260421T110035
CREATED:20231130T161915Z
LAST-MODIFIED:20231130T161915Z
UID:7071-1706389200-1706389200@www.milano.ana.it
SUMMARY:Busto Garolfo - Assemblea di Gruppo
DESCRIPTION:DA CONFERMARE !
URL:https://www.milano.ana.it/event/busto-garolfo-assemblea-di-gruppo-4/
CATEGORIES:Eventi dei Gruppi
END:VEVENT
END:VCALENDAR