BEGIN:VCALENDAR
VERSION:2.0
PRODID:-//Associazione Nazionale Alpini - Sezione di Milano - ECPv6.10.2//NONSGML v1.0//EN
CALSCALE:GREGORIAN
METHOD:PUBLISH
X-ORIGINAL-URL:https://www.milano.ana.it
X-WR-CALDESC:Eventi per Associazione Nazionale Alpini - Sezione di Milano
REFRESH-INTERVAL;VALUE=DURATION:PT1H
X-Robots-Tag:noindex
X-PUBLISHED-TTL:PT1H
BEGIN:VTIMEZONE
TZID:Europe/Paris
BEGIN:DAYLIGHT
TZOFFSETFROM:+0100
TZOFFSETTO:+0200
TZNAME:CEST
DTSTART:20250330T010000
END:DAYLIGHT
BEGIN:STANDARD
TZOFFSETFROM:+0200
TZOFFSETTO:+0100
TZNAME:CET
DTSTART:20251026T010000
END:STANDARD
END:VTIMEZONE
BEGIN:VEVENT
DTSTART;VALUE=DATE:20250125
DTEND;VALUE=DATE:20250126
DTSTAMP:20260421T122643
CREATED:20250115T143051Z
LAST-MODIFIED:20250115T144230Z
UID:7863-1737763200-1737849599@www.milano.ana.it
SUMMARY:Brescia - Anniversario Nikolajewka SOLENNE
DESCRIPTION:
URL:https://www.milano.ana.it/event/brescia-anniversario-nikolajewka-solenne/
CATEGORIES:Eventi Nazionali
END:VEVENT
BEGIN:VEVENT
DTSTART;TZID=Europe/Paris:20250125T103000
DTEND;TZID=Europe/Paris:20250125T120000
DTSTAMP:20260421T122643
CREATED:20250115T162435Z
LAST-MODIFIED:20250115T162435Z
UID:7906-1737801000-1737806400@www.milano.ana.it
SUMMARY:MI Crescenzago - Assemblea di Gruppo
DESCRIPTION:
URL:https://www.milano.ana.it/event/mi-crescenzago-assemblea-di-gruppo-3/
CATEGORIES:Eventi dei Gruppi
END:VEVENT
BEGIN:VEVENT
DTSTART;TZID=Europe/Paris:20250125T210000
DTEND;TZID=Europe/Paris:20250125T230000
DTSTAMP:20260421T122643
CREATED:20241017T155805Z
LAST-MODIFIED:20241017T155805Z
UID:7750-1737838800-1737846000@www.milano.ana.it
SUMMARY:Busto Garolfo - Assemblea ordinaria del Gruppo
DESCRIPTION:
URL:https://www.milano.ana.it/event/busto-garolfo-assemblea-ordinaria-del-gruppo/
CATEGORIES:Eventi dei Gruppi
END:VEVENT
END:VCALENDAR