BEGIN:VCALENDAR
VERSION:2.0
PRODID:-//Associazione Nazionale Alpini - Sezione di Milano - ECPv6.10.2//NONSGML v1.0//EN
CALSCALE:GREGORIAN
METHOD:PUBLISH
X-WR-CALNAME:Associazione Nazionale Alpini - Sezione di Milano
X-ORIGINAL-URL:https://www.milano.ana.it
X-WR-CALDESC:Eventi per Associazione Nazionale Alpini - Sezione di Milano
REFRESH-INTERVAL;VALUE=DURATION:PT1H
X-Robots-Tag:noindex
X-PUBLISHED-TTL:PT1H
BEGIN:VTIMEZONE
TZID:Europe/Paris
BEGIN:DAYLIGHT
TZOFFSETFROM:+0100
TZOFFSETTO:+0200
TZNAME:CEST
DTSTART:20250330T010000
END:DAYLIGHT
BEGIN:STANDARD
TZOFFSETFROM:+0200
TZOFFSETTO:+0100
TZNAME:CET
DTSTART:20251026T010000
END:STANDARD
END:VTIMEZONE
BEGIN:VEVENT
DTSTART;VALUE=DATE:20250126
DTEND;VALUE=DATE:20250127
DTSTAMP:20260423T133819
CREATED:20250115T143235Z
LAST-MODIFIED:20250115T143235Z
UID:7865-1737849600-1737935999@www.milano.ana.it
SUMMARY:Varese: Giornata Nazionale degli Alpini SOLENNE
DESCRIPTION:
URL:https://www.milano.ana.it/event/varese-giornata-nazionale-degli-alpini-solenne/
CATEGORIES:Eventi Nazionali
END:VEVENT
BEGIN:VEVENT
DTSTART;TZID=Europe/Paris:20250126T080000
DTEND;TZID=Europe/Paris:20250126T170000
DTSTAMP:20260423T133819
CREATED:20250115T162722Z
LAST-MODIFIED:20250115T162722Z
UID:7912-1737878400-1737910800@www.milano.ana.it
SUMMARY:Bresso - Assemblea di Gruppo
DESCRIPTION:
URL:https://www.milano.ana.it/event/bresso-assemblea-di-gruppo-4/
CATEGORIES:Eventi dei Gruppi
END:VEVENT
BEGIN:VEVENT
DTSTART;TZID=Europe/Paris:20250126T100000
DTEND;TZID=Europe/Paris:20250126T120000
DTSTAMP:20260423T133819
CREATED:20250115T162634Z
LAST-MODIFIED:20250115T162634Z
UID:7910-1737885600-1737892800@www.milano.ana.it
SUMMARY:Pessano con Bornago - Assemblea di Gruppo
DESCRIPTION:
URL:https://www.milano.ana.it/event/pessano-con-bornago-assemblea-di-gruppo-4/
CATEGORIES:Eventi dei Gruppi
END:VEVENT
BEGIN:VEVENT
DTSTART;TZID=Europe/Paris:20250126T100000
DTEND;TZID=Europe/Paris:20250126T120000
DTSTAMP:20260423T133819
CREATED:20250116T171539Z
LAST-MODIFIED:20250116T171539Z
UID:7962-1737885600-1737892800@www.milano.ana.it
SUMMARY:RHO - Assemblea di Gruppo
DESCRIPTION:
URL:https://www.milano.ana.it/event/rho-assemblea-di-gruppo-6/
CATEGORIES:Eventi dei Gruppi
END:VEVENT
END:VCALENDAR