BEGIN:VCALENDAR
VERSION:2.0
PRODID:-//Associazione Nazionale Alpini - Sezione di Milano - ECPv6.10.2//NONSGML v1.0//EN
CALSCALE:GREGORIAN
METHOD:PUBLISH
X-ORIGINAL-URL:https://www.milano.ana.it
X-WR-CALDESC:Eventi per Associazione Nazionale Alpini - Sezione di Milano
REFRESH-INTERVAL;VALUE=DURATION:PT1H
X-Robots-Tag:noindex
X-PUBLISHED-TTL:PT1H
BEGIN:VTIMEZONE
TZID:Europe/Paris
BEGIN:DAYLIGHT
TZOFFSETFROM:+0100
TZOFFSETTO:+0200
TZNAME:CEST
DTSTART:20250330T010000
END:DAYLIGHT
BEGIN:STANDARD
TZOFFSETFROM:+0200
TZOFFSETTO:+0100
TZNAME:CET
DTSTART:20251026T010000
END:STANDARD
END:VTIMEZONE
BEGIN:VEVENT
DTSTART;TZID=Europe/Paris:20250130T103000
DTEND;TZID=Europe/Paris:20250130T120000
DTSTAMP:20260421T142752
CREATED:20250116T171325Z
LAST-MODIFIED:20250116T171325Z
UID:7958-1738233000-1738238400@www.milano.ana.it
SUMMARY:MI Lorenteggio - Assemblea di Gruppo
DESCRIPTION:
URL:https://www.milano.ana.it/event/mi-lorenteggio-assemblea-di-gruppo-2/
CATEGORIES:Eventi dei Gruppi
END:VEVENT
BEGIN:VEVENT
DTSTART;TZID=Europe/Paris:20250130T210000
DTEND;TZID=Europe/Paris:20250130T230000
DTSTAMP:20260421T142752
CREATED:20250115T161910Z
LAST-MODIFIED:20250116T170916Z
UID:7893-1738270800-1738278000@www.milano.ana.it
SUMMARY:Paderno D. - Assemblea di Gruppo
DESCRIPTION:
URL:https://www.milano.ana.it/event/paderno-d-assemblea-di-gruppo/
CATEGORIES:Eventi dei Gruppi
END:VEVENT
BEGIN:VEVENT
DTSTART;TZID=Europe/Paris:20250130T210000
DTEND;TZID=Europe/Paris:20250130T230000
DTSTAMP:20260421T142752
CREATED:20250115T162909Z
LAST-MODIFIED:20250115T162909Z
UID:7916-1738270800-1738278000@www.milano.ana.it
SUMMARY:MI Centro - Assemblea di Gruppo
DESCRIPTION:
URL:https://www.milano.ana.it/event/mi-centro-assemblea-di-gruppo-2/
CATEGORIES:Eventi dei Gruppi
END:VEVENT
END:VCALENDAR