BEGIN:VCALENDAR
VERSION:2.0
PRODID:-//Associazione Nazionale Alpini - Sezione di Milano - ECPv6.10.2//NONSGML v1.0//EN
CALSCALE:GREGORIAN
METHOD:PUBLISH
X-ORIGINAL-URL:https://www.milano.ana.it
X-WR-CALDESC:Eventi per Associazione Nazionale Alpini - Sezione di Milano
REFRESH-INTERVAL;VALUE=DURATION:PT1H
X-Robots-Tag:noindex
X-PUBLISHED-TTL:PT1H
BEGIN:VTIMEZONE
TZID:Europe/Paris
BEGIN:DAYLIGHT
TZOFFSETFROM:+0100
TZOFFSETTO:+0200
TZNAME:CEST
DTSTART:20250330T010000
END:DAYLIGHT
BEGIN:STANDARD
TZOFFSETFROM:+0200
TZOFFSETTO:+0100
TZNAME:CET
DTSTART:20251026T010000
END:STANDARD
END:VTIMEZONE
BEGIN:VEVENT
DTSTART;TZID=Europe/Paris:20250913T210000
DTEND;TZID=Europe/Paris:20250913T230000
DTSTAMP:20260421T155529
CREATED:20250901T151617Z
LAST-MODIFIED:20250901T151617Z
UID:8170-1757797200-1757804400@www.milano.ana.it
SUMMARY:San Vittore Olona: concerto corale per 70° del Gruppo
DESCRIPTION:
URL:https://www.milano.ana.it/event/san-vittore-olona-concerto-corale-per-70-del-gruppo/
CATEGORIES:Eventi dei Gruppi
END:VEVENT
END:VCALENDAR