BEGIN:VCALENDAR
VERSION:2.0
PRODID:-//Associazione Nazionale Alpini - Sezione di Milano - ECPv6.10.2//NONSGML v1.0//EN
CALSCALE:GREGORIAN
METHOD:PUBLISH
X-WR-CALNAME:Associazione Nazionale Alpini - Sezione di Milano
X-ORIGINAL-URL:https://www.milano.ana.it
X-WR-CALDESC:Eventi per Associazione Nazionale Alpini - Sezione di Milano
REFRESH-INTERVAL;VALUE=DURATION:PT1H
X-Robots-Tag:noindex
X-PUBLISHED-TTL:PT1H
BEGIN:VTIMEZONE
TZID:Europe/Paris
BEGIN:DAYLIGHT
TZOFFSETFROM:+0100
TZOFFSETTO:+0200
TZNAME:CEST
DTSTART:20210328T010000
END:DAYLIGHT
BEGIN:STANDARD
TZOFFSETFROM:+0200
TZOFFSETTO:+0100
TZNAME:CET
DTSTART:20211031T010000
END:STANDARD
BEGIN:DAYLIGHT
TZOFFSETFROM:+0100
TZOFFSETTO:+0200
TZNAME:CEST
DTSTART:20220327T010000
END:DAYLIGHT
BEGIN:STANDARD
TZOFFSETFROM:+0200
TZOFFSETTO:+0100
TZNAME:CET
DTSTART:20221030T010000
END:STANDARD
END:VTIMEZONE
BEGIN:VEVENT
DTSTART;TZID=Europe/Paris:20210513T183000
DTEND;TZID=Europe/Paris:20210513T210000
DTSTAMP:20260425T031854
CREATED:20210504T144919Z
LAST-MODIFIED:20210504T144919Z
UID:5108-1620930600-1620939600@www.milano.ana.it
SUMMARY:Assemblea Lentate sul Seveso
DESCRIPTION:
URL:https://www.milano.ana.it/event/assemblea-lentate-sul-seveso/
CATEGORIES:Eventi dei Gruppi
END:VEVENT
BEGIN:VEVENT
DTSTART;TZID=Europe/Paris:20210513T204500
DTEND;TZID=Europe/Paris:20210513T220000
DTSTAMP:20260425T031854
CREATED:20210510T202256Z
LAST-MODIFIED:20210510T202256Z
UID:5135-1620938700-1620943200@www.milano.ana.it
SUMMARY:Assemblea Vimercate
DESCRIPTION:
URL:https://www.milano.ana.it/event/assemblea-vimercate/
CATEGORIES:Eventi dei Gruppi
END:VEVENT
BEGIN:VEVENT
DTSTART;TZID=Europe/Paris:20210515T000000
DTEND;TZID=Europe/Paris:20210515T000000
DTSTAMP:20260425T031854
CREATED:20210418T124407Z
LAST-MODIFIED:20210418T124407Z
UID:5062-1621036800-1621036800@www.milano.ana.it
SUMMARY:Assemblea Cologno Monz.
DESCRIPTION:
URL:https://www.milano.ana.it/event/assemblea-cologno-monz/
CATEGORIES:Eventi dei Gruppi
END:VEVENT
BEGIN:VEVENT
DTSTART;TZID=Europe/Paris:20210515T150000
DTEND;TZID=Europe/Paris:20210515T180000
DTSTAMP:20260425T031854
CREATED:20210418T124237Z
LAST-MODIFIED:20210418T124237Z
UID:5060-1621090800-1621101600@www.milano.ana.it
SUMMARY:Assemblea Arese
DESCRIPTION:
URL:https://www.milano.ana.it/event/assemblea-arese/
CATEGORIES:Eventi dei Gruppi
END:VEVENT
BEGIN:VEVENT
DTSTART;TZID=Europe/Paris:20210515T150000
DTEND;TZID=Europe/Paris:20210515T180000
DTSTAMP:20260425T031854
CREATED:20210418T124508Z
LAST-MODIFIED:20210418T124508Z
UID:5064-1621090800-1621101600@www.milano.ana.it
SUMMARY:Assemblea Lainate
DESCRIPTION:
URL:https://www.milano.ana.it/event/assemblea-lainate/
CATEGORIES:Eventi dei Gruppi
END:VEVENT
BEGIN:VEVENT
DTSTART;TZID=Europe/Paris:20210515T153000
DTEND;TZID=Europe/Paris:20210515T180000
DTSTAMP:20260425T031854
CREATED:20210510T202126Z
LAST-MODIFIED:20210510T202126Z
UID:5133-1621092600-1621101600@www.milano.ana.it
SUMMARY:Assemblea Rozzano
DESCRIPTION:
URL:https://www.milano.ana.it/event/assemblea-rozzano/
CATEGORIES:Eventi dei Gruppi
END:VEVENT
BEGIN:VEVENT
DTSTART;TZID=Europe/Paris:20210515T170000
DTEND;TZID=Europe/Paris:20210515T190000
DTSTAMP:20260425T031854
CREATED:20210510T202915Z
LAST-MODIFIED:20210510T202915Z
UID:5139-1621098000-1621105200@www.milano.ana.it
SUMMARY:Assemblea Cormano
DESCRIPTION:
URL:https://www.milano.ana.it/event/assemblea-cormano/
CATEGORIES:Eventi dei Gruppi
END:VEVENT
BEGIN:VEVENT
DTSTART;TZID=Europe/Paris:20210516T090000
DTEND;TZID=Europe/Paris:20210516T120000
DTSTAMP:20260425T031854
CREATED:20210424T093900Z
LAST-MODIFIED:20210424T093900Z
UID:5088-1621155600-1621166400@www.milano.ana.it
SUMMARY:Assemblea Melzo
DESCRIPTION:
URL:https://www.milano.ana.it/event/assemblea-melzo/
CATEGORIES:Eventi dei Gruppi
END:VEVENT
BEGIN:VEVENT
DTSTART;TZID=Europe/Paris:20210516T093000
DTEND;TZID=Europe/Paris:20210516T120000
DTSTAMP:20260425T031854
CREATED:20210418T124611Z
LAST-MODIFIED:20210418T124611Z
UID:5066-1621157400-1621166400@www.milano.ana.it
SUMMARY:Assemblea Cassano d'Adda
DESCRIPTION:
URL:https://www.milano.ana.it/event/assemblea-cassano-dadda/
CATEGORIES:Eventi dei Gruppi
END:VEVENT
BEGIN:VEVENT
DTSTART;TZID=Europe/Paris:20210516T100000
DTEND;TZID=Europe/Paris:20210516T120000
DTSTAMP:20260425T031854
CREATED:20210424T093432Z
LAST-MODIFIED:20210424T093432Z
UID:5078-1621159200-1621166400@www.milano.ana.it
SUMMARY:Assemblea Bareggio
DESCRIPTION:
URL:https://www.milano.ana.it/event/assemblea-bareggio/
CATEGORIES:Eventi dei Gruppi
END:VEVENT
BEGIN:VEVENT
DTSTART;TZID=Europe/Paris:20210516T100000
DTEND;TZID=Europe/Paris:20210516T120000
DTSTAMP:20260425T031854
CREATED:20210510T203002Z
LAST-MODIFIED:20210510T203002Z
UID:5141-1621159200-1621166400@www.milano.ana.it
SUMMARY:Assemblea Corsico
DESCRIPTION:
URL:https://www.milano.ana.it/event/assemblea-corsico/
CATEGORIES:Eventi dei Gruppi
END:VEVENT
BEGIN:VEVENT
DTSTART;TZID=Europe/Paris:20210522T100000
DTEND;TZID=Europe/Paris:20210522T120000
DTSTAMP:20260425T031854
CREATED:20210504T145123Z
LAST-MODIFIED:20210504T145123Z
UID:5112-1621677600-1621684800@www.milano.ana.it
SUMMARY:Assemblea MI Crescenzago
DESCRIPTION:
URL:https://www.milano.ana.it/event/assemblea-mi-crescenzago/
CATEGORIES:Eventi dei Gruppi
END:VEVENT
BEGIN:VEVENT
DTSTART;TZID=Europe/Paris:20210522T100000
DTEND;TZID=Europe/Paris:20210522T120000
DTSTAMP:20260425T031854
CREATED:20210510T203058Z
LAST-MODIFIED:20210510T203058Z
UID:5143-1621677600-1621684800@www.milano.ana.it
SUMMARY:Assemblea MI-Centro
DESCRIPTION:
URL:https://www.milano.ana.it/event/assemblea-mi-centro/
CATEGORIES:Eventi dei Gruppi
END:VEVENT
BEGIN:VEVENT
DTSTART;TZID=Europe/Paris:20210522T150000
DTEND;TZID=Europe/Paris:20210522T180000
DTSTAMP:20260425T031854
CREATED:20210504T144642Z
LAST-MODIFIED:20210504T144642Z
UID:5104-1621695600-1621706400@www.milano.ana.it
SUMMARY:Assemblea Busto Garolfo
DESCRIPTION:
URL:https://www.milano.ana.it/event/assemblea-busto-garolfo/
CATEGORIES:Eventi dei Gruppi
END:VEVENT
BEGIN:VEVENT
DTSTART;TZID=Europe/Paris:20210522T150000
DTEND;TZID=Europe/Paris:20210522T180000
DTSTAMP:20260425T031854
CREATED:20210510T202438Z
LAST-MODIFIED:20210510T202438Z
UID:5137-1621695600-1621706400@www.milano.ana.it
SUMMARY:Assemblea Abbiategrasso
DESCRIPTION:
URL:https://www.milano.ana.it/event/assemblea-abbiategrasso/
CATEGORIES:Eventi dei Gruppi
END:VEVENT
BEGIN:VEVENT
DTSTART;TZID=Europe/Paris:20210523T090000
DTEND;TZID=Europe/Paris:20210523T120000
DTSTAMP:20260425T031854
CREATED:20210418T124710Z
LAST-MODIFIED:20210418T124710Z
UID:5068-1621760400-1621771200@www.milano.ana.it
SUMMARY:Assemblea Cesano Maderno
DESCRIPTION:
URL:https://www.milano.ana.it/event/assemblea-cesano-maderno/
CATEGORIES:Eventi dei Gruppi
END:VEVENT
BEGIN:VEVENT
DTSTART;TZID=Europe/Paris:20210523T100000
DTEND;TZID=Europe/Paris:20210523T120000
DTSTAMP:20260425T031854
CREATED:20210510T201657Z
LAST-MODIFIED:20210510T201657Z
UID:5129-1621764000-1621771200@www.milano.ana.it
SUMMARY:Assemblea Rho
DESCRIPTION:
URL:https://www.milano.ana.it/event/assemblea-rho/
CATEGORIES:Eventi dei Gruppi
END:VEVENT
BEGIN:VEVENT
DTSTART;TZID=Europe/Paris:20210523T100000
DTEND;TZID=Europe/Paris:20210523T120000
DTSTAMP:20260425T031854
CREATED:20210510T201804Z
LAST-MODIFIED:20210510T201804Z
UID:5131-1621764000-1621771200@www.milano.ana.it
SUMMARY:Assemblea Sesto S.Giovanni
DESCRIPTION:
URL:https://www.milano.ana.it/event/assemblea-sesto-s-giovanni/
CATEGORIES:Eventi dei Gruppi
END:VEVENT
BEGIN:VEVENT
DTSTART;VALUE=DATE:20211017
DTEND;VALUE=DATE:20211018
DTSTAMP:20260425T031854
CREATED:20211010T121306Z
LAST-MODIFIED:20211010T121306Z
UID:5315-1634428800-1634515199@www.milano.ana.it
SUMMARY:Sesto S.Giovanni - 90° di fondazione
DESCRIPTION:
URL:https://www.milano.ana.it/event/sesto-s-giovanni-90-di-fondazione/
CATEGORIES:Eventi dei Gruppi
END:VEVENT
BEGIN:VEVENT
DTSTART;TZID=Europe/Paris:20211106T210000
DTEND;TZID=Europe/Paris:20211106T230000
DTSTAMP:20260425T031854
CREATED:20211111T163827Z
LAST-MODIFIED:20211111T163827Z
UID:5494-1636232400-1636239600@www.milano.ana.it
SUMMARY:Castano Primo - Assemblea ordinaria
DESCRIPTION:
URL:https://www.milano.ana.it/event/castano-primo-assemblea-ordinaria/
CATEGORIES:Eventi dei Gruppi
END:VEVENT
BEGIN:VEVENT
DTSTART;TZID=Europe/Paris:20211112T210000
DTEND;TZID=Europe/Paris:20211112T230000
DTSTAMP:20260425T031854
CREATED:20211111T163525Z
LAST-MODIFIED:20211111T163525Z
UID:5490-1636750800-1636758000@www.milano.ana.it
SUMMARY:Abbiategrasso - Assemblea ordinaria
DESCRIPTION:
URL:https://www.milano.ana.it/event/abbiategrasso-assemblea-ordinaria/
CATEGORIES:Eventi dei Gruppi
END:VEVENT
BEGIN:VEVENT
DTSTART;TZID=Europe/Paris:20211114T100000
DTEND;TZID=Europe/Paris:20211114T120000
DTSTAMP:20260425T031854
CREATED:20211111T164204Z
LAST-MODIFIED:20211111T164204Z
UID:5500-1636884000-1636891200@www.milano.ana.it
SUMMARY:Corsico - Assemblea ordinaria
DESCRIPTION:
URL:https://www.milano.ana.it/event/corsico-assemblea-ordinaria/
CATEGORIES:Eventi dei Gruppi
END:VEVENT
BEGIN:VEVENT
DTSTART;TZID=Europe/Paris:20211114T160000
DTEND;TZID=Europe/Paris:20211114T190000
DTSTAMP:20260425T031854
CREATED:20211111T164500Z
LAST-MODIFIED:20211111T164500Z
UID:5504-1636905600-1636916400@www.milano.ana.it
SUMMARY:Pessano con Bornago - Assemblea ordinaria
DESCRIPTION:
URL:https://www.milano.ana.it/event/pessano-con-bornago-assemblea-ordinaria/
CATEGORIES:Eventi dei Gruppi
END:VEVENT
BEGIN:VEVENT
DTSTART;TZID=Europe/Paris:20211120T150000
DTEND;TZID=Europe/Paris:20211120T180000
DTSTAMP:20260425T031854
CREATED:20211010T120102Z
LAST-MODIFIED:20211010T120102Z
UID:5312-1637420400-1637431200@www.milano.ana.it
SUMMARY:Assemblea ordinaria Gruppo Magenta
DESCRIPTION:
URL:https://www.milano.ana.it/event/assemblea-ordinaria-gruppo-magenta/
CATEGORIES:Eventi dei Gruppi
END:VEVENT
BEGIN:VEVENT
DTSTART;TZID=Europe/Paris:20211128T090000
DTEND;TZID=Europe/Paris:20211128T120000
DTSTAMP:20260425T031854
CREATED:20211111T164058Z
LAST-MODIFIED:20211111T164058Z
UID:5498-1638090000-1638100800@www.milano.ana.it
SUMMARY:Cinisello Balsamo - Assemblea ordinaria
DESCRIPTION:
URL:https://www.milano.ana.it/event/cinisello-balsamo-assemblea-ordinaria/
CATEGORIES:Eventi dei Gruppi
END:VEVENT
BEGIN:VEVENT
DTSTART;TZID=Europe/Paris:20211203T210000
DTEND;TZID=Europe/Paris:20211203T230000
DTSTAMP:20260425T031854
CREATED:20211111T164606Z
LAST-MODIFIED:20211111T164606Z
UID:5506-1638565200-1638572400@www.milano.ana.it
SUMMARY:San Vittore Olona - Assemblea ordinaria
DESCRIPTION:
URL:https://www.milano.ana.it/event/san-vittore-olona-assemblea-ordinaria/
CATEGORIES:Eventi dei Gruppi
END:VEVENT
BEGIN:VEVENT
DTSTART;TZID=Europe/Paris:20220113T210000
DTEND;TZID=Europe/Paris:20220113T230000
DTSTAMP:20260425T031854
CREATED:20211111T163941Z
LAST-MODIFIED:20211111T163941Z
UID:5496-1642107600-1642114800@www.milano.ana.it
SUMMARY:Cavenago Brianza - Assemblea ordinaria
DESCRIPTION:
URL:https://www.milano.ana.it/event/cavenago-brianza-assemblea-ordinaria/
CATEGORIES:Eventi dei Gruppi
END:VEVENT
BEGIN:VEVENT
DTSTART;TZID=Europe/Paris:20220113T210000
DTEND;TZID=Europe/Paris:20220113T230000
DTSTAMP:20260425T031854
CREATED:20211223T121537Z
LAST-MODIFIED:20211223T121537Z
UID:5595-1642107600-1642114800@www.milano.ana.it
SUMMARY:Legnano - Assemblea di Gruppo
DESCRIPTION:
URL:https://www.milano.ana.it/event/legnano-assemblea-di-gruppo-3/
CATEGORIES:Eventi dei Gruppi
END:VEVENT
BEGIN:VEVENT
DTSTART;TZID=Europe/Paris:20220116T090000
DTEND;TZID=Europe/Paris:20220116T120000
DTSTAMP:20260425T031854
CREATED:20220126T145030Z
LAST-MODIFIED:20220126T145030Z
UID:5641-1642323600-1642334400@www.milano.ana.it
SUMMARY:Missaglia - Assemblea di Gruppo
DESCRIPTION:
URL:https://www.milano.ana.it/event/missaglia-assemblea-di-gruppo-2/
CATEGORIES:Eventi dei Gruppi
END:VEVENT
BEGIN:VEVENT
DTSTART;TZID=Europe/Paris:20220116T093000
DTEND;TZID=Europe/Paris:20220116T120000
DTSTAMP:20260425T031854
CREATED:20211223T121653Z
LAST-MODIFIED:20211223T121653Z
UID:5597-1642325400-1642334400@www.milano.ana.it
SUMMARY:Melegnano Mediglia V.P.- Assemblea di Gruppo
DESCRIPTION:
URL:https://www.milano.ana.it/event/melegnano-mediglia-v-p-assemblea-di-gruppo/
CATEGORIES:Eventi dei Gruppi
END:VEVENT
END:VCALENDAR