BEGIN:VCALENDAR
VERSION:2.0
PRODID:-//Associazione Nazionale Alpini - Sezione di Milano - ECPv6.10.2//NONSGML v1.0//EN
CALSCALE:GREGORIAN
METHOD:PUBLISH
X-WR-CALNAME:Associazione Nazionale Alpini - Sezione di Milano
X-ORIGINAL-URL:https://www.milano.ana.it
X-WR-CALDESC:Eventi per Associazione Nazionale Alpini - Sezione di Milano
REFRESH-INTERVAL;VALUE=DURATION:PT1H
X-Robots-Tag:noindex
X-PUBLISHED-TTL:PT1H
BEGIN:VTIMEZONE
TZID:Europe/Paris
BEGIN:DAYLIGHT
TZOFFSETFROM:+0100
TZOFFSETTO:+0200
TZNAME:CEST
DTSTART:20260329T010000
END:DAYLIGHT
BEGIN:STANDARD
TZOFFSETFROM:+0200
TZOFFSETTO:+0100
TZNAME:CET
DTSTART:20261025T010000
END:STANDARD
END:VTIMEZONE
BEGIN:VEVENT
DTSTART;TZID=Europe/Paris:20260127T210000
DTEND;TZID=Europe/Paris:20260127T233000
DTSTAMP:20260419T162732
CREATED:20251127T170707Z
LAST-MODIFIED:20251127T170707Z
UID:8285-1769547600-1769556600@www.milano.ana.it
SUMMARY:Arese - Assemblea di Gruppo
DESCRIPTION:
URL:https://www.milano.ana.it/event/arese-assemblea-di-gruppo-6/
CATEGORIES:Eventi dei Gruppi
END:VEVENT
BEGIN:VEVENT
DTSTART;TZID=Europe/Paris:20260129T210000
DTEND;TZID=Europe/Paris:20260129T230000
DTSTAMP:20260419T162732
CREATED:20260109T171637Z
LAST-MODIFIED:20260109T171637Z
UID:8396-1769720400-1769727600@www.milano.ana.it
SUMMARY:Milano Centro - Assemblea di Gruppo
DESCRIPTION:
URL:https://www.milano.ana.it/event/milano-centro-assemblea-di-gruppo-3/
CATEGORIES:Eventi dei Gruppi
END:VEVENT
BEGIN:VEVENT
DTSTART;TZID=Europe/Paris:20260131T210000
DTEND;TZID=Europe/Paris:20260131T233000
DTSTAMP:20260419T162732
CREATED:20251127T174011Z
LAST-MODIFIED:20251127T174011Z
UID:8339-1769893200-1769902200@www.milano.ana.it
SUMMARY:Busto Garolfo - Assemblea di Gruppo
DESCRIPTION:
URL:https://www.milano.ana.it/event/busto-garolfo-assemblea-di-gruppo-5/
CATEGORIES:Eventi dei Gruppi
END:VEVENT
BEGIN:VEVENT
DTSTART;TZID=Europe/Paris:20260201T093000
DTEND;TZID=Europe/Paris:20260201T120000
DTSTAMP:20260419T162732
CREATED:20251127T173024Z
LAST-MODIFIED:20251127T173024Z
UID:8333-1769938200-1769947200@www.milano.ana.it
SUMMARY:Vaprio d'Adda - Assemblea di Gruppo
DESCRIPTION:
URL:https://www.milano.ana.it/event/vaprio-dadda-assemblea-di-gruppo-6/
CATEGORIES:Eventi dei Gruppi
END:VEVENT
BEGIN:VEVENT
DTSTART;TZID=Europe/Paris:20260205T210000
DTEND;TZID=Europe/Paris:20260205T233000
DTSTAMP:20260419T162732
CREATED:20251127T172354Z
LAST-MODIFIED:20251127T172354Z
UID:8319-1770325200-1770334200@www.milano.ana.it
SUMMARY:Limbiate - Assemblea di Gruppo
DESCRIPTION:
URL:https://www.milano.ana.it/event/limbiate-assemblea-di-gruppo-6/
CATEGORIES:Eventi dei Gruppi
END:VEVENT
BEGIN:VEVENT
DTSTART;TZID=Europe/Paris:20260207T150000
DTEND;TZID=Europe/Paris:20260207T183000
DTSTAMP:20260419T162732
CREATED:20251127T170829Z
LAST-MODIFIED:20251127T170829Z
UID:8287-1770476400-1770489000@www.milano.ana.it
SUMMARY:Bollate - Assemblea di Gruppo
DESCRIPTION:
URL:https://www.milano.ana.it/event/bollate-assemblea-di-gruppo-6/
CATEGORIES:Eventi dei Gruppi
END:VEVENT
BEGIN:VEVENT
DTSTART;TZID=Europe/Paris:20260208T093000
DTEND;TZID=Europe/Paris:20260208T120000
DTSTAMP:20260419T162732
CREATED:20251127T171033Z
LAST-MODIFIED:20251127T171033Z
UID:8291-1770543000-1770552000@www.milano.ana.it
SUMMARY:Brugherio - Assemblea di Gruppo
DESCRIPTION:
URL:https://www.milano.ana.it/event/brugherio-assemblea-di-gruppo-4/
CATEGORIES:Eventi dei Gruppi
END:VEVENT
BEGIN:VEVENT
DTSTART;TZID=Europe/Paris:20260208T093000
DTEND;TZID=Europe/Paris:20260208T120000
DTSTAMP:20260419T162732
CREATED:20251127T171135Z
LAST-MODIFIED:20251127T171135Z
UID:8293-1770543000-1770552000@www.milano.ana.it
SUMMARY:Cassano D'Adda - Assemblea di Gruppo
DESCRIPTION:
URL:https://www.milano.ana.it/event/cassano-dadda-assemblea-di-gruppo-4/
CATEGORIES:Eventi dei Gruppi
END:VEVENT
BEGIN:VEVENT
DTSTART;TZID=Europe/Paris:20260213T210000
DTEND;TZID=Europe/Paris:20260213T230000
DTSTAMP:20260419T162732
CREATED:20260109T171529Z
LAST-MODIFIED:20260109T171529Z
UID:8394-1771016400-1771023600@www.milano.ana.it
SUMMARY:Lentate sul Seveso - Assemblea di Gruppo
DESCRIPTION:
URL:https://www.milano.ana.it/event/lentate-sul-seveso-assemblea-di-gruppo-5/
CATEGORIES:Eventi dei Gruppi
END:VEVENT
BEGIN:VEVENT
DTSTART;TZID=Europe/Paris:20260215T090000
DTEND;TZID=Europe/Paris:20260215T120000
DTSTAMP:20260419T162732
CREATED:20251127T172459Z
LAST-MODIFIED:20251127T172459Z
UID:8321-1771146000-1771156800@www.milano.ana.it
SUMMARY:Limito-Pioltello-Segrate
DESCRIPTION:
URL:https://www.milano.ana.it/event/limito-pioltello-segrate/
CATEGORIES:Eventi dei Gruppi
END:VEVENT
BEGIN:VEVENT
DTSTART;TZID=Europe/Paris:20260215T093000
DTEND;TZID=Europe/Paris:20260215T120000
DTSTAMP:20260419T162732
CREATED:20251127T174318Z
LAST-MODIFIED:20251127T174318Z
UID:8347-1771147800-1771156800@www.milano.ana.it
SUMMARY:Missaglia - Assemblea di Gruppo
DESCRIPTION:
URL:https://www.milano.ana.it/event/missaglia-assemblea-di-gruppo-6/
CATEGORIES:Eventi dei Gruppi
END:VEVENT
BEGIN:VEVENT
DTSTART;TZID=Europe/Paris:20260215T093000
DTEND;TZID=Europe/Paris:20260215T120000
DTSTAMP:20260419T162732
CREATED:20260109T171425Z
LAST-MODIFIED:20260109T171425Z
UID:8392-1771147800-1771156800@www.milano.ana.it
SUMMARY:Missaglia - Assemblea di Gruppo
DESCRIPTION:
URL:https://www.milano.ana.it/event/missaglia-assemblea-di-gruppo-7/
CATEGORIES:Eventi dei Gruppi
END:VEVENT
BEGIN:VEVENT
DTSTART;TZID=Europe/Paris:20260220T210000
DTEND;TZID=Europe/Paris:20260220T233000
DTSTAMP:20260419T162732
CREATED:20251127T174152Z
LAST-MODIFIED:20260109T171322Z
UID:8343-1771621200-1771630200@www.milano.ana.it
SUMMARY:Giussano - Assemblea di Gruppo
DESCRIPTION:
URL:https://www.milano.ana.it/event/giussano-assemblea-di-gruppo-5/
CATEGORIES:Eventi dei Gruppi
END:VEVENT
BEGIN:VEVENT
DTSTART;TZID=Europe/Paris:20260222T093000
DTEND;TZID=Europe/Paris:20260222T120000
DTSTAMP:20260419T162732
CREATED:20251127T173920Z
LAST-MODIFIED:20251127T173920Z
UID:8337-1771752600-1771761600@www.milano.ana.it
SUMMARY:Agrate Brianza - Assemblea di Gruppo
DESCRIPTION:
URL:https://www.milano.ana.it/event/agrate-brianza-assemblea-di-gruppo-5/
CATEGORIES:Eventi dei Gruppi
END:VEVENT
BEGIN:VEVENT
DTSTART;TZID=Europe/Paris:20260226T210000
DTEND;TZID=Europe/Paris:20260226T230000
DTSTAMP:20260419T162732
CREATED:20260109T171203Z
LAST-MODIFIED:20260109T171203Z
UID:8390-1772139600-1772146800@www.milano.ana.it
SUMMARY:Bareggio - Assemblea di Gruppo
DESCRIPTION:
URL:https://www.milano.ana.it/event/bareggio-assemblea-di-gruppo-6/
CATEGORIES:Eventi dei Gruppi
END:VEVENT
BEGIN:VEVENT
DTSTART;TZID=Europe/Paris:20260418T153000
DTEND;TZID=Europe/Paris:20260418T210000
DTSTAMP:20260419T162732
CREATED:20260312T142237Z
LAST-MODIFIED:20260312T142237Z
UID:8473-1776526200-1776546000@www.milano.ana.it
SUMMARY:MELEGNANO - 10° anniversario del Gruppo
DESCRIPTION:
URL:https://www.milano.ana.it/event/melegnano-10-anniversario-del-gruppo/
CATEGORIES:Eventi dei Gruppi,Eventi Sezionali
END:VEVENT
BEGIN:VEVENT
DTSTART;TZID=Europe/Paris:20260426T080000
DTEND;TZID=Europe/Paris:20260426T170000
DTSTAMP:20260419T162732
CREATED:20260411T121120Z
LAST-MODIFIED:20260411T121120Z
UID:8520-1777190400-1777222800@www.milano.ana.it
SUMMARY:Lacchiarella: corsa podistica "Lacchiarun"
DESCRIPTION:
URL:https://www.milano.ana.it/event/lacchiarella-corsa-podistica-lacchiarun/
CATEGORIES:Eventi dei Gruppi
END:VEVENT
END:VCALENDAR