BEGIN:VCALENDAR
VERSION:2.0
PRODID:-//Associazione Nazionale Alpini - Sezione di Milano - ECPv6.10.2//NONSGML v1.0//EN
CALSCALE:GREGORIAN
METHOD:PUBLISH
X-ORIGINAL-URL:https://www.milano.ana.it
X-WR-CALDESC:Eventi per Associazione Nazionale Alpini - Sezione di Milano
REFRESH-INTERVAL;VALUE=DURATION:PT1H
X-Robots-Tag:noindex
X-PUBLISHED-TTL:PT1H
BEGIN:VTIMEZONE
TZID:Europe/Paris
BEGIN:DAYLIGHT
TZOFFSETFROM:+0100
TZOFFSETTO:+0200
TZNAME:CEST
DTSTART:20230326T010000
END:DAYLIGHT
BEGIN:STANDARD
TZOFFSETFROM:+0200
TZOFFSETTO:+0100
TZNAME:CET
DTSTART:20231029T010000
END:STANDARD
BEGIN:DAYLIGHT
TZOFFSETFROM:+0100
TZOFFSETTO:+0200
TZNAME:CEST
DTSTART:20240331T010000
END:DAYLIGHT
BEGIN:STANDARD
TZOFFSETFROM:+0200
TZOFFSETTO:+0100
TZNAME:CET
DTSTART:20241027T010000
END:STANDARD
END:VTIMEZONE
BEGIN:VEVENT
DTSTART;TZID=Europe/Paris:20230129T090000
DTEND;TZID=Europe/Paris:20230129T120000
DTSTAMP:20260422T170320
CREATED:20221125T160853Z
LAST-MODIFIED:20221125T160853Z
UID:6257-1674982800-1674993600@www.milano.ana.it
SUMMARY:Limito-Pioltello-Segrate - Assemblea di Gruppo
DESCRIPTION:
URL:https://www.milano.ana.it/event/limito-pioltello-segrate-assemblea-di-gruppo-2/
CATEGORIES:Eventi dei Gruppi
END:VEVENT
BEGIN:VEVENT
DTSTART;TZID=Europe/Paris:20230129T090000
DTEND;TZID=Europe/Paris:20230129T120000
DTSTAMP:20260422T170320
CREATED:20221227T083847Z
LAST-MODIFIED:20221227T083847Z
UID:6330-1674982800-1674993600@www.milano.ana.it
SUMMARY:Melzo - Assemblea di Gruppo
DESCRIPTION:
URL:https://www.milano.ana.it/event/melzo-assemblea-di-gruppo-3/
CATEGORIES:Eventi dei Gruppi
END:VEVENT
BEGIN:VEVENT
DTSTART;TZID=Europe/Paris:20230129T100000
DTEND;TZID=Europe/Paris:20230129T120000
DTSTAMP:20260422T170320
CREATED:20221120T104620Z
LAST-MODIFIED:20221120T104620Z
UID:6221-1674986400-1674993600@www.milano.ana.it
SUMMARY:Pessano con Bornago - Assemblea di Gruppo
DESCRIPTION:
URL:https://www.milano.ana.it/event/pessano-con-bornago-assemblea-di-gruppo-3/
CATEGORIES:Eventi dei Gruppi
END:VEVENT
BEGIN:VEVENT
DTSTART;TZID=Europe/Paris:20230131T210000
DTEND;TZID=Europe/Paris:20230131T230000
DTSTAMP:20260422T170320
CREATED:20221124T161131Z
LAST-MODIFIED:20230116T152622Z
UID:6245-1675198800-1675206000@www.milano.ana.it
SUMMARY:Arese - Assemblea di Gruppo
DESCRIPTION:
URL:https://www.milano.ana.it/event/arese-assemblea-di-gruppo-3/
CATEGORIES:Eventi dei Gruppi
END:VEVENT
BEGIN:VEVENT
DTSTART;TZID=Europe/Paris:20230202T210000
DTEND;TZID=Europe/Paris:20230202T230000
DTSTAMP:20260422T170320
CREATED:20230119T163021Z
LAST-MODIFIED:20230119T163021Z
UID:6418-1675371600-1675378800@www.milano.ana.it
SUMMARY:Milano Centro - Assemblea di Gruppo
DESCRIPTION:
URL:https://www.milano.ana.it/event/milano-centro-assemblea-di-gruppo-2/
CATEGORIES:Eventi dei Gruppi
END:VEVENT
BEGIN:VEVENT
DTSTART;TZID=Europe/Paris:20230204T140000
DTEND;TZID=Europe/Paris:20230204T180000
DTSTAMP:20260422T170320
CREATED:20221120T104759Z
LAST-MODIFIED:20221120T104759Z
UID:6223-1675519200-1675533600@www.milano.ana.it
SUMMARY:Coro ANA Milano - Assemblea di Gruppo
DESCRIPTION:
URL:https://www.milano.ana.it/event/coro-ana-milano-assemblea-di-gruppo-2/
LOCATION:Sede sezione\, Via Vincenzo Monti\, 36\, Milano\, 20123\, Italia
CATEGORIES:Eventi dei Gruppi
END:VEVENT
BEGIN:VEVENT
DTSTART;TZID=Europe/Paris:20230205T090000
DTEND;TZID=Europe/Paris:20230205T120000
DTSTAMP:20260422T170320
CREATED:20221116T140431Z
LAST-MODIFIED:20221116T140431Z
UID:6215-1675587600-1675598400@www.milano.ana.it
SUMMARY:Agrate Brianza - Assemblea di Gruppo
DESCRIPTION:
URL:https://www.milano.ana.it/event/agrate-brianza-assemblea-di-gruppo-3/
CATEGORIES:Eventi dei Gruppi
END:VEVENT
BEGIN:VEVENT
DTSTART;TZID=Europe/Paris:20230205T090000
DTEND;TZID=Europe/Paris:20230205T120000
DTSTAMP:20260422T170320
CREATED:20221121T154504Z
LAST-MODIFIED:20221121T154504Z
UID:6241-1675587600-1675598400@www.milano.ana.it
SUMMARY:Limbiate - Assemblea di Gruppo
DESCRIPTION:
URL:https://www.milano.ana.it/event/limbiate-assemblea-di-gruppo-3/
CATEGORIES:Eventi dei Gruppi
END:VEVENT
BEGIN:VEVENT
DTSTART;TZID=Europe/Paris:20230205T090000
DTEND;TZID=Europe/Paris:20230205T120000
DTSTAMP:20260422T170320
CREATED:20221129T195646Z
LAST-MODIFIED:20221129T195646Z
UID:6272-1675587600-1675598400@www.milano.ana.it
SUMMARY:Brugherio - Assemblea di Gruppo
DESCRIPTION:
URL:https://www.milano.ana.it/event/brugherio-assemblea-di-gruppo-3/
CATEGORIES:Eventi dei Gruppi
END:VEVENT
BEGIN:VEVENT
DTSTART;TZID=Europe/Paris:20230218T150000
DTEND;TZID=Europe/Paris:20230218T180000
DTSTAMP:20260422T170320
CREATED:20221227T082643Z
LAST-MODIFIED:20221227T082643Z
UID:6315-1676732400-1676743200@www.milano.ana.it
SUMMARY:Bollate - Assemblea di Gruppo
DESCRIPTION:
URL:https://www.milano.ana.it/event/bollate-assemblea-di-gruppo-3/
CATEGORIES:Eventi dei Gruppi
END:VEVENT
BEGIN:VEVENT
DTSTART;TZID=Europe/Paris:20230226T100000
DTEND;TZID=Europe/Paris:20230226T120000
DTSTAMP:20260422T170320
CREATED:20230119T162932Z
LAST-MODIFIED:20230119T162932Z
UID:6416-1677405600-1677412800@www.milano.ana.it
SUMMARY:Vigevano/Mortara - Assemblea di Gruppo
DESCRIPTION:
URL:https://www.milano.ana.it/event/vigevano-mortara-assemblea-di-gruppo-3/
CATEGORIES:Eventi dei Gruppi
END:VEVENT
BEGIN:VEVENT
DTSTART;TZID=Europe/Paris:20230304T140000
DTEND;TZID=Europe/Paris:20230304T180000
DTSTAMP:20260422T170320
CREATED:20230209T094203Z
LAST-MODIFIED:20230209T094203Z
UID:6463-1677938400-1677952800@www.milano.ana.it
SUMMARY:Assemblea Coro ANA Milano
DESCRIPTION:
URL:https://www.milano.ana.it/event/assemblea-coro-ana-milano/
CATEGORIES:Eventi dei Gruppi
END:VEVENT
BEGIN:VEVENT
DTSTART;TZID=Europe/Paris:20230611T080000
DTEND;TZID=Europe/Paris:20230611T170000
DTSTAMP:20260422T170320
CREATED:20230116T160931Z
LAST-MODIFIED:20230116T160931Z
UID:6395-1686470400-1686502800@www.milano.ana.it
SUMMARY:Cesano Maderno - Stracada con gli Alpini
DESCRIPTION:
URL:https://www.milano.ana.it/event/cesano-maderno-stracada-con-gli-alpini-3/
CATEGORIES:Eventi dei Gruppi
END:VEVENT
BEGIN:VEVENT
DTSTART;VALUE=DATE:20231008
DTEND;VALUE=DATE:20231009
DTSTAMP:20260422T170320
CREATED:20231004T160643Z
LAST-MODIFIED:20231004T160643Z
UID:6945-1696723200-1696809599@www.milano.ana.it
SUMMARY:Cesano Maderno - 60° del Gruppo
DESCRIPTION:
URL:https://www.milano.ana.it/event/cesano-maderno-60-del-gruppo/
CATEGORIES:Eventi dei Gruppi
END:VEVENT
BEGIN:VEVENT
DTSTART;VALUE=DATE:20231029
DTEND;VALUE=DATE:20231030
DTSTAMP:20260422T170320
CREATED:20231004T160444Z
LAST-MODIFIED:20231004T160444Z
UID:6943-1698537600-1698623999@www.milano.ana.it
SUMMARY:Anniversario Gruppo Gessate
DESCRIPTION:
URL:https://www.milano.ana.it/event/anniversario-gruppo-gessate/
CATEGORIES:Eventi dei Gruppi
END:VEVENT
BEGIN:VEVENT
DTSTART;TZID=Europe/Paris:20231110T210000
DTEND;TZID=Europe/Paris:20231110T230000
DTSTAMP:20260422T170320
CREATED:20231130T161324Z
LAST-MODIFIED:20231130T161324Z
UID:7061-1699650000-1699657200@www.milano.ana.it
SUMMARY:Abbiategrasso - Assemblea di Gruppo
DESCRIPTION:
URL:https://www.milano.ana.it/event/abbiategrasso-assemblea-di-gruppo-4/
CATEGORIES:Eventi dei Gruppi
END:VEVENT
BEGIN:VEVENT
DTSTART;TZID=Europe/Paris:20231111T210000
DTEND;TZID=Europe/Paris:20231111T230000
DTSTAMP:20260422T170320
CREATED:20231130T162011Z
LAST-MODIFIED:20231130T162011Z
UID:7073-1699736400-1699743600@www.milano.ana.it
SUMMARY:Castano Primo - Assemblea di Gruppo
DESCRIPTION:
URL:https://www.milano.ana.it/event/castano-primo-assemblea-di-gruppo-4/
CATEGORIES:Eventi dei Gruppi
END:VEVENT
BEGIN:VEVENT
DTSTART;TZID=Europe/Paris:20231112T100000
DTEND;TZID=Europe/Paris:20231112T120000
DTSTAMP:20260422T170320
CREATED:20231130T162606Z
LAST-MODIFIED:20231130T162606Z
UID:7085-1699783200-1699790400@www.milano.ana.it
SUMMARY:Corsico - Assemblea di Gruppo
DESCRIPTION:
URL:https://www.milano.ana.it/event/corsico-assemblea-di-gruppo-4/
CATEGORIES:Eventi dei Gruppi
END:VEVENT
BEGIN:VEVENT
DTSTART;TZID=Europe/Paris:20231125T150000
DTEND;TZID=Europe/Paris:20231125T170000
DTSTAMP:20260422T170320
CREATED:20231004T155624Z
LAST-MODIFIED:20231004T155624Z
UID:6935-1700924400-1700931600@www.milano.ana.it
SUMMARY:Magenta - Assemblea ordinaria del Gruppo
DESCRIPTION:
URL:https://www.milano.ana.it/event/magenta-assemblea-ordinaria-del-gruppo-2/
CATEGORIES:Eventi dei Gruppi
END:VEVENT
BEGIN:VEVENT
DTSTART;TZID=Europe/Paris:20231126T100000
DTEND;TZID=Europe/Paris:20231126T120000
DTSTAMP:20260422T170320
CREATED:20231130T162411Z
LAST-MODIFIED:20231130T162411Z
UID:7081-1700992800-1701000000@www.milano.ana.it
SUMMARY:Cinisello Balsamo - Assemblea di Gruppo
DESCRIPTION:
URL:https://www.milano.ana.it/event/cinisello-balsamo-assemblea-di-gruppo-3/
CATEGORIES:Eventi dei Gruppi
END:VEVENT
BEGIN:VEVENT
DTSTART;TZID=Europe/Paris:20231201T210000
DTEND;TZID=Europe/Paris:20231201T230000
DTSTAMP:20260422T170320
CREATED:20231130T163324Z
LAST-MODIFIED:20231130T163324Z
UID:7101-1701464400-1701471600@www.milano.ana.it
SUMMARY:S.Vittore Olona - Assemblea di Gruppo
DESCRIPTION:
URL:https://www.milano.ana.it/event/s-vittore-olona-assemblea-di-gruppo-2/
CATEGORIES:Eventi dei Gruppi
END:VEVENT
BEGIN:VEVENT
DTSTART;TZID=Europe/Paris:20240111T210000
DTEND;TZID=Europe/Paris:20240111T230000
DTSTAMP:20260422T170320
CREATED:20231130T162106Z
LAST-MODIFIED:20231130T162106Z
UID:7075-1705006800-1705014000@www.milano.ana.it
SUMMARY:Cavenago Brianza - Assemblea di Gruppo
DESCRIPTION:
URL:https://www.milano.ana.it/event/cavenago-brianza-assemblea-di-gruppo-2/
CATEGORIES:Eventi dei Gruppi
END:VEVENT
BEGIN:VEVENT
DTSTART;TZID=Europe/Paris:20240111T210000
DTEND;TZID=Europe/Paris:20240111T230000
DTSTAMP:20260422T170320
CREATED:20231130T162824Z
LAST-MODIFIED:20231130T162824Z
UID:7091-1705006800-1705014000@www.milano.ana.it
SUMMARY:Legnano - Assemblea di Gruppo
DESCRIPTION:
URL:https://www.milano.ana.it/event/legnano-assemblea-di-gruppo-6/
CATEGORIES:Eventi dei Gruppi
END:VEVENT
BEGIN:VEVENT
DTSTART;TZID=Europe/Paris:20240112T210000
DTEND;TZID=Europe/Paris:20240112T230000
DTSTAMP:20260422T170320
CREATED:20231130T162215Z
LAST-MODIFIED:20231130T162215Z
UID:7077-1705093200-1705100400@www.milano.ana.it
SUMMARY:Ceriano Laghetto - Assemblea di Gruppo
DESCRIPTION:
URL:https://www.milano.ana.it/event/ceriano-laghetto-assemblea-di-gruppo-4/
CATEGORIES:Eventi dei Gruppi
END:VEVENT
BEGIN:VEVENT
DTSTART;TZID=Europe/Paris:20240113T150000
DTEND;TZID=Europe/Paris:20240113T180000
DTSTAMP:20260422T170320
CREATED:20240109T195501Z
LAST-MODIFIED:20240109T195501Z
UID:7191-1705158000-1705168800@www.milano.ana.it
SUMMARY:Assemblea Gruppo Sesto S.Giovanni
DESCRIPTION:
URL:https://www.milano.ana.it/event/assemblea-gruppo-sesto-s-giovanni-2/
CATEGORIES:Eventi dei Gruppi
END:VEVENT
BEGIN:VEVENT
DTSTART;TZID=Europe/Paris:20240113T210000
DTEND;TZID=Europe/Paris:20240113T230000
DTSTAMP:20260422T170320
CREATED:20231130T163005Z
LAST-MODIFIED:20231130T163005Z
UID:7095-1705179600-1705186800@www.milano.ana.it
SUMMARY:Lodi - Assemblea di Gruppo
DESCRIPTION:
URL:https://www.milano.ana.it/event/lodi-assemblea-di-gruppo-5/
CATEGORIES:Eventi dei Gruppi
END:VEVENT
BEGIN:VEVENT
DTSTART;TZID=Europe/Paris:20240114T090000
DTEND;TZID=Europe/Paris:20240114T120000
DTSTAMP:20260422T170320
CREATED:20240109T174741Z
LAST-MODIFIED:20240109T174741Z
UID:7148-1705222800-1705233600@www.milano.ana.it
SUMMARY:Assemblea Gruppo Cernusco S/N
DESCRIPTION:
URL:https://www.milano.ana.it/event/assemblea-gruppo-cernusco-s-n/
CATEGORIES:Eventi dei Gruppi
END:VEVENT
BEGIN:VEVENT
DTSTART;TZID=Europe/Paris:20240114T090000
DTEND;TZID=Europe/Paris:20240114T120000
DTSTAMP:20260422T170320
CREATED:20240109T194843Z
LAST-MODIFIED:20240109T194843Z
UID:7177-1705222800-1705233600@www.milano.ana.it
SUMMARY:Assemblea Gruppo Melegnano-Med.-V.P.
DESCRIPTION:
URL:https://www.milano.ana.it/event/assemblea-gruppo-melegnano-med-v-p/
CATEGORIES:Eventi dei Gruppi
END:VEVENT
BEGIN:VEVENT
DTSTART;TZID=Europe/Paris:20240118T210000
DTEND;TZID=Europe/Paris:20240118T230000
DTSTAMP:20260422T170320
CREATED:20240109T195220Z
LAST-MODIFIED:20240109T195220Z
UID:7185-1705611600-1705618800@www.milano.ana.it
SUMMARY:Assemblea Gruppo Paderno Dugnano
DESCRIPTION:
URL:https://www.milano.ana.it/event/assemblea-gruppo-paderno-dugnano-2/
CATEGORIES:Eventi dei Gruppi
END:VEVENT
BEGIN:VEVENT
DTSTART;TZID=Europe/Paris:20240119T203000
DTEND;TZID=Europe/Paris:20240119T230000
DTSTAMP:20260422T170320
CREATED:20231130T162519Z
LAST-MODIFIED:20231130T162519Z
UID:7083-1705696200-1705705200@www.milano.ana.it
SUMMARY:Cormano - Assemblea di Gruppo
DESCRIPTION:
URL:https://www.milano.ana.it/event/cormano-assemblea-di-gruppo-4/
CATEGORIES:Eventi dei Gruppi
END:VEVENT
END:VCALENDAR