BEGIN:VCALENDAR
VERSION:2.0
PRODID:-//Associazione Nazionale Alpini - Sezione di Milano - ECPv6.10.2//NONSGML v1.0//EN
CALSCALE:GREGORIAN
METHOD:PUBLISH
X-ORIGINAL-URL:https://www.milano.ana.it
X-WR-CALDESC:Eventi per Associazione Nazionale Alpini - Sezione di Milano
REFRESH-INTERVAL;VALUE=DURATION:PT1H
X-Robots-Tag:noindex
X-PUBLISHED-TTL:PT1H
BEGIN:VTIMEZONE
TZID:Europe/Paris
BEGIN:DAYLIGHT
TZOFFSETFROM:+0100
TZOFFSETTO:+0200
TZNAME:CEST
DTSTART:20230326T010000
END:DAYLIGHT
BEGIN:STANDARD
TZOFFSETFROM:+0200
TZOFFSETTO:+0100
TZNAME:CET
DTSTART:20231029T010000
END:STANDARD
END:VTIMEZONE
BEGIN:VEVENT
DTSTART;TZID=Europe/Paris:20230129T090000
DTEND;TZID=Europe/Paris:20230129T120000
DTSTAMP:20260420T145436
CREATED:20221125T160853Z
LAST-MODIFIED:20221125T160853Z
UID:6257-1674982800-1674993600@www.milano.ana.it
SUMMARY:Limito-Pioltello-Segrate - Assemblea di Gruppo
DESCRIPTION:
URL:https://www.milano.ana.it/event/limito-pioltello-segrate-assemblea-di-gruppo-2/
CATEGORIES:Eventi dei Gruppi
END:VEVENT
BEGIN:VEVENT
DTSTART;TZID=Europe/Paris:20230129T090000
DTEND;TZID=Europe/Paris:20230129T120000
DTSTAMP:20260420T145436
CREATED:20221227T083847Z
LAST-MODIFIED:20221227T083847Z
UID:6330-1674982800-1674993600@www.milano.ana.it
SUMMARY:Melzo - Assemblea di Gruppo
DESCRIPTION:
URL:https://www.milano.ana.it/event/melzo-assemblea-di-gruppo-3/
CATEGORIES:Eventi dei Gruppi
END:VEVENT
BEGIN:VEVENT
DTSTART;TZID=Europe/Paris:20230129T100000
DTEND;TZID=Europe/Paris:20230129T120000
DTSTAMP:20260420T145436
CREATED:20221120T104620Z
LAST-MODIFIED:20221120T104620Z
UID:6221-1674986400-1674993600@www.milano.ana.it
SUMMARY:Pessano con Bornago - Assemblea di Gruppo
DESCRIPTION:
URL:https://www.milano.ana.it/event/pessano-con-bornago-assemblea-di-gruppo-3/
CATEGORIES:Eventi dei Gruppi
END:VEVENT
END:VCALENDAR