BEGIN:VCALENDAR
VERSION:2.0
PRODID:-//Associazione Nazionale Alpini - Sezione di Milano - ECPv6.10.2//NONSGML v1.0//EN
CALSCALE:GREGORIAN
METHOD:PUBLISH
X-WR-CALNAME:Associazione Nazionale Alpini - Sezione di Milano
X-ORIGINAL-URL:https://www.milano.ana.it
X-WR-CALDESC:Eventi per Associazione Nazionale Alpini - Sezione di Milano
REFRESH-INTERVAL;VALUE=DURATION:PT1H
X-Robots-Tag:noindex
X-PUBLISHED-TTL:PT1H
BEGIN:VTIMEZONE
TZID:Europe/Paris
BEGIN:DAYLIGHT
TZOFFSETFROM:+0100
TZOFFSETTO:+0200
TZNAME:CEST
DTSTART:20240331T010000
END:DAYLIGHT
BEGIN:STANDARD
TZOFFSETFROM:+0200
TZOFFSETTO:+0100
TZNAME:CET
DTSTART:20241027T010000
END:STANDARD
END:VTIMEZONE
BEGIN:VEVENT
DTSTART;TZID=Europe/Paris:20240113T150000
DTEND;TZID=Europe/Paris:20240113T180000
DTSTAMP:20260425T031745
CREATED:20240109T195501Z
LAST-MODIFIED:20240109T195501Z
UID:7191-1705158000-1705168800@www.milano.ana.it
SUMMARY:Assemblea Gruppo Sesto S.Giovanni
DESCRIPTION:
URL:https://www.milano.ana.it/event/assemblea-gruppo-sesto-s-giovanni-2/
CATEGORIES:Eventi dei Gruppi
END:VEVENT
BEGIN:VEVENT
DTSTART;TZID=Europe/Paris:20240113T210000
DTEND;TZID=Europe/Paris:20240113T230000
DTSTAMP:20260425T031745
CREATED:20231130T163005Z
LAST-MODIFIED:20231130T163005Z
UID:7095-1705179600-1705186800@www.milano.ana.it
SUMMARY:Lodi - Assemblea di Gruppo
DESCRIPTION:
URL:https://www.milano.ana.it/event/lodi-assemblea-di-gruppo-5/
CATEGORIES:Eventi dei Gruppi
END:VEVENT
END:VCALENDAR