BEGIN:VCALENDAR
VERSION:2.0
PRODID:-//Associazione Nazionale Alpini - Sezione di Milano - ECPv6.10.2//NONSGML v1.0//EN
CALSCALE:GREGORIAN
METHOD:PUBLISH
X-WR-CALNAME:Associazione Nazionale Alpini - Sezione di Milano
X-ORIGINAL-URL:https://www.milano.ana.it
X-WR-CALDESC:Eventi per Associazione Nazionale Alpini - Sezione di Milano
REFRESH-INTERVAL;VALUE=DURATION:PT1H
X-Robots-Tag:noindex
X-PUBLISHED-TTL:PT1H
BEGIN:VTIMEZONE
TZID:Europe/Paris
BEGIN:DAYLIGHT
TZOFFSETFROM:+0100
TZOFFSETTO:+0200
TZNAME:CEST
DTSTART:20250330T010000
END:DAYLIGHT
BEGIN:STANDARD
TZOFFSETFROM:+0200
TZOFFSETTO:+0100
TZNAME:CET
DTSTART:20251026T010000
END:STANDARD
END:VTIMEZONE
BEGIN:VEVENT
DTSTART;TZID=Europe/Paris:20250124T210000
DTEND;TZID=Europe/Paris:20250124T230000
DTSTAMP:20260424T185530
CREATED:20241017T155647Z
LAST-MODIFIED:20241017T155647Z
UID:7748-1737752400-1737759600@www.milano.ana.it
SUMMARY:Arconate - Assemblea ordinaria del Gruppo
DESCRIPTION:
URL:https://www.milano.ana.it/event/arconate-assemblea-ordinaria-del-gruppo/
CATEGORIES:Eventi dei Gruppi
END:VEVENT
BEGIN:VEVENT
DTSTART;TZID=Europe/Paris:20250124T210000
DTEND;TZID=Europe/Paris:20250124T230000
DTSTAMP:20260424T185530
CREATED:20250115T162231Z
LAST-MODIFIED:20250115T162231Z
UID:7901-1737752400-1737759600@www.milano.ana.it
SUMMARY:Giussano - Assemblea di Gruppo
DESCRIPTION:
URL:https://www.milano.ana.it/event/giussano-assemblea-di-gruppo-4/
CATEGORIES:Eventi dei Gruppi
END:VEVENT
BEGIN:VEVENT
DTSTART;TZID=Europe/Paris:20250124T210000
DTEND;TZID=Europe/Paris:20250124T230000
DTSTAMP:20260424T185530
CREATED:20250115T162332Z
LAST-MODIFIED:20250115T162332Z
UID:7903-1737752400-1737759600@www.milano.ana.it
SUMMARY:Gessate - Assemblea di Gruppo
DESCRIPTION:
URL:https://www.milano.ana.it/event/gessate-assemblea-di-gruppo-5/
CATEGORIES:Eventi dei Gruppi
END:VEVENT
END:VCALENDAR