BEGIN:VCALENDAR
VERSION:2.0
PRODID:-//Associazione Nazionale Alpini - Sezione di Milano - ECPv6.10.2//NONSGML v1.0//EN
CALSCALE:GREGORIAN
METHOD:PUBLISH
X-ORIGINAL-URL:https://www.milano.ana.it
X-WR-CALDESC:Eventi per Associazione Nazionale Alpini - Sezione di Milano
REFRESH-INTERVAL;VALUE=DURATION:PT1H
X-Robots-Tag:noindex
X-PUBLISHED-TTL:PT1H
BEGIN:VTIMEZONE
TZID:Europe/Paris
BEGIN:DAYLIGHT
TZOFFSETFROM:+0100
TZOFFSETTO:+0200
TZNAME:CEST
DTSTART:20260329T010000
END:DAYLIGHT
BEGIN:STANDARD
TZOFFSETFROM:+0200
TZOFFSETTO:+0100
TZNAME:CET
DTSTART:20261025T010000
END:STANDARD
END:VTIMEZONE
BEGIN:VEVENT
DTSTART;TZID=Europe/Paris:20260123T210000
DTEND;TZID=Europe/Paris:20260123T230000
DTSTAMP:20260421T123245
CREATED:20260109T172054Z
LAST-MODIFIED:20260109T172054Z
UID:8402-1769202000-1769209200@www.milano.ana.it
SUMMARY:Cormano - Assemblea di Gruppo
DESCRIPTION:
URL:https://www.milano.ana.it/event/cormano-assemblea-di-gruppo-6/
CATEGORIES:Eventi dei Gruppi
END:VEVENT
BEGIN:VEVENT
DTSTART;TZID=Europe/Paris:20260123T210000
DTEND;TZID=Europe/Paris:20260123T233000
DTSTAMP:20260421T123245
CREATED:20251127T171957Z
LAST-MODIFIED:20251127T171957Z
UID:8311-1769202000-1769211000@www.milano.ana.it
SUMMARY:Gessate - Assemblea di Gruppo
DESCRIPTION:
URL:https://www.milano.ana.it/event/gessate-assemblea-di-gruppo-6/
CATEGORIES:Eventi dei Gruppi
END:VEVENT
END:VCALENDAR