BEGIN:VCALENDAR
VERSION:2.0
PRODID:-//Associazione Nazionale Alpini - Sezione di Milano - ECPv6.10.2//NONSGML v1.0//EN
CALSCALE:GREGORIAN
METHOD:PUBLISH
X-ORIGINAL-URL:https://www.milano.ana.it
X-WR-CALDESC:Eventi per Associazione Nazionale Alpini - Sezione di Milano
REFRESH-INTERVAL;VALUE=DURATION:PT1H
X-Robots-Tag:noindex
X-PUBLISHED-TTL:PT1H
BEGIN:VTIMEZONE
TZID:Europe/Paris
BEGIN:DAYLIGHT
TZOFFSETFROM:+0100
TZOFFSETTO:+0200
TZNAME:CEST
DTSTART:20260329T010000
END:DAYLIGHT
BEGIN:STANDARD
TZOFFSETFROM:+0200
TZOFFSETTO:+0100
TZNAME:CET
DTSTART:20261025T010000
END:STANDARD
END:VTIMEZONE
BEGIN:VEVENT
DTSTART;TZID=Europe/Paris:20260125T090000
DTEND;TZID=Europe/Paris:20260125T120000
DTSTAMP:20260422T002601
CREATED:20251127T172635Z
LAST-MODIFIED:20251127T172635Z
UID:8325-1769331600-1769342400@www.milano.ana.it
SUMMARY:Melzo - Assemblea di Gruppo
DESCRIPTION:
URL:https://www.milano.ana.it/event/melzo-assemblea-di-gruppo-4/
CATEGORIES:Eventi dei Gruppi
END:VEVENT
BEGIN:VEVENT
DTSTART;TZID=Europe/Paris:20260125T093000
DTEND;TZID=Europe/Paris:20260125T120000
DTSTAMP:20260422T002601
CREATED:20251127T170933Z
LAST-MODIFIED:20251127T170933Z
UID:8289-1769333400-1769342400@www.milano.ana.it
SUMMARY:Bresso - Assemblea di Gruppo
DESCRIPTION:
URL:https://www.milano.ana.it/event/bresso-assemblea-di-gruppo-5/
CATEGORIES:Eventi dei Gruppi
END:VEVENT
BEGIN:VEVENT
DTSTART;TZID=Europe/Paris:20260125T093000
DTEND;TZID=Europe/Paris:20260125T120000
DTSTAMP:20260422T002601
CREATED:20251127T174735Z
LAST-MODIFIED:20251127T174735Z
UID:8353-1769333400-1769342400@www.milano.ana.it
SUMMARY:Vigevano-Mortara - Assemblea di Gruppo
DESCRIPTION:
URL:https://www.milano.ana.it/event/vigevano-mortara-assemblea-di-gruppo-5/
CATEGORIES:Eventi dei Gruppi
END:VEVENT
BEGIN:VEVENT
DTSTART;TZID=Europe/Paris:20260125T100000
DTEND;TZID=Europe/Paris:20260125T120000
DTSTAMP:20260422T002601
CREATED:20251127T172928Z
LAST-MODIFIED:20251127T172928Z
UID:8331-1769335200-1769342400@www.milano.ana.it
SUMMARY:Pessano con Bornago - Assemblea di Gruppo
DESCRIPTION:
URL:https://www.milano.ana.it/event/pessano-con-bornago-assemblea-di-gruppo-5/
CATEGORIES:Eventi dei Gruppi
END:VEVENT
BEGIN:VEVENT
DTSTART;TZID=Europe/Paris:20260125T100000
DTEND;TZID=Europe/Paris:20260125T120000
DTSTAMP:20260422T002601
CREATED:20260109T171736Z
LAST-MODIFIED:20260109T171736Z
UID:8398-1769335200-1769342400@www.milano.ana.it
SUMMARY:Rho - Assemblea di Gruppo
DESCRIPTION:
URL:https://www.milano.ana.it/event/rho-assemblea-di-gruppo-7/
CATEGORIES:Eventi dei Gruppi
END:VEVENT
BEGIN:VEVENT
DTSTART;TZID=Europe/Paris:20260125T100000
DTEND;TZID=Europe/Paris:20260125T120000
DTSTAMP:20260422T002601
CREATED:20260109T171836Z
LAST-MODIFIED:20260109T171836Z
UID:8400-1769335200-1769342400@www.milano.ana.it
SUMMARY:Pessano con Bornago - Assemblea di Gruppo
DESCRIPTION:
URL:https://www.milano.ana.it/event/pessano-con-bornago-assemblea-di-gruppo-6/
CATEGORIES:Eventi dei Gruppi
END:VEVENT
END:VCALENDAR