BEGIN:VCALENDAR
VERSION:2.0
PRODID:-//Associazione Nazionale Alpini - Sezione di Milano - ECPv6.10.2//NONSGML v1.0//EN
CALSCALE:GREGORIAN
METHOD:PUBLISH
X-ORIGINAL-URL:https://www.milano.ana.it
X-WR-CALDESC:Eventi per Associazione Nazionale Alpini - Sezione di Milano
REFRESH-INTERVAL;VALUE=DURATION:PT1H
X-Robots-Tag:noindex
X-PUBLISHED-TTL:PT1H
BEGIN:VTIMEZONE
TZID:Europe/Paris
BEGIN:DAYLIGHT
TZOFFSETFROM:+0100
TZOFFSETTO:+0200
TZNAME:CEST
DTSTART:20240331T010000
END:DAYLIGHT
BEGIN:STANDARD
TZOFFSETFROM:+0200
TZOFFSETTO:+0100
TZNAME:CET
DTSTART:20241027T010000
END:STANDARD
END:VTIMEZONE
BEGIN:VEVENT
DTSTART;VALUE=DATE:20240831
DTEND;VALUE=DATE:20240902
DTSTAMP:20260421T222409
CREATED:20240409T153324Z
LAST-MODIFIED:20240409T153324Z
UID:7520-1725062400-1725235199@www.milano.ana.it
SUMMARY:Pellegrinaggio Mote Pasubio
DESCRIPTION:
URL:https://www.milano.ana.it/event/pellegrinaggio-mote-pasubio/
CATEGORIES:Eventi Nazionali
END:VEVENT
BEGIN:VEVENT
DTSTART;VALUE=DATE:20240920
DTEND;VALUE=DATE:20240923
DTSTAMP:20260421T222409
CREATED:20240619T094732Z
LAST-MODIFIED:20240619T094732Z
UID:7618-1726790400-1727049599@www.milano.ana.it
SUMMARY:Omegna: Raduno 1° Raggr. e centenario della Sezione
DESCRIPTION:
URL:https://www.milano.ana.it/event/omegna-raduno-1-raggr-e-centenario-della-sezione/
CATEGORIES:Eventi Nazionali
END:VEVENT
BEGIN:VEVENT
DTSTART;VALUE=DATE:20240923
DTEND;VALUE=DATE:20240924
DTSTAMP:20260421T222409
CREATED:20240619T095429Z
LAST-MODIFIED:20240619T095429Z
UID:7626-1727049600-1727135999@www.milano.ana.it
SUMMARY:San Maurizio\, Patrono degli Alpini
DESCRIPTION:
URL:https://www.milano.ana.it/event/san-maurizio-patrono-degli-alpini-3/
CATEGORIES:Eventi Nazionali
END:VEVENT
BEGIN:VEVENT
DTSTART;VALUE=DATE:20240928
DTEND;VALUE=DATE:20240930
DTSTAMP:20260421T222409
CREATED:20240619T095608Z
LAST-MODIFIED:20240619T095608Z
UID:7628-1727481600-1727654399@www.milano.ana.it
SUMMARY:Loreto (AN): Raduno 4° Raggruppamento
DESCRIPTION:
URL:https://www.milano.ana.it/event/loreto-an-raduno-4-raggruppamento/
CATEGORIES:Eventi Nazionali
END:VEVENT
END:VCALENDAR