BEGIN:VCALENDAR
VERSION:2.0
PRODID:-//Associazione Nazionale Alpini - Sezione di Milano - ECPv6.10.2//NONSGML v1.0//EN
CALSCALE:GREGORIAN
METHOD:PUBLISH
X-WR-CALNAME:Associazione Nazionale Alpini - Sezione di Milano
X-ORIGINAL-URL:https://www.milano.ana.it
X-WR-CALDESC:Eventi per Associazione Nazionale Alpini - Sezione di Milano
REFRESH-INTERVAL;VALUE=DURATION:PT1H
X-Robots-Tag:noindex
X-PUBLISHED-TTL:PT1H
BEGIN:VTIMEZONE
TZID:Europe/Paris
BEGIN:DAYLIGHT
TZOFFSETFROM:+0100
TZOFFSETTO:+0200
TZNAME:CEST
DTSTART:20240331T010000
END:DAYLIGHT
BEGIN:STANDARD
TZOFFSETFROM:+0200
TZOFFSETTO:+0100
TZNAME:CET
DTSTART:20241027T010000
END:STANDARD
END:VTIMEZONE
BEGIN:VEVENT
DTSTART;VALUE=DATE:20241004
DTEND;VALUE=DATE:20241007
DTSTAMP:20260421T204259
CREATED:20240619T095726Z
LAST-MODIFIED:20240619T095726Z
UID:7630-1728000000-1728259199@www.milano.ana.it
SUMMARY:Vercelli: centenario della Sezione
DESCRIPTION:
URL:https://www.milano.ana.it/event/vercelli-centenario-della-sezione/
CATEGORIES:Eventi Nazionali
END:VEVENT
BEGIN:VEVENT
DTSTART;VALUE=DATE:20241013
DTEND;VALUE=DATE:20241014
DTSTAMP:20260421T204259
CREATED:20240619T100006Z
LAST-MODIFIED:20240619T100021Z
UID:7634-1728777600-1728863999@www.milano.ana.it
SUMMARY:Mestre: festa Madonna del Don
DESCRIPTION:
URL:https://www.milano.ana.it/event/mestre-festa-madonna-del-don/
CATEGORIES:Eventi Nazionali
END:VEVENT
BEGIN:VEVENT
DTSTART;VALUE=DATE:20241019
DTEND;VALUE=DATE:20241021
DTSTAMP:20260421T204259
CREATED:20240619T100219Z
LAST-MODIFIED:20240619T100219Z
UID:7638-1729296000-1729468799@www.milano.ana.it
SUMMARY:Montichiari (BS): Raduno 2° Raggruppamento
DESCRIPTION:
URL:https://www.milano.ana.it/event/montichiari-bs-raduno-2-raggruppamento/
CATEGORIES:Eventi Nazionali
END:VEVENT
BEGIN:VEVENT
DTSTART;VALUE=DATE:20241026
DTEND;VALUE=DATE:20241028
DTSTAMP:20260421T204259
CREATED:20240619T100644Z
LAST-MODIFIED:20240619T100644Z
UID:7644-1729900800-1730073599@www.milano.ana.it
SUMMARY:Asti: CISA
DESCRIPTION:
URL:https://www.milano.ana.it/event/asti-cisa/
CATEGORIES:Eventi Nazionali
END:VEVENT
END:VCALENDAR