BEGIN:VCALENDAR
VERSION:2.0
PRODID:-//Associazione Nazionale Alpini - Sezione di Milano - ECPv6.10.2//NONSGML v1.0//EN
CALSCALE:GREGORIAN
METHOD:PUBLISH
X-ORIGINAL-URL:https://www.milano.ana.it
X-WR-CALDESC:Eventi per Associazione Nazionale Alpini - Sezione di Milano
REFRESH-INTERVAL;VALUE=DURATION:PT1H
X-Robots-Tag:noindex
X-PUBLISHED-TTL:PT1H
BEGIN:VTIMEZONE
TZID:Europe/Paris
BEGIN:DAYLIGHT
TZOFFSETFROM:+0100
TZOFFSETTO:+0200
TZNAME:CEST
DTSTART:20250330T010000
END:DAYLIGHT
BEGIN:STANDARD
TZOFFSETFROM:+0200
TZOFFSETTO:+0100
TZNAME:CET
DTSTART:20251026T010000
END:STANDARD
END:VTIMEZONE
BEGIN:VEVENT
DTSTART;VALUE=DATE:20250405
DTEND;VALUE=DATE:20250406
DTSTAMP:20260421T222411
CREATED:20250115T164605Z
LAST-MODIFIED:20250115T164605Z
UID:7942-1743811200-1743897599@www.milano.ana.it
SUMMARY:Sondrio - Giornata riconoscenza Regione Lombardia
DESCRIPTION:
URL:https://www.milano.ana.it/event/sondrio-giornata-riconoscenza-regione-lombardia/
CATEGORIES:Eventi Nazionali
END:VEVENT
BEGIN:VEVENT
DTSTART;VALUE=DATE:20250420
DTEND;VALUE=DATE:20250421
DTSTAMP:20260421T222411
CREATED:20250115T164924Z
LAST-MODIFIED:20250115T164924Z
UID:7948-1745107200-1745193599@www.milano.ana.it
SUMMARY:S. Pasqua di Risurrezione
DESCRIPTION:
URL:https://www.milano.ana.it/event/s-pasqua-di-risurrezione/
CATEGORIES:Eventi Nazionali
END:VEVENT
BEGIN:VEVENT
DTSTART;VALUE=DATE:20250425
DTEND;VALUE=DATE:20250426
DTSTAMP:20260421T222411
CREATED:20250115T165006Z
LAST-MODIFIED:20250115T165006Z
UID:7950-1745539200-1745625599@www.milano.ana.it
SUMMARY:Anniversario Liberazione
DESCRIPTION:
URL:https://www.milano.ana.it/event/anniversario-liberazione/
CATEGORIES:Eventi Nazionali
END:VEVENT
END:VCALENDAR