BEGIN:VCALENDAR
VERSION:2.0
PRODID:-//Associazione Nazionale Alpini - Sezione di Milano - ECPv6.10.2//NONSGML v1.0//EN
CALSCALE:GREGORIAN
METHOD:PUBLISH
X-WR-CALNAME:Associazione Nazionale Alpini - Sezione di Milano
X-ORIGINAL-URL:https://www.milano.ana.it
X-WR-CALDESC:Eventi per Associazione Nazionale Alpini - Sezione di Milano
REFRESH-INTERVAL;VALUE=DURATION:PT1H
X-Robots-Tag:noindex
X-PUBLISHED-TTL:PT1H
BEGIN:VTIMEZONE
TZID:Europe/Paris
BEGIN:DAYLIGHT
TZOFFSETFROM:+0100
TZOFFSETTO:+0200
TZNAME:CEST
DTSTART:20200329T010000
END:DAYLIGHT
BEGIN:STANDARD
TZOFFSETFROM:+0200
TZOFFSETTO:+0100
TZNAME:CET
DTSTART:20201025T010000
END:STANDARD
END:VTIMEZONE
BEGIN:VEVENT
DTSTART;TZID=Europe/Paris:20201102T210000
DTEND;TZID=Europe/Paris:20201102T230000
DTSTAMP:20260422T045541
CREATED:20200930T070250Z
LAST-MODIFIED:20200930T070250Z
UID:4861-1604350800-1604358000@www.milano.ana.it
SUMMARY:Riunione Consiglio sezionale
DESCRIPTION:
URL:https://www.milano.ana.it/event/riunione-consiglio-sezionale-6/
CATEGORIES:Eventi Sezionali
END:VEVENT
BEGIN:VEVENT
DTSTART;VALUE=DATE:20201104
DTEND;VALUE=DATE:20201105
DTSTAMP:20260422T045541
CREATED:20200930T070406Z
LAST-MODIFIED:20200930T070406Z
UID:4863-1604448000-1604534399@www.milano.ana.it
SUMMARY:Festa Unità nazionale e Forze Armate
DESCRIPTION:
URL:https://www.milano.ana.it/event/festa-unita-nazionale-e-forze-armate/
CATEGORIES:Eventi Sezionali
END:VEVENT
BEGIN:VEVENT
DTSTART;TZID=Europe/Paris:20201109T210000
DTEND;TZID=Europe/Paris:20201109T230000
DTSTAMP:20260422T045541
CREATED:20200930T070525Z
LAST-MODIFIED:20200930T070525Z
UID:4865-1604955600-1604962800@www.milano.ana.it
SUMMARY:Riunione Capigruppo
DESCRIPTION:
URL:https://www.milano.ana.it/event/riunione-capigruppo-3/
CATEGORIES:Eventi Sezionali
END:VEVENT
BEGIN:VEVENT
DTSTART;TZID=Europe/Paris:20201130T210000
DTEND;TZID=Europe/Paris:20201130T230000
DTSTAMP:20260422T045541
CREATED:20200930T071324Z
LAST-MODIFIED:20200930T071324Z
UID:4875-1606770000-1606777200@www.milano.ana.it
SUMMARY:Riunione Consiglio sezionale
DESCRIPTION:
URL:https://www.milano.ana.it/event/riunione-consiglio-sezionale-8/
CATEGORIES:Eventi Sezionali
END:VEVENT
END:VCALENDAR