BEGIN:VCALENDAR
VERSION:2.0
PRODID:-//Associazione Nazionale Alpini - Sezione di Milano - ECPv6.10.2//NONSGML v1.0//EN
CALSCALE:GREGORIAN
METHOD:PUBLISH
X-ORIGINAL-URL:https://www.milano.ana.it
X-WR-CALDESC:Eventi per Associazione Nazionale Alpini - Sezione di Milano
REFRESH-INTERVAL;VALUE=DURATION:PT1H
X-Robots-Tag:noindex
X-PUBLISHED-TTL:PT1H
BEGIN:VTIMEZONE
TZID:Europe/Paris
BEGIN:DAYLIGHT
TZOFFSETFROM:+0100
TZOFFSETTO:+0200
TZNAME:CEST
DTSTART:20220327T010000
END:DAYLIGHT
BEGIN:STANDARD
TZOFFSETFROM:+0200
TZOFFSETTO:+0100
TZNAME:CET
DTSTART:20221030T010000
END:STANDARD
END:VTIMEZONE
BEGIN:VEVENT
DTSTART;TZID=Europe/Paris:20220704T210000
DTEND;TZID=Europe/Paris:20220704T230000
DTSTAMP:20260423T152250
CREATED:20220705T164801Z
LAST-MODIFIED:20220705T164801Z
UID:5972-1656968400-1656975600@www.milano.ana.it
SUMMARY:Riunione CdS in sede sezionale
DESCRIPTION:
URL:https://www.milano.ana.it/event/riunione-cds-in-sede-sezionale/
CATEGORIES:Eventi Sezionali
END:VEVENT
BEGIN:VEVENT
DTSTART;VALUE=DATE:20220708
DTEND;VALUE=DATE:20220709
DTSTAMP:20260423T152250
CREATED:20220705T165946Z
LAST-MODIFIED:20220705T170051Z
UID:5978-1657238400-1657324799@www.milano.ana.it
SUMMARY:103° anniversario dell'ANA
DESCRIPTION:Alle 19 a Milano in Galleria Vittorio Emanuele momento di ricordo presso la targa posta ove l’ANA venne costituita.
URL:https://www.milano.ana.it/event/103-anniversario-dellana/
CATEGORIES:Eventi Sezionali
END:VEVENT
BEGIN:VEVENT
DTSTART;TZID=Europe/Paris:20220711T210000
DTEND;TZID=Europe/Paris:20220711T230000
DTSTAMP:20260423T152250
CREATED:20220705T164701Z
LAST-MODIFIED:20220705T164701Z
UID:5970-1657573200-1657580400@www.milano.ana.it
SUMMARY:Riunione Capigruppo in sede sezionale
DESCRIPTION:
URL:https://www.milano.ana.it/event/riunione-capigruppo-in-sede-sezionale-4/
CATEGORIES:Eventi Sezionali
END:VEVENT
BEGIN:VEVENT
DTSTART;TZID=Europe/Paris:20220714T210000
DTEND;TZID=Europe/Paris:20220714T230000
DTSTAMP:20260423T152250
CREATED:20220705T165317Z
LAST-MODIFIED:20220705T165317Z
UID:5974-1657832400-1657839600@www.milano.ana.it
SUMMARY:Riunione per nuove leve
DESCRIPTION:Riunione aperta a tutti in sede sezionale\, vedi notizia in home page\, in presenza e/o via web.
URL:https://www.milano.ana.it/event/riunione-per-nuove-leve/
CATEGORIES:Eventi Sezionali
END:VEVENT
END:VCALENDAR