BEGIN:VCALENDAR
VERSION:2.0
PRODID:-//Associazione Nazionale Alpini - Sezione di Milano - ECPv6.10.2//NONSGML v1.0//EN
CALSCALE:GREGORIAN
METHOD:PUBLISH
X-WR-CALNAME:Associazione Nazionale Alpini - Sezione di Milano
X-ORIGINAL-URL:https://www.milano.ana.it
X-WR-CALDESC:Eventi per Associazione Nazionale Alpini - Sezione di Milano
REFRESH-INTERVAL;VALUE=DURATION:PT1H
X-Robots-Tag:noindex
X-PUBLISHED-TTL:PT1H
BEGIN:VTIMEZONE
TZID:Europe/Paris
BEGIN:DAYLIGHT
TZOFFSETFROM:+0100
TZOFFSETTO:+0200
TZNAME:CEST
DTSTART:20250330T010000
END:DAYLIGHT
BEGIN:STANDARD
TZOFFSETFROM:+0200
TZOFFSETTO:+0100
TZNAME:CET
DTSTART:20251026T010000
END:STANDARD
END:VTIMEZONE
BEGIN:VEVENT
DTSTART;TZID=Europe/Paris:20250302T083000
DTEND;TZID=Europe/Paris:20250302T120000
DTSTAMP:20260421T040225
CREATED:20250115T143759Z
LAST-MODIFIED:20250115T143759Z
UID:7873-1740904200-1740916800@www.milano.ana.it
SUMMARY:Milano: Assemblea sezionale
DESCRIPTION:
URL:https://www.milano.ana.it/event/milano-assemblea-sezionale-5/
CATEGORIES:Eventi Sezionali
END:VEVENT
BEGIN:VEVENT
DTSTART;TZID=Europe/Paris:20250303T210000
DTEND;TZID=Europe/Paris:20250303T230000
DTSTAMP:20260421T040225
CREATED:20250115T164338Z
LAST-MODIFIED:20250115T164338Z
UID:7938-1741035600-1741042800@www.milano.ana.it
SUMMARY:Milano sede - Riunione CdS
DESCRIPTION:
URL:https://www.milano.ana.it/event/milano-sede-riunione-cds-3/
CATEGORIES:Eventi Sezionali
END:VEVENT
BEGIN:VEVENT
DTSTART;TZID=Europe/Paris:20250310T210000
DTEND;TZID=Europe/Paris:20250310T230000
DTSTAMP:20260421T040225
CREATED:20250115T164433Z
LAST-MODIFIED:20250115T164433Z
UID:7940-1741640400-1741647600@www.milano.ana.it
SUMMARY:Milano sede - Riunione Capigruppo
DESCRIPTION:
URL:https://www.milano.ana.it/event/milano-sede-riunione-capigruppo-6/
CATEGORIES:Eventi Sezionali
END:VEVENT
END:VCALENDAR