BEGIN:VCALENDAR
VERSION:2.0
PRODID:-//Associazione Nazionale Alpini - Sezione di Milano - ECPv6.10.2//NONSGML v1.0//EN
CALSCALE:GREGORIAN
METHOD:PUBLISH
X-WR-CALNAME:Associazione Nazionale Alpini - Sezione di Milano
X-ORIGINAL-URL:https://www.milano.ana.it
X-WR-CALDESC:Eventi per Associazione Nazionale Alpini - Sezione di Milano
REFRESH-INTERVAL;VALUE=DURATION:PT1H
X-Robots-Tag:noindex
X-PUBLISHED-TTL:PT1H
BEGIN:VTIMEZONE
TZID:Europe/Paris
BEGIN:DAYLIGHT
TZOFFSETFROM:+0100
TZOFFSETTO:+0200
TZNAME:CEST
DTSTART:20250330T010000
END:DAYLIGHT
BEGIN:STANDARD
TZOFFSETFROM:+0200
TZOFFSETTO:+0100
TZNAME:CET
DTSTART:20251026T010000
END:STANDARD
END:VTIMEZONE
BEGIN:VEVENT
DTSTART;TZID=Europe/Paris:20250901T210000
DTEND;TZID=Europe/Paris:20250901T230000
DTSTAMP:20260421T222113
CREATED:20250901T151335Z
LAST-MODIFIED:20250901T151335Z
UID:8168-1756760400-1756767600@www.milano.ana.it
SUMMARY:Milano sede: Riunione Consiglio sezionale
DESCRIPTION:
URL:https://www.milano.ana.it/event/milano-sede-riunione-consiglio-sezionale-9/
CATEGORIES:Eventi Sezionali
END:VEVENT
BEGIN:VEVENT
DTSTART;TZID=Europe/Paris:20250908T210000
DTEND;TZID=Europe/Paris:20250908T230000
DTSTAMP:20260421T222113
CREATED:20250901T153641Z
LAST-MODIFIED:20250901T153641Z
UID:8178-1757365200-1757372400@www.milano.ana.it
SUMMARY:Milano sede: riunione Capigruppo
DESCRIPTION:
URL:https://www.milano.ana.it/event/milano-sede-riunione-capigruppo-7/
CATEGORIES:Eventi Sezionali
END:VEVENT
BEGIN:VEVENT
DTSTART;VALUE=DATE:20250927
DTEND;VALUE=DATE:20250929
DTSTAMP:20260421T222113
CREATED:20250901T154029Z
LAST-MODIFIED:20250908T134051Z
UID:8184-1758931200-1759103999@www.milano.ana.it
SUMMARY:LEGNANO: Festa Alpina d'autunno
DESCRIPTION:
URL:https://www.milano.ana.it/event/milano-festa-alpina-dautunno/
CATEGORIES:Eventi Sezionali
END:VEVENT
END:VCALENDAR