BEGIN:VCALENDAR
VERSION:2.0
PRODID:-//Associazione Nazionale Alpini - Sezione di Milano - ECPv6.10.2//NONSGML v1.0//EN
CALSCALE:GREGORIAN
METHOD:PUBLISH
X-ORIGINAL-URL:https://www.milano.ana.it
X-WR-CALDESC:Eventi per Associazione Nazionale Alpini - Sezione di Milano
REFRESH-INTERVAL;VALUE=DURATION:PT1H
X-Robots-Tag:noindex
X-PUBLISHED-TTL:PT1H
BEGIN:VTIMEZONE
TZID:Europe/Paris
BEGIN:DAYLIGHT
TZOFFSETFROM:+0100
TZOFFSETTO:+0200
TZNAME:CEST
DTSTART:20250330T010000
END:DAYLIGHT
BEGIN:STANDARD
TZOFFSETFROM:+0200
TZOFFSETTO:+0100
TZNAME:CET
DTSTART:20251026T010000
END:STANDARD
END:VTIMEZONE
BEGIN:VEVENT
DTSTART;VALUE=DATE:20251005
DTEND;VALUE=DATE:20251006
DTSTAMP:20260422T000029
CREATED:20250901T154206Z
LAST-MODIFIED:20250901T154206Z
UID:8186-1759622400-1759708799@www.milano.ana.it
SUMMARY:ARESE: 25° di fondazione del Gruppo
DESCRIPTION:
URL:https://www.milano.ana.it/event/arese-25-di-fondazione-del-gruppo/
CATEGORIES:Eventi Sezionali
END:VEVENT
BEGIN:VEVENT
DTSTART;TZID=Europe/Paris:20251006T210000
DTEND;TZID=Europe/Paris:20251006T230000
DTSTAMP:20260422T000029
CREATED:20250901T154432Z
LAST-MODIFIED:20250901T154432Z
UID:8190-1759784400-1759791600@www.milano.ana.it
SUMMARY:MILANO sede: riunione Consiglio sezionale
DESCRIPTION:
URL:https://www.milano.ana.it/event/milano-sede-riunione-consiglio-sezionale-10/
CATEGORIES:Eventi Sezionali
END:VEVENT
BEGIN:VEVENT
DTSTART;VALUE=DATE:20251012
DTEND;VALUE=DATE:20251013
DTSTAMP:20260422T000029
CREATED:20250901T154315Z
LAST-MODIFIED:20250901T154315Z
UID:8188-1760227200-1760313599@www.milano.ana.it
SUMMARY:LAINATE: 50° del Gruppo
DESCRIPTION:
URL:https://www.milano.ana.it/event/lainate-50-del-gruppo/
CATEGORIES:Eventi Sezionali
END:VEVENT
BEGIN:VEVENT
DTSTART;TZID=Europe/Paris:20251013T210000
DTEND;TZID=Europe/Paris:20251013T230000
DTSTAMP:20260422T000029
CREATED:20250901T154543Z
LAST-MODIFIED:20250901T154543Z
UID:8192-1760389200-1760396400@www.milano.ana.it
SUMMARY:Riunione Capigruppo in sedi decentrate
DESCRIPTION:
URL:https://www.milano.ana.it/event/riunione-capigruppo-in-sedi-decentrate-2/
CATEGORIES:Eventi Sezionali
END:VEVENT
BEGIN:VEVENT
DTSTART;TZID=Europe/Paris:20251020T080000
DTEND;TZID=Europe/Paris:20251020T120000
DTSTAMP:20260422T000029
CREATED:20250901T154716Z
LAST-MODIFIED:20250901T154716Z
UID:8194-1760947200-1760961600@www.milano.ana.it
SUMMARY:MILANO GORLA: Commemorazione Piccoli Martiri
DESCRIPTION:
URL:https://www.milano.ana.it/event/milano-gorla-commemorazione-piccoli-martiri/
CATEGORIES:Eventi Sezionali
END:VEVENT
BEGIN:VEVENT
DTSTART;TZID=Europe/Paris:20251025T100000
DTEND;TZID=Europe/Paris:20251025T120000
DTSTAMP:20260422T000029
CREATED:20251018T202519Z
LAST-MODIFIED:20251018T202519Z
UID:8245-1761386400-1761393600@www.milano.ana.it
SUMMARY:Anniversario beatificazione Don Gnocchi e S.Messa defunti
DESCRIPTION:Nel santuario di via Capecelatro si celebra l’anniversario di don Gnocchi beato e nel corso della S.Messa verranno ricordati anche i defunti della Sezione
URL:https://www.milano.ana.it/event/anniversario-beatificazione-don-gnocchi-e-s-messa-defunti/
CATEGORIES:Eventi Sezionali
END:VEVENT
END:VCALENDAR