BEGIN:VCALENDAR
VERSION:2.0
PRODID:-//Associazione Nazionale Alpini - Sezione di Milano - ECPv6.10.2//NONSGML v1.0//EN
CALSCALE:GREGORIAN
METHOD:PUBLISH
X-WR-CALNAME:Associazione Nazionale Alpini - Sezione di Milano
X-ORIGINAL-URL:https://www.milano.ana.it
X-WR-CALDESC:Eventi per Associazione Nazionale Alpini - Sezione di Milano
REFRESH-INTERVAL;VALUE=DURATION:PT1H
X-Robots-Tag:noindex
X-PUBLISHED-TTL:PT1H
BEGIN:VTIMEZONE
TZID:Europe/Paris
BEGIN:DAYLIGHT
TZOFFSETFROM:+0100
TZOFFSETTO:+0200
TZNAME:CEST
DTSTART:20210328T010000
END:DAYLIGHT
BEGIN:STANDARD
TZOFFSETFROM:+0200
TZOFFSETTO:+0100
TZNAME:CET
DTSTART:20211031T010000
END:STANDARD
BEGIN:DAYLIGHT
TZOFFSETFROM:+0100
TZOFFSETTO:+0200
TZNAME:CEST
DTSTART:20220327T010000
END:DAYLIGHT
BEGIN:STANDARD
TZOFFSETFROM:+0200
TZOFFSETTO:+0100
TZNAME:CET
DTSTART:20221030T010000
END:STANDARD
END:VTIMEZONE
BEGIN:VEVENT
DTSTART;TZID=Europe/Paris:20210201T210000
DTEND;TZID=Europe/Paris:20210201T230000
DTSTAMP:20260422T014911
CREATED:20210110T093218Z
LAST-MODIFIED:20210110T093218Z
UID:4994-1612213200-1612220400@www.milano.ana.it
SUMMARY:Consiglio sezionale
DESCRIPTION:
URL:https://www.milano.ana.it/event/consiglio-sezionale-3/
CATEGORIES:Eventi Sezionali
END:VEVENT
BEGIN:VEVENT
DTSTART;TZID=Europe/Paris:20210208T210000
DTEND;TZID=Europe/Paris:20210208T230000
DTSTAMP:20260422T014911
CREATED:20210110T093313Z
LAST-MODIFIED:20210110T093313Z
UID:4996-1612818000-1612825200@www.milano.ana.it
SUMMARY:Riunione Capigruppo
DESCRIPTION:
URL:https://www.milano.ana.it/event/riunione-capigruppo-4/
CATEGORIES:Eventi Sezionali
END:VEVENT
BEGIN:VEVENT
DTSTART;TZID=Europe/Paris:20210307T090000
DTEND;TZID=Europe/Paris:20210307T120000
DTSTAMP:20260422T014911
CREATED:20210110T093450Z
LAST-MODIFIED:20210110T093450Z
UID:4998-1615107600-1615118400@www.milano.ana.it
SUMMARY:Assemblea sezionale
DESCRIPTION:
URL:https://www.milano.ana.it/event/assemblea-sezionale-2/
CATEGORIES:Eventi Sezionali
END:VEVENT
BEGIN:VEVENT
DTSTART;TZID=Europe/Paris:20210503T210000
DTEND;TZID=Europe/Paris:20210503T230000
DTSTAMP:20260422T014911
CREATED:20210427T095411Z
LAST-MODIFIED:20210427T095411Z
UID:5092-1620075600-1620082800@www.milano.ana.it
SUMMARY:Consiglio sezionale
DESCRIPTION:
URL:https://www.milano.ana.it/event/consiglio-sezionale-4/
CATEGORIES:Eventi Sezionali
END:VEVENT
BEGIN:VEVENT
DTSTART;TZID=Europe/Paris:20210510T210000
DTEND;TZID=Europe/Paris:20210510T220000
DTSTAMP:20260422T014911
CREATED:20210427T095508Z
LAST-MODIFIED:20210427T095508Z
UID:5094-1620680400-1620684000@www.milano.ana.it
SUMMARY:Riunione Capigruppo
DESCRIPTION:
URL:https://www.milano.ana.it/event/riunione-capigruppo-5/
CATEGORIES:Eventi Sezionali
END:VEVENT
BEGIN:VEVENT
DTSTART;TZID=Europe/Paris:20210530T090000
DTEND;TZID=Europe/Paris:20210530T120000
DTSTAMP:20260422T014911
CREATED:20210427T095751Z
LAST-MODIFIED:20210427T095751Z
UID:5096-1622365200-1622376000@www.milano.ana.it
SUMMARY:Assemblea sezionale
DESCRIPTION:Ancora da definire il luogo
URL:https://www.milano.ana.it/event/assemblea-sezionale-3/
CATEGORIES:Eventi Sezionali
END:VEVENT
BEGIN:VEVENT
DTSTART;TZID=Europe/Paris:20210607T210000
DTEND;TZID=Europe/Paris:20210607T230000
DTSTAMP:20260422T014911
CREATED:20210427T095905Z
LAST-MODIFIED:20210427T095905Z
UID:5098-1623099600-1623106800@www.milano.ana.it
SUMMARY:Riunione Consiglio sezionale
DESCRIPTION:
URL:https://www.milano.ana.it/event/riunione-consiglio-sezionale-9/
CATEGORIES:Eventi Sezionali
END:VEVENT
BEGIN:VEVENT
DTSTART;TZID=Europe/Paris:20210614T210000
DTEND;TZID=Europe/Paris:20210614T230000
DTSTAMP:20260422T014911
CREATED:20210427T100001Z
LAST-MODIFIED:20210427T100001Z
UID:5100-1623704400-1623711600@www.milano.ana.it
SUMMARY:Riunione Capigruppo
DESCRIPTION:
URL:https://www.milano.ana.it/event/riunione-capigruppo-6/
CATEGORIES:Eventi Sezionali
END:VEVENT
BEGIN:VEVENT
DTSTART;TZID=Europe/Paris:20211004T210000
DTEND;TZID=Europe/Paris:20211004T230000
DTSTAMP:20260422T014911
CREATED:20211004T155621Z
LAST-MODIFIED:20211004T155621Z
UID:5291-1633381200-1633388400@www.milano.ana.it
SUMMARY:Riunione Consiglio sezionale
DESCRIPTION:
URL:https://www.milano.ana.it/event/riunione-consiglio-sezionale-10/
CATEGORIES:Eventi Sezionali
END:VEVENT
BEGIN:VEVENT
DTSTART;TZID=Europe/Paris:20211011T210000
DTEND;TZID=Europe/Paris:20211011T230000
DTSTAMP:20260422T014911
CREATED:20211004T155819Z
LAST-MODIFIED:20211010T120231Z
UID:5294-1633986000-1633993200@www.milano.ana.it
SUMMARY:Riunione Capigruppo a Cesano Maderno
DESCRIPTION:
URL:https://www.milano.ana.it/event/riunioni-capigruppo-decentrate/
CATEGORIES:Eventi Sezionali
END:VEVENT
BEGIN:VEVENT
DTSTART;VALUE=DATE:20211022
DTEND;VALUE=DATE:20211024
DTSTAMP:20260422T014911
CREATED:20211010T121513Z
LAST-MODIFIED:20211010T121513Z
UID:5317-1634860800-1635033599@www.milano.ana.it
SUMMARY:Milano Crescenzago - 50° di fondazione e 25° nuova sede
DESCRIPTION:
URL:https://www.milano.ana.it/event/milano-crescenzago-50-di-fondazione-e-25-nuova-sede/
CATEGORIES:Eventi Sezionali
END:VEVENT
BEGIN:VEVENT
DTSTART;VALUE=DATE:20211024
DTEND;VALUE=DATE:20211025
DTSTAMP:20260422T014911
CREATED:20211010T121646Z
LAST-MODIFIED:20211010T121646Z
UID:5319-1635033600-1635119999@www.milano.ana.it
SUMMARY:Lodi - Centenario di fondazione
DESCRIPTION:
URL:https://www.milano.ana.it/event/lodi-centenario-di-fondazione/
CATEGORIES:Eventi Sezionali
END:VEVENT
BEGIN:VEVENT
DTSTART;TZID=Europe/Paris:20211030T103000
DTEND;TZID=Europe/Paris:20211030T120000
DTSTAMP:20260422T014911
CREATED:20211010T122333Z
LAST-MODIFIED:20211010T122333Z
UID:5321-1635589800-1635595200@www.milano.ana.it
SUMMARY:Milano - S.Messa per i Soci defunti
DESCRIPTION:Deposizione corona alle 10.30 al Monumento agli Alpini di via Vincenzo Monti angolo Piazza Giovanni XXIII\, cui segue alle 11 la S.Messa presso la cappella dell’Istituto Leone XIII
URL:https://www.milano.ana.it/event/milano-s-messa-per-i-soci-defunti/
CATEGORIES:Eventi Sezionali
END:VEVENT
BEGIN:VEVENT
DTSTART;TZID=Europe/Paris:20211108T210000
DTEND;TZID=Europe/Paris:20211108T230000
DTSTAMP:20260422T014911
CREATED:20211010T122725Z
LAST-MODIFIED:20211010T122725Z
UID:5327-1636405200-1636412400@www.milano.ana.it
SUMMARY:Milano Sede - Consiglio sezionale
DESCRIPTION:
URL:https://www.milano.ana.it/event/milano-sede-consiglio-sezionale/
CATEGORIES:Eventi Sezionali
END:VEVENT
BEGIN:VEVENT
DTSTART;TZID=Europe/Paris:20211115T210000
DTEND;TZID=Europe/Paris:20211115T230000
DTSTAMP:20260422T014911
CREATED:20211010T122832Z
LAST-MODIFIED:20211111T163400Z
UID:5329-1637010000-1637017200@www.milano.ana.it
SUMMARY:Cinisello Balsamo - Riunione Capigruppo
DESCRIPTION:
URL:https://www.milano.ana.it/event/cesano-maderno-riunione-capigruppo/
CATEGORIES:Eventi Sezionali
END:VEVENT
BEGIN:VEVENT
DTSTART;TZID=Europe/Paris:20211129T210000
DTEND;TZID=Europe/Paris:20211129T230000
DTSTAMP:20260422T014911
CREATED:20211030T164646Z
LAST-MODIFIED:20211030T164646Z
UID:5482-1638219600-1638226800@www.milano.ana.it
SUMMARY:Milano sede - Consiglio sezionale
DESCRIPTION:
URL:https://www.milano.ana.it/event/milano-sede-consiglio-sezionale-2/
CATEGORIES:Eventi Sezionali
END:VEVENT
BEGIN:VEVENT
DTSTART;TZID=Europe/Paris:20211213T210000
DTEND;TZID=Europe/Paris:20211213T230000
DTSTAMP:20260422T014911
CREATED:20211010T123449Z
LAST-MODIFIED:20211030T164821Z
UID:5335-1639429200-1639436400@www.milano.ana.it
SUMMARY:Cesano Maderno- Cena CDS e Capigruppo
DESCRIPTION:Da confermare se in Sede o presso il 3P a Cesano Maderno
URL:https://www.milano.ana.it/event/riunione-cds-e-capigruppo/
CATEGORIES:Eventi Sezionali
END:VEVENT
BEGIN:VEVENT
DTSTART;TZID=Europe/Paris:20211215T210000
DTEND;TZID=Europe/Paris:20211215T230000
DTSTAMP:20260422T014911
CREATED:20211010T123551Z
LAST-MODIFIED:20211010T123551Z
UID:5337-1639602000-1639609200@www.milano.ana.it
SUMMARY:Milano Sede - Scambio auguri
DESCRIPTION:
URL:https://www.milano.ana.it/event/milano-sede-scambio-auguri/
CATEGORIES:Eventi Sezionali
END:VEVENT
BEGIN:VEVENT
DTSTART;TZID=Europe/Paris:20220110T210000
DTEND;TZID=Europe/Paris:20220110T230000
DTSTAMP:20260422T014911
CREATED:20211223T122927Z
LAST-MODIFIED:20211223T122927Z
UID:5619-1641848400-1641855600@www.milano.ana.it
SUMMARY:Riunione Consiglio sezionale
DESCRIPTION:
URL:https://www.milano.ana.it/event/riunione-consiglio-sezionale-11/
CATEGORIES:Eventi Sezionali
END:VEVENT
BEGIN:VEVENT
DTSTART;TZID=Europe/Paris:20220117T210000
DTEND;TZID=Europe/Paris:20220117T230000
DTSTAMP:20260422T014911
CREATED:20211223T123137Z
LAST-MODIFIED:20211223T123137Z
UID:5623-1642453200-1642460400@www.milano.ana.it
SUMMARY:Riunioni decentrate Capigruppo
DESCRIPTION:
URL:https://www.milano.ana.it/event/riunioni-decentrate-capigruppo/
CATEGORIES:Eventi Sezionali
END:VEVENT
BEGIN:VEVENT
DTSTART;TZID=Europe/Paris:20220207T210000
DTEND;TZID=Europe/Paris:20220207T230000
DTSTAMP:20260422T014911
CREATED:20211223T123012Z
LAST-MODIFIED:20211223T123012Z
UID:5621-1644267600-1644274800@www.milano.ana.it
SUMMARY:Riunione Consiglio sezionale
DESCRIPTION:
URL:https://www.milano.ana.it/event/riunione-consiglio-sezionale-12/
CATEGORIES:Eventi Sezionali
END:VEVENT
BEGIN:VEVENT
DTSTART;TZID=Europe/Paris:20220214T210000
DTEND;TZID=Europe/Paris:20220214T230000
DTSTAMP:20260422T014911
CREATED:20211223T123323Z
LAST-MODIFIED:20211223T123513Z
UID:5625-1644872400-1644879600@www.milano.ana.it
SUMMARY:Riunioni decentrate Capigruppo
DESCRIPTION:Da confermare sedi
URL:https://www.milano.ana.it/event/riunioni-decentrate-capigruppo-2/
CATEGORIES:Eventi Sezionali
END:VEVENT
BEGIN:VEVENT
DTSTART;TZID=Europe/Paris:20220306T080000
DTEND;TZID=Europe/Paris:20220306T120000
DTSTAMP:20260422T014911
CREATED:20220126T151550Z
LAST-MODIFIED:20220126T151550Z
UID:5661-1646553600-1646568000@www.milano.ana.it
SUMMARY:Milano -Assemblea sezionale
DESCRIPTION:
URL:https://www.milano.ana.it/event/milano-assemblea-sezionale-2/
CATEGORIES:Eventi Sezionali
END:VEVENT
BEGIN:VEVENT
DTSTART;TZID=Europe/Paris:20220307T210000
DTEND;TZID=Europe/Paris:20220307T230000
DTSTAMP:20260422T014911
CREATED:20220126T152024Z
LAST-MODIFIED:20220126T152024Z
UID:5667-1646686800-1646694000@www.milano.ana.it
SUMMARY:Milano sede - Consiglio sezionale
DESCRIPTION:
URL:https://www.milano.ana.it/event/milano-sede-consiglio-sezionale-4/
CATEGORIES:Eventi Sezionali
END:VEVENT
BEGIN:VEVENT
DTSTART;TZID=Europe/Paris:20220314T210000
DTEND;TZID=Europe/Paris:20220314T230000
DTSTAMP:20260422T014911
CREATED:20220126T151739Z
LAST-MODIFIED:20220310T155136Z
UID:5665-1647291600-1647298800@www.milano.ana.it
SUMMARY:Abbiategrasso - Riunione Capigruppo
DESCRIPTION:Riunione dei Capigruppo decentrata in Abbiategrasso\, al Convento dell’Annunciata / Teatro di Navigli in via Pontida SNC\, che si terrà unificata dopo il rinnovo del Consiglio Direttivo\, in spazio adeguato al numero dei partecipanti.
URL:https://www.milano.ana.it/event/riunioni-decentrate-capigruppo-3/
CATEGORIES:Eventi Sezionali
END:VEVENT
BEGIN:VEVENT
DTSTART;VALUE=DATE:20220402
DTEND;VALUE=DATE:20220403
DTSTAMP:20260422T014911
CREATED:20220204T182528Z
LAST-MODIFIED:20220204T182528Z
UID:5686-1648857600-1648943999@www.milano.ana.it
SUMMARY:Giornata Lombarda memoria e sacrificio alpino
DESCRIPTION:
URL:https://www.milano.ana.it/event/giornata-lombarda-memoria-e-sacrificio-alpino/
CATEGORIES:Eventi Sezionali
END:VEVENT
BEGIN:VEVENT
DTSTART;VALUE=DATE:20220403
DTEND;VALUE=DATE:20220404
DTSTAMP:20260422T014911
CREATED:20220204T182227Z
LAST-MODIFIED:20220204T182227Z
UID:5682-1648944000-1649030399@www.milano.ana.it
SUMMARY:Brugherio - Decennale e inaugurazione Baita
DESCRIPTION:
URL:https://www.milano.ana.it/event/brugherio-decennale-e-inaugurazione-baita/
CATEGORIES:Eventi Sezionali
END:VEVENT
BEGIN:VEVENT
DTSTART;TZID=Europe/Paris:20220404T210000
DTEND;TZID=Europe/Paris:20220404T230000
DTSTAMP:20260422T014911
CREATED:20220301T145418Z
LAST-MODIFIED:20220301T145418Z
UID:5723-1649106000-1649113200@www.milano.ana.it
SUMMARY:Milano sede - Consiglio sezionale
DESCRIPTION:
URL:https://www.milano.ana.it/event/milano-sede-consiglio-sezionale-3/
CATEGORIES:Eventi Sezionali
END:VEVENT
BEGIN:VEVENT
DTSTART;VALUE=DATE:20220409
DTEND;VALUE=DATE:20220410
DTSTAMP:20260422T014911
CREATED:20220204T182330Z
LAST-MODIFIED:20220204T182330Z
UID:5684-1649462400-1649548799@www.milano.ana.it
SUMMARY:Cologno M. - Inaugurazione Gruppo
DESCRIPTION:
URL:https://www.milano.ana.it/event/cologno-m-inaugurazione-gruppo/
CATEGORIES:Eventi Sezionali
END:VEVENT
BEGIN:VEVENT
DTSTART;TZID=Europe/Paris:20220411T210000
DTEND;TZID=Europe/Paris:20220411T230000
DTSTAMP:20260422T014911
CREATED:20220301T145531Z
LAST-MODIFIED:20220301T145531Z
UID:5725-1649710800-1649718000@www.milano.ana.it
SUMMARY:Sedi decentrate - Riunioni Capigruppo
DESCRIPTION:
URL:https://www.milano.ana.it/event/sedi-decentrate-riunioni-capigruppo-2/
CATEGORIES:Eventi Sezionali
END:VEVENT
END:VCALENDAR