BEGIN:VCALENDAR
VERSION:2.0
PRODID:-//Associazione Nazionale Alpini - Sezione di Milano - ECPv6.10.2//NONSGML v1.0//EN
CALSCALE:GREGORIAN
METHOD:PUBLISH
X-ORIGINAL-URL:https://www.milano.ana.it
X-WR-CALDESC:Eventi per Associazione Nazionale Alpini - Sezione di Milano
REFRESH-INTERVAL;VALUE=DURATION:PT1H
X-Robots-Tag:noindex
X-PUBLISHED-TTL:PT1H
BEGIN:VTIMEZONE
TZID:Europe/Paris
BEGIN:DAYLIGHT
TZOFFSETFROM:+0100
TZOFFSETTO:+0200
TZNAME:CEST
DTSTART:20200329T010000
END:DAYLIGHT
BEGIN:STANDARD
TZOFFSETFROM:+0200
TZOFFSETTO:+0100
TZNAME:CET
DTSTART:20201025T010000
END:STANDARD
END:VTIMEZONE
BEGIN:VEVENT
DTSTART;VALUE=DATE:20201010
DTEND;VALUE=DATE:20201011
DTSTAMP:20260422T080824
CREATED:20200915T134343Z
LAST-MODIFIED:20200915T134343Z
UID:4843-1602288000-1602374399@www.milano.ana.it
SUMMARY:Tavola rotonda sulla leva
DESCRIPTION:
URL:https://www.milano.ana.it/event/tavola-rotonda-sulla-leva/
LOCATION:Auditorium Centro Bonola – Milano\, Via Quarenghi 21\, Milano
CATEGORIES:Eventi Sezionali
END:VEVENT
END:VCALENDAR