BEGIN:VCALENDAR
VERSION:2.0
PRODID:-//Associazione Nazionale Alpini - Sezione di Milano - ECPv6.10.2//NONSGML v1.0//EN
CALSCALE:GREGORIAN
METHOD:PUBLISH
X-WR-CALNAME:Associazione Nazionale Alpini - Sezione di Milano
X-ORIGINAL-URL:https://www.milano.ana.it
X-WR-CALDESC:Eventi per Associazione Nazionale Alpini - Sezione di Milano
REFRESH-INTERVAL;VALUE=DURATION:PT1H
X-Robots-Tag:noindex
X-PUBLISHED-TTL:PT1H
BEGIN:VTIMEZONE
TZID:Europe/Paris
BEGIN:DAYLIGHT
TZOFFSETFROM:+0100
TZOFFSETTO:+0200
TZNAME:CEST
DTSTART:20210328T010000
END:DAYLIGHT
BEGIN:STANDARD
TZOFFSETFROM:+0200
TZOFFSETTO:+0100
TZNAME:CET
DTSTART:20211031T010000
END:STANDARD
END:VTIMEZONE
BEGIN:VEVENT
DTSTART;TZID=Europe/Paris:20211030T103000
DTEND;TZID=Europe/Paris:20211030T120000
DTSTAMP:20260422T081433
CREATED:20211010T122333Z
LAST-MODIFIED:20211010T122333Z
UID:5321-1635589800-1635595200@www.milano.ana.it
SUMMARY:Milano - S.Messa per i Soci defunti
DESCRIPTION:Deposizione corona alle 10.30 al Monumento agli Alpini di via Vincenzo Monti angolo Piazza Giovanni XXIII\, cui segue alle 11 la S.Messa presso la cappella dell’Istituto Leone XIII
URL:https://www.milano.ana.it/event/milano-s-messa-per-i-soci-defunti/
CATEGORIES:Eventi Sezionali
END:VEVENT
END:VCALENDAR