BEGIN:VCALENDAR
VERSION:2.0
PRODID:-//Associazione Nazionale Alpini - Sezione di Milano - ECPv6.10.2//NONSGML v1.0//EN
CALSCALE:GREGORIAN
METHOD:PUBLISH
X-WR-CALNAME:Associazione Nazionale Alpini - Sezione di Milano
X-ORIGINAL-URL:https://www.milano.ana.it
X-WR-CALDESC:Eventi per Associazione Nazionale Alpini - Sezione di Milano
REFRESH-INTERVAL;VALUE=DURATION:PT1H
X-Robots-Tag:noindex
X-PUBLISHED-TTL:PT1H
BEGIN:VTIMEZONE
TZID:Europe/Paris
BEGIN:DAYLIGHT
TZOFFSETFROM:+0100
TZOFFSETTO:+0200
TZNAME:CEST
DTSTART:20220327T010000
END:DAYLIGHT
BEGIN:STANDARD
TZOFFSETFROM:+0200
TZOFFSETTO:+0100
TZNAME:CET
DTSTART:20221030T010000
END:STANDARD
END:VTIMEZONE
BEGIN:VEVENT
DTSTART;VALUE=DATE:20220403
DTEND;VALUE=DATE:20220404
DTSTAMP:20260423T213547
CREATED:20220204T182227Z
LAST-MODIFIED:20220204T182227Z
UID:5682-1648944000-1649030399@www.milano.ana.it
SUMMARY:Brugherio - Decennale e inaugurazione Baita
DESCRIPTION:
URL:https://www.milano.ana.it/event/brugherio-decennale-e-inaugurazione-baita/
CATEGORIES:Eventi Sezionali
END:VEVENT
BEGIN:VEVENT
DTSTART;TZID=Europe/Paris:20220404T210000
DTEND;TZID=Europe/Paris:20220404T230000
DTSTAMP:20260423T213547
CREATED:20220301T145418Z
LAST-MODIFIED:20220301T145418Z
UID:5723-1649106000-1649113200@www.milano.ana.it
SUMMARY:Milano sede - Consiglio sezionale
DESCRIPTION:
URL:https://www.milano.ana.it/event/milano-sede-consiglio-sezionale-3/
CATEGORIES:Eventi Sezionali
END:VEVENT
END:VCALENDAR