BEGIN:VCALENDAR
VERSION:2.0
PRODID:-//Associazione Nazionale Alpini - Sezione di Milano - ECPv6.10.2//NONSGML v1.0//EN
CALSCALE:GREGORIAN
METHOD:PUBLISH
X-ORIGINAL-URL:https://www.milano.ana.it
X-WR-CALDESC:Eventi per Associazione Nazionale Alpini - Sezione di Milano
REFRESH-INTERVAL;VALUE=DURATION:PT1H
X-Robots-Tag:noindex
X-PUBLISHED-TTL:PT1H
BEGIN:VTIMEZONE
TZID:Europe/Paris
BEGIN:DAYLIGHT
TZOFFSETFROM:+0100
TZOFFSETTO:+0200
TZNAME:CEST
DTSTART:20250330T010000
END:DAYLIGHT
BEGIN:STANDARD
TZOFFSETFROM:+0200
TZOFFSETTO:+0100
TZNAME:CET
DTSTART:20251026T010000
END:STANDARD
END:VTIMEZONE
BEGIN:VEVENT
DTSTART;TZID=Europe/Paris:20251216T200000
DTEND;TZID=Europe/Paris:20251216T230000
DTSTAMP:20260422T114626
CREATED:20251018T203234Z
LAST-MODIFIED:20251105T172917Z
UID:8257-1765915200-1765926000@www.milano.ana.it
SUMMARY:Milano sede: riunione congiunta CdS e Capigruppo
DESCRIPTION:Riunione spostata da lunedì al martedì!
URL:https://www.milano.ana.it/event/milano-sede-riunione-congiunta-cds-e-capigruppo/
CATEGORIES:Eventi Sezionali
END:VEVENT
END:VCALENDAR