BEGIN:VCALENDAR
VERSION:2.0
PRODID:-//Associazione Nazionale Alpini - Sezione di Milano - ECPv6.10.2//NONSGML v1.0//EN
CALSCALE:GREGORIAN
METHOD:PUBLISH
X-WR-CALNAME:Associazione Nazionale Alpini - Sezione di Milano
X-ORIGINAL-URL:https://www.milano.ana.it
X-WR-CALDESC:Eventi per Associazione Nazionale Alpini - Sezione di Milano
REFRESH-INTERVAL;VALUE=DURATION:PT1H
X-Robots-Tag:noindex
X-PUBLISHED-TTL:PT1H
BEGIN:VTIMEZONE
TZID:Europe/Paris
BEGIN:DAYLIGHT
TZOFFSETFROM:+0100
TZOFFSETTO:+0200
TZNAME:CEST
DTSTART:20190331T010000
END:DAYLIGHT
BEGIN:STANDARD
TZOFFSETFROM:+0200
TZOFFSETTO:+0100
TZNAME:CET
DTSTART:20191027T010000
END:STANDARD
BEGIN:DAYLIGHT
TZOFFSETFROM:+0100
TZOFFSETTO:+0200
TZNAME:CEST
DTSTART:20200329T010000
END:DAYLIGHT
BEGIN:STANDARD
TZOFFSETFROM:+0200
TZOFFSETTO:+0100
TZNAME:CET
DTSTART:20201025T010000
END:STANDARD
END:VTIMEZONE
BEGIN:VEVENT
DTSTART;TZID=Europe/Paris:20200124T210000
DTEND;TZID=Europe/Paris:20200124T230000
DTSTAMP:20260422T002422
CREATED:20191120T173047Z
LAST-MODIFIED:20191120T173047Z
UID:4584-1579899600-1579906800@www.milano.ana.it
SUMMARY:Arconate - Assemblea di Gruppo
DESCRIPTION:
URL:https://www.milano.ana.it/event/arconate-assemblea-di-gruppo/
CATEGORIES:Eventi dei Gruppi
END:VEVENT
BEGIN:VEVENT
DTSTART;TZID=Europe/Paris:20200124T210000
DTEND;TZID=Europe/Paris:20200124T230000
DTSTAMP:20260422T002422
CREATED:20191026T085002Z
LAST-MODIFIED:20191026T085002Z
UID:4501-1579899600-1579906800@www.milano.ana.it
SUMMARY:Lentate sul Seveso - Assemblea di Gruppo
DESCRIPTION:
URL:https://www.milano.ana.it/event/lentate-sul-seveso-assemblea-di-gruppo/
CATEGORIES:Eventi dei Gruppi
END:VEVENT
BEGIN:VEVENT
DTSTART;TZID=Europe/Paris:20200124T204500
DTEND;TZID=Europe/Paris:20200124T230000
DTSTAMP:20260422T002422
CREATED:20191021T124125Z
LAST-MODIFIED:20191021T124125Z
UID:4475-1579898700-1579906800@www.milano.ana.it
SUMMARY:Vaprio d'Adda - Assemblea di Gruppo
DESCRIPTION:
URL:https://www.milano.ana.it/event/vaprio-dadda-assemblea-di-gruppo/
CATEGORIES:Eventi dei Gruppi
END:VEVENT
BEGIN:VEVENT
DTSTART;TZID=Europe/Paris:20200123T210000
DTEND;TZID=Europe/Paris:20200123T230000
DTSTAMP:20260422T002422
CREATED:20200107T153526Z
LAST-MODIFIED:20200107T153526Z
UID:4635-1579813200-1579820400@www.milano.ana.it
SUMMARY:MI Lorenteggio - Assemblea di Gruppo
DESCRIPTION:
URL:https://www.milano.ana.it/event/mi-lorenteggio-assemblea-di-gruppo/
CATEGORIES:Eventi dei Gruppi
END:VEVENT
BEGIN:VEVENT
DTSTART;TZID=Europe/Paris:20200123T210000
DTEND;TZID=Europe/Paris:20200123T230000
DTSTAMP:20260422T002422
CREATED:20191116T144915Z
LAST-MODIFIED:20191116T144915Z
UID:4579-1579813200-1579820400@www.milano.ana.it
SUMMARY:S.Giuliano M.-S.Donato M. - Assemblea di Gruppo
DESCRIPTION:
URL:https://www.milano.ana.it/event/s-giuliano-m-s-donato-m-assemblea-di-gruppo/
CATEGORIES:Eventi dei Gruppi
END:VEVENT
BEGIN:VEVENT
DTSTART;TZID=Europe/Paris:20200123T210000
DTEND;TZID=Europe/Paris:20200123T230000
DTSTAMP:20260422T002422
CREATED:20191021T123958Z
LAST-MODIFIED:20191021T123958Z
UID:4473-1579813200-1579820400@www.milano.ana.it
SUMMARY:Vimercate - Assemblea di Gruppo
DESCRIPTION:
URL:https://www.milano.ana.it/event/vimercate-assemblea-di-gruppo/
CATEGORIES:Eventi dei Gruppi
END:VEVENT
BEGIN:VEVENT
DTSTART;TZID=Europe/Paris:20200120T210000
DTEND;TZID=Europe/Paris:20200120T230000
DTSTAMP:20260422T002422
CREATED:20191021T125056Z
LAST-MODIFIED:20191021T125056Z
UID:4485-1579554000-1579561200@www.milano.ana.it
SUMMARY:Milano - Riunione Capigruppo
DESCRIPTION:
URL:https://www.milano.ana.it/event/milano-riunione-capigruppo/
CATEGORIES:Eventi Sezionali
END:VEVENT
BEGIN:VEVENT
DTSTART;TZID=Europe/Paris:20200119T100000
DTEND;TZID=Europe/Paris:20200119T120000
DTSTAMP:20260422T002422
CREATED:20191116T144531Z
LAST-MODIFIED:20191116T144531Z
UID:4577-1579428000-1579435200@www.milano.ana.it
SUMMARY:Rho - Assemblea di Gruppo
DESCRIPTION:
URL:https://www.milano.ana.it/event/rho-assemblea-di-gruppo-2/
CATEGORIES:Eventi dei Gruppi
END:VEVENT
BEGIN:VEVENT
DTSTART;TZID=Europe/Paris:20200119T093000
DTEND;TZID=Europe/Paris:20200119T120000
DTSTAMP:20260422T002422
CREATED:20191021T123906Z
LAST-MODIFIED:20191021T123906Z
UID:4471-1579426200-1579435200@www.milano.ana.it
SUMMARY:Cassano d'Adda - Assemblea di Gruppo
DESCRIPTION:
URL:https://www.milano.ana.it/event/cassano-dadda-assemblea-di-gruppo/
CATEGORIES:Eventi dei Gruppi
END:VEVENT
BEGIN:VEVENT
DTSTART;TZID=Europe/Paris:20200119T090000
DTEND;TZID=Europe/Paris:20200119T120000
DTSTAMP:20260422T002422
CREATED:20191030T191052Z
LAST-MODIFIED:20191030T191052Z
UID:4520-1579424400-1579435200@www.milano.ana.it
SUMMARY:Melzo - Assemblea di Gruppo
DESCRIPTION:
URL:https://www.milano.ana.it/event/melzo-assemblea-di-gruppo/
CATEGORIES:Eventi dei Gruppi
END:VEVENT
BEGIN:VEVENT
DTSTART;TZID=Europe/Paris:20200119T090000
DTEND;TZID=Europe/Paris:20200119T120000
DTSTAMP:20260422T002422
CREATED:20191024T160411Z
LAST-MODIFIED:20191024T160411Z
UID:4490-1579424400-1579435200@www.milano.ana.it
SUMMARY:Limito-Pioltello-Segrate - Assemblea di Gruppo
DESCRIPTION:
URL:https://www.milano.ana.it/event/limito-pioltello-segrate-assemblea-di-gruppo/
CATEGORIES:Eventi dei Gruppi
END:VEVENT
BEGIN:VEVENT
DTSTART;TZID=Europe/Paris:20200118T210000
DTEND;TZID=Europe/Paris:20200118T230000
DTSTAMP:20260422T002422
CREATED:20191021T123806Z
LAST-MODIFIED:20191021T123806Z
UID:4469-1579381200-1579388400@www.milano.ana.it
SUMMARY:Busto Garolfo - Assemblea di Gruppo
DESCRIPTION:
URL:https://www.milano.ana.it/event/busto-garolfo-assemblea-di-gruppo/
CATEGORIES:Eventi dei Gruppi
END:VEVENT
BEGIN:VEVENT
DTSTART;TZID=Europe/Paris:20200117T210000
DTEND;TZID=Europe/Paris:20200117T230000
DTSTAMP:20260422T002422
CREATED:20191029T110051Z
LAST-MODIFIED:20191029T110051Z
UID:4505-1579294800-1579302000@www.milano.ana.it
SUMMARY:Giussano - Assemblea di Gruppo
DESCRIPTION:
URL:https://www.milano.ana.it/event/giussano-assemblea-di-gruppo/
CATEGORIES:Eventi dei Gruppi
END:VEVENT
BEGIN:VEVENT
DTSTART;TZID=Europe/Paris:20200117T210000
DTEND;TZID=Europe/Paris:20200117T230000
DTSTAMP:20260422T002422
CREATED:20191021T123645Z
LAST-MODIFIED:20191021T123645Z
UID:4467-1579294800-1579302000@www.milano.ana.it
SUMMARY:Lacchiarella - Assemblea di Gruppo
DESCRIPTION:
URL:https://www.milano.ana.it/event/lacchiarella-assemblea-di-gruppo-2/
CATEGORIES:Eventi dei Gruppi
END:VEVENT
BEGIN:VEVENT
DTSTART;TZID=Europe/Paris:20200116T210000
DTEND;TZID=Europe/Paris:20200116T230000
DTSTAMP:20260422T002422
CREATED:20191021T123544Z
LAST-MODIFIED:20191021T123544Z
UID:4465-1579208400-1579215600@www.milano.ana.it
SUMMARY:Paderno Dugnano - Assemblea di Gruppo
DESCRIPTION:
URL:https://www.milano.ana.it/event/paderno-dugnano-assemblea-di-gruppo/
CATEGORIES:Eventi dei Gruppi
END:VEVENT
BEGIN:VEVENT
DTSTART;TZID=Europe/Paris:20200113T210000
DTEND;TZID=Europe/Paris:20200113T230000
DTSTAMP:20260422T002422
CREATED:20191021T124947Z
LAST-MODIFIED:20191021T124947Z
UID:4483-1578949200-1578956400@www.milano.ana.it
SUMMARY:Riunione Consiglio sezionale
DESCRIPTION:
URL:https://www.milano.ana.it/event/riunione-consiglio-sezionale-4/
CATEGORIES:Eventi Sezionali
END:VEVENT
BEGIN:VEVENT
DTSTART;TZID=Europe/Paris:20200112T093000
DTEND;TZID=Europe/Paris:20200112T120000
DTSTAMP:20260422T002422
CREATED:20191105T151528Z
LAST-MODIFIED:20191105T151528Z
UID:4533-1578821400-1578830400@www.milano.ana.it
SUMMARY:Melegnano - Assemblea di Gruppo
DESCRIPTION:
URL:https://www.milano.ana.it/event/melegnano-assemblea-di-gruppo/
CATEGORIES:Eventi dei Gruppi
END:VEVENT
BEGIN:VEVENT
DTSTART;TZID=Europe/Paris:20200111T210000
DTEND;TZID=Europe/Paris:20200111T230000
DTSTAMP:20260422T002422
CREATED:20191021T123430Z
LAST-MODIFIED:20191021T123430Z
UID:4463-1578776400-1578783600@www.milano.ana.it
SUMMARY:Lodi - Assemblea di Gruppo
DESCRIPTION:
URL:https://www.milano.ana.it/event/lodi-assemblea-di-gruppo-2/
CATEGORIES:Eventi dei Gruppi
END:VEVENT
BEGIN:VEVENT
DTSTART;TZID=Europe/Paris:20200110T210000
DTEND;TZID=Europe/Paris:20200110T230000
DTSTAMP:20260422T002422
CREATED:20191102T172047Z
LAST-MODIFIED:20191102T172047Z
UID:4527-1578690000-1578697200@www.milano.ana.it
SUMMARY:Cormano - Assemblea di Gruppo
DESCRIPTION:
URL:https://www.milano.ana.it/event/cormano-assemblea-di-gruppo/
CATEGORIES:Eventi dei Gruppi
END:VEVENT
BEGIN:VEVENT
DTSTART;TZID=Europe/Paris:20200110T210000
DTEND;TZID=Europe/Paris:20200110T230000
DTSTAMP:20260422T002422
CREATED:20191021T123325Z
LAST-MODIFIED:20191021T123325Z
UID:4461-1578690000-1578697200@www.milano.ana.it
SUMMARY:Ceriano Laghetto - Assemblea di Gruppo
DESCRIPTION:
URL:https://www.milano.ana.it/event/ceriano-laghetto-assemblea-di-gruppo-2/
CATEGORIES:Eventi dei Gruppi
END:VEVENT
BEGIN:VEVENT
DTSTART;TZID=Europe/Paris:20200109T210000
DTEND;TZID=Europe/Paris:20200109T230000
DTSTAMP:20260422T002422
CREATED:20191206T083736Z
LAST-MODIFIED:20191206T083736Z
UID:4605-1578603600-1578610800@www.milano.ana.it
SUMMARY:Legnano - Assemblea di Gruppo
DESCRIPTION:
URL:https://www.milano.ana.it/event/legnano-assemblea-di-gruppo-2/
CATEGORIES:Eventi dei Gruppi
END:VEVENT
BEGIN:VEVENT
DTSTART;TZID=Europe/Paris:20200109T210000
DTEND;TZID=Europe/Paris:20200109T230000
DTSTAMP:20260422T002422
CREATED:20191113T123701Z
LAST-MODIFIED:20191113T123701Z
UID:4572-1578603600-1578610800@www.milano.ana.it
SUMMARY:Cavenago Brianza - Assemblea di Gruppo
DESCRIPTION:
URL:https://www.milano.ana.it/event/cavenago-brianza-assemblea-di-gruppo/
CATEGORIES:Eventi dei Gruppi
END:VEVENT
BEGIN:VEVENT
DTSTART;TZID=Europe/Paris:20200109T210000
DTEND;TZID=Europe/Paris:20200109T230000
DTSTAMP:20260422T002422
CREATED:20191110T155915Z
LAST-MODIFIED:20191110T155915Z
UID:4552-1578603600-1578610800@www.milano.ana.it
SUMMARY:Brugherio - Assemblea di Gruppo
DESCRIPTION:
URL:https://www.milano.ana.it/event/brugherio-assemblea-di-gruppo/
CATEGORIES:Eventi dei Gruppi
END:VEVENT
BEGIN:VEVENT
DTSTART;TZID=Europe/Paris:20191215T080000
DTEND;TZID=Europe/Paris:20191215T120000
DTSTAMP:20260422T002422
CREATED:20190927T075456Z
LAST-MODIFIED:20190927T075456Z
UID:4413-1576396800-1576411200@www.milano.ana.it
SUMMARY:S.Messa in Duomo "per non dimenticare"
DESCRIPTION:
URL:https://www.milano.ana.it/event/s-messa-in-duomo-per-non-dimenticare-2/
CATEGORIES:Eventi Nazionali
END:VEVENT
BEGIN:VEVENT
DTSTART;TZID=Europe/Paris:20191211T210000
DTEND;TZID=Europe/Paris:20191211T230000
DTSTAMP:20260422T002422
CREATED:20190927T075342Z
LAST-MODIFIED:20191203T171513Z
UID:4411-1576098000-1576105200@www.milano.ana.it
SUMMARY:Scambio auguri in sede sezionale
DESCRIPTION:
URL:https://www.milano.ana.it/event/scambio-auguri-in-sede-sezionale/
CATEGORIES:Eventi Sezionali
END:VEVENT
BEGIN:VEVENT
DTSTART;TZID=Europe/Paris:20191209T200000
DTEND;TZID=Europe/Paris:20191209T230000
DTSTAMP:20260422T002422
CREATED:20190927T075241Z
LAST-MODIFIED:20190927T075241Z
UID:4409-1575921600-1575932400@www.milano.ana.it
SUMMARY:Riunione Capigruppo e Cds in sede sezionale
DESCRIPTION:
URL:https://www.milano.ana.it/event/riunione-capigruppo-e-cds-in-sede-sezionale/
CATEGORIES:Eventi Sezionali
END:VEVENT
BEGIN:VEVENT
DTSTART;TZID=Europe/Paris:20191202T210000
DTEND;TZID=Europe/Paris:20191202T230000
DTSTAMP:20260422T002422
CREATED:20190927T075117Z
LAST-MODIFIED:20190927T075117Z
UID:4407-1575320400-1575327600@www.milano.ana.it
SUMMARY:Riunione CdS
DESCRIPTION:
URL:https://www.milano.ana.it/event/riunione-cds-3/
CATEGORIES:Eventi Sezionali
END:VEVENT
BEGIN:VEVENT
DTSTART;TZID=Europe/Paris:20191201T090000
DTEND;TZID=Europe/Paris:20191201T120000
DTSTAMP:20260422T002422
CREATED:20191106T135645Z
LAST-MODIFIED:20191106T135645Z
UID:4540-1575190800-1575201600@www.milano.ana.it
SUMMARY:Cernusco S/N - Assemblea di Gruppo
DESCRIPTION:
URL:https://www.milano.ana.it/event/cernusco-s-n-assemblea-di-gruppo/
CATEGORIES:Eventi dei Gruppi
END:VEVENT
BEGIN:VEVENT
DTSTART;TZID=Europe/Paris:20191201T090000
DTEND;TZID=Europe/Paris:20191201T120000
DTSTAMP:20260422T002422
CREATED:20191029T105957Z
LAST-MODIFIED:20191029T105957Z
UID:4503-1575190800-1575201600@www.milano.ana.it
SUMMARY:Cinisello Balsamo - Assemblea di Gruppo
DESCRIPTION:
URL:https://www.milano.ana.it/event/cinisello-balsamo-assemblea-di-gruppo/
CATEGORIES:Eventi dei Gruppi
END:VEVENT
BEGIN:VEVENT
DTSTART;TZID=Europe/Paris:20191130T150000
DTEND;TZID=Europe/Paris:20191130T180000
DTSTAMP:20260422T002422
CREATED:20191021T123150Z
LAST-MODIFIED:20191021T123150Z
UID:4459-1575126000-1575136800@www.milano.ana.it
SUMMARY:Unità PC - Assemblea ordinaria
DESCRIPTION:
URL:https://www.milano.ana.it/event/unita-pc-assemblea-ordinaria/
CATEGORIES:Eventi Protezione Civile
END:VEVENT
END:VCALENDAR