BEGIN:VCALENDAR
VERSION:2.0
PRODID:-//Associazione Nazionale Alpini - Sezione di Milano - ECPv6.10.2//NONSGML v1.0//EN
CALSCALE:GREGORIAN
METHOD:PUBLISH
X-WR-CALNAME:Associazione Nazionale Alpini - Sezione di Milano
X-ORIGINAL-URL:https://www.milano.ana.it
X-WR-CALDESC:Eventi per Associazione Nazionale Alpini - Sezione di Milano
REFRESH-INTERVAL;VALUE=DURATION:PT1H
X-Robots-Tag:noindex
X-PUBLISHED-TTL:PT1H
BEGIN:VTIMEZONE
TZID:Europe/Paris
BEGIN:DAYLIGHT
TZOFFSETFROM:+0100
TZOFFSETTO:+0200
TZNAME:CEST
DTSTART:20190331T010000
END:DAYLIGHT
BEGIN:STANDARD
TZOFFSETFROM:+0200
TZOFFSETTO:+0100
TZNAME:CET
DTSTART:20191027T010000
END:STANDARD
END:VTIMEZONE
BEGIN:VEVENT
DTSTART;TZID=Europe/Paris:20191026T080000
DTEND;TZID=Europe/Paris:20191027T170000
DTSTAMP:20260422T021203
CREATED:20190927T074729Z
LAST-MODIFIED:20190927T074729Z
UID:4399-1572076800-1572195600@www.milano.ana.it
SUMMARY:CISA a Feltre
DESCRIPTION:
URL:https://www.milano.ana.it/event/cisa-a-feltre/
CATEGORIES:Eventi Nazionali
END:VEVENT
BEGIN:VEVENT
DTSTART;VALUE=DATE:20191025
DTEND;VALUE=DATE:20191026
DTSTAMP:20260422T021203
CREATED:20190927T074520Z
LAST-MODIFIED:20190927T074520Z
UID:4395-1571961600-1572047999@www.milano.ana.it
SUMMARY:Decennale di beatificazione di don Gnocchi
DESCRIPTION:
URL:https://www.milano.ana.it/event/decennale-di-beatificazione-di-don-gnocchi/
CATEGORIES:Eventi Nazionali
END:VEVENT
BEGIN:VEVENT
DTSTART;TZID=Europe/Paris:20191019T080000
DTEND;TZID=Europe/Paris:20191020T230000
DTSTAMP:20260422T021203
CREATED:20190927T074406Z
LAST-MODIFIED:20190927T074406Z
UID:4393-1571472000-1571612400@www.milano.ana.it
SUMMARY:Raduno 2° Raggruppamento a Piacenza
DESCRIPTION:
URL:https://www.milano.ana.it/event/raduno-2-raggruppamento-a-piacenza/
CATEGORIES:Eventi Nazionali
END:VEVENT
BEGIN:VEVENT
DTSTART;TZID=Europe/Paris:20191014T210000
DTEND;TZID=Europe/Paris:20191014T230000
DTSTAMP:20260422T021203
CREATED:20190927T074259Z
LAST-MODIFIED:20190927T074259Z
UID:4391-1571086800-1571094000@www.milano.ana.it
SUMMARY:Riunione  Capigruppo in sede sezionale
DESCRIPTION:
URL:https://www.milano.ana.it/event/riunione-capigruppo-in-sede-sezionale-3/
CATEGORIES:Eventi Sezionali
END:VEVENT
BEGIN:VEVENT
DTSTART;TZID=Europe/Paris:20191007T210000
DTEND;TZID=Europe/Paris:20191007T230000
DTSTAMP:20260422T021203
CREATED:20190927T074145Z
LAST-MODIFIED:20190927T074145Z
UID:4389-1570482000-1570489200@www.milano.ana.it
SUMMARY:Riunione CdS
DESCRIPTION:
URL:https://www.milano.ana.it/event/riunione-cds/
CATEGORIES:Eventi Sezionali
END:VEVENT
BEGIN:VEVENT
DTSTART;TZID=Europe/Paris:20190928T080000
DTEND;TZID=Europe/Paris:20190929T230000
DTSTAMP:20260422T021203
CREATED:20190927T074032Z
LAST-MODIFIED:20190927T074032Z
UID:4387-1569657600-1569798000@www.milano.ana.it
SUMMARY:Festa sezionale d'autunno
DESCRIPTION:
URL:https://www.milano.ana.it/event/festa-sezionale-dautunno/
CATEGORIES:Eventi Sezionali
END:VEVENT
BEGIN:VEVENT
DTSTART;VALUE=DATE:20190915
DTEND;VALUE=DATE:20190916
DTSTAMP:20260422T021203
CREATED:20190605T161239Z
LAST-MODIFIED:20190605T161239Z
UID:4246-1568505600-1568591999@www.milano.ana.it
SUMMARY:Lentate sul Seveso - Inaugurazione sede
DESCRIPTION:
URL:https://www.milano.ana.it/event/lentate-sul-seveso-inaugurazione-sede/
CATEGORIES:Eventi Sezionali
END:VEVENT
BEGIN:VEVENT
DTSTART;VALUE=DATE:20190727
DTEND;VALUE=DATE:20190729
DTSTAMP:20260422T021203
CREATED:20190517T083152Z
LAST-MODIFIED:20190517T083152Z
UID:4151-1564185600-1564358399@www.milano.ana.it
SUMMARY:56° pellegrinaggio in Adamello (SOLENNE)
DESCRIPTION:
URL:https://www.milano.ana.it/event/56-pellegrinaggio-in-adamello-solenne/
CATEGORIES:Eventi Nazionali
END:VEVENT
BEGIN:VEVENT
DTSTART;VALUE=DATE:20190720
DTEND;VALUE=DATE:20190722
DTSTAMP:20260422T021203
CREATED:20190517T083047Z
LAST-MODIFIED:20190517T083047Z
UID:4149-1563580800-1563753599@www.milano.ana.it
SUMMARY:Premio Fedeltà alla montagna
DESCRIPTION:
URL:https://www.milano.ana.it/event/premio-fedelta-alla-montagna/
CATEGORIES:Eventi Nazionali
END:VEVENT
BEGIN:VEVENT
DTSTART;TZID=Europe/Paris:20190715T210000
DTEND;TZID=Europe/Paris:20190715T230000
DTSTAMP:20260422T021203
CREATED:20190517T082822Z
LAST-MODIFIED:20190621T163141Z
UID:4145-1563224400-1563231600@www.milano.ana.it
SUMMARY:Riunione Capigruppo in sede sezionale
DESCRIPTION:
URL:https://www.milano.ana.it/event/riunione-capigruppo-in-sede-sezionale-2/
CATEGORIES:Eventi Sezionali
END:VEVENT
BEGIN:VEVENT
DTSTART;VALUE=DATE:20190714
DTEND;VALUE=DATE:20190715
DTSTAMP:20260422T021203
CREATED:20190517T082936Z
LAST-MODIFIED:20190517T082936Z
UID:4147-1563062400-1563148799@www.milano.ana.it
SUMMARY:Pellegrinaggio Ortigara (SOLENNE)
DESCRIPTION:
URL:https://www.milano.ana.it/event/pellegrinaggio-ortigara-solenne/
CATEGORIES:Eventi Nazionali
END:VEVENT
BEGIN:VEVENT
DTSTART;VALUE=DATE:20190708
DTEND;VALUE=DATE:20190709
DTSTAMP:20260422T021203
CREATED:20190517T082732Z
LAST-MODIFIED:20190517T082732Z
UID:4143-1562544000-1562630399@www.milano.ana.it
SUMMARY:100°  anniversario fondazione ANA
DESCRIPTION:
URL:https://www.milano.ana.it/event/100-anniversario-fondazione-ana/
CATEGORIES:Eventi Nazionali
END:VEVENT
BEGIN:VEVENT
DTSTART;VALUE=DATE:20190706
DTEND;VALUE=DATE:20190708
DTSTAMP:20260422T021203
CREATED:20190517T082611Z
LAST-MODIFIED:20190517T082611Z
UID:4141-1562371200-1562543999@www.milano.ana.it
SUMMARY:Pellegrinaggio in Ortigara
DESCRIPTION:
URL:https://www.milano.ana.it/event/pellegrinaggio-in-ortigara/
CATEGORIES:Eventi Nazionali
END:VEVENT
BEGIN:VEVENT
DTSTART;TZID=Europe/Paris:20190701T210000
DTEND;TZID=Europe/Paris:20190701T230000
DTSTAMP:20260422T021203
CREATED:20190517T082459Z
LAST-MODIFIED:20190621T163035Z
UID:4139-1562014800-1562022000@www.milano.ana.it
SUMMARY:Riunione Consiglio sezionale
DESCRIPTION:
URL:https://www.milano.ana.it/event/riunione-consigli-sezionale/
CATEGORIES:Eventi Sezionali
END:VEVENT
BEGIN:VEVENT
DTSTART;VALUE=DATE:20190630
DTEND;VALUE=DATE:20190701
DTSTAMP:20260422T021203
CREATED:20190517T082404Z
LAST-MODIFIED:20190517T082404Z
UID:4137-1561852800-1561939199@www.milano.ana.it
SUMMARY:Col di Nava - 62° Raduno al Sacrario della Cuneense
DESCRIPTION:
URL:https://www.milano.ana.it/event/col-di-nava-62-raduno-al-sacrario-della-cuneense/
CATEGORIES:Eventi Nazionali
END:VEVENT
BEGIN:VEVENT
DTSTART;VALUE=DATE:20190623
DTEND;VALUE=DATE:20190624
DTSTAMP:20260422T021203
CREATED:20190517T081947Z
LAST-MODIFIED:20190517T081947Z
UID:4131-1561248000-1561334399@www.milano.ana.it
SUMMARY:Pellegrinaggio al Rifugio Contrin
DESCRIPTION:
URL:https://www.milano.ana.it/event/pellegrinaggio-al-rifugio-contrin/
CATEGORIES:Eventi Nazionali
END:VEVENT
BEGIN:VEVENT
DTSTART;VALUE=DATE:20190619
DTEND;VALUE=DATE:20190624
DTSTAMP:20260422T021203
CREATED:20181129T232507Z
LAST-MODIFIED:20190517T081359Z
UID:3647-1560902400-1561334399@www.milano.ana.it
SUMMARY:Campo scuola con la Sezione di Lecco
DESCRIPTION:
URL:https://www.milano.ana.it/event/campo-scuola-con-la-sezione-di-lecco/
CATEGORIES:Eventi Sezionali
ATTACH;FMTTYPE=image/jpeg:https://www.milano.ana.it/wp-content/uploads/2018/04/Camposcuola-manifesto-edizione-2017.jpg
END:VEVENT
BEGIN:VEVENT
DTSTART;VALUE=DATE:20190616
DTEND;VALUE=DATE:20190617
DTSTAMP:20260422T021203
CREATED:20190605T161636Z
LAST-MODIFIED:20190605T161636Z
UID:4248-1560643200-1560729599@www.milano.ana.it
SUMMARY:Cesano Maderno - Stracada con gli Alpini
DESCRIPTION:
URL:https://www.milano.ana.it/event/cesano-maderno-stracada-con-gli-alpini/
CATEGORIES:Eventi dei Gruppi
END:VEVENT
BEGIN:VEVENT
DTSTART;VALUE=DATE:20190615
DTEND;VALUE=DATE:20190616
DTSTAMP:20260422T021203
CREATED:20190517T081846Z
LAST-MODIFIED:20190517T081846Z
UID:4129-1560556800-1560643199@www.milano.ana.it
SUMMARY:Melegnano - Inaugurazione sede
DESCRIPTION:
URL:https://www.milano.ana.it/event/melegnano-inaugurazione-sede/
CATEGORIES:Eventi Sezionali
END:VEVENT
BEGIN:VEVENT
DTSTART;VALUE=DATE:20190614
DTEND;VALUE=DATE:20190617
DTSTAMP:20260422T021203
CREATED:20190517T082129Z
LAST-MODIFIED:20190517T082129Z
UID:4133-1560470400-1560729599@www.milano.ana.it
SUMMARY:Raduno 3° RGPT a Tolmezzo
DESCRIPTION:
URL:https://www.milano.ana.it/event/raduno-3-rgpt-a-tolmezzo/
CATEGORIES:Eventi Nazionali
END:VEVENT
BEGIN:VEVENT
DTSTART;TZID=Europe/Paris:20190610T210000
DTEND;TZID=Europe/Paris:20190610T230000
DTSTAMP:20260422T021203
CREATED:20190517T081740Z
LAST-MODIFIED:20190517T081740Z
UID:4127-1560200400-1560207600@www.milano.ana.it
SUMMARY:Riunione Capigruppo in sedi decentrate
DESCRIPTION:
URL:https://www.milano.ana.it/event/riunione-capigruppo-in-sedi-decentrate/
CATEGORIES:Eventi Sezionali
END:VEVENT
BEGIN:VEVENT
DTSTART;VALUE=DATE:20190609
DTEND;VALUE=DATE:20190610
DTSTAMP:20260422T021203
CREATED:20190517T081635Z
LAST-MODIFIED:20190517T081635Z
UID:4125-1560038400-1560124799@www.milano.ana.it
SUMMARY:Raduno sezionale a Ponte Selva
DESCRIPTION:
URL:https://www.milano.ana.it/event/raduno-sezionale-a-ponte-selva/
CATEGORIES:Eventi Sezionali
END:VEVENT
BEGIN:VEVENT
DTSTART;VALUE=DATE:20190608
DTEND;VALUE=DATE:20190609
DTSTAMP:20260422T021203
CREATED:20190605T161915Z
LAST-MODIFIED:20190605T161915Z
UID:4250-1559952000-1560038399@www.milano.ana.it
SUMMARY:Milano - Convegno coralità alpina
DESCRIPTION:
URL:https://www.milano.ana.it/event/milano-convegno-coralita-alpina/
CATEGORIES:Eventi Nazionali
END:VEVENT
BEGIN:VEVENT
DTSTART;TZID=Europe/Paris:20190603T210000
DTEND;TZID=Europe/Paris:20190603T230000
DTSTAMP:20260422T021203
CREATED:20190517T081534Z
LAST-MODIFIED:20190517T081534Z
UID:4123-1559595600-1559602800@www.milano.ana.it
SUMMARY:Riunione Consiglio sezionale
DESCRIPTION:
URL:https://www.milano.ana.it/event/riunione-consiglio-sezionale-3/
CATEGORIES:Eventi Sezionali
END:VEVENT
BEGIN:VEVENT
DTSTART;VALUE=DATE:20190602
DTEND;VALUE=DATE:20190603
DTSTAMP:20260422T021203
CREATED:20190517T082244Z
LAST-MODIFIED:20190517T082244Z
UID:4135-1559433600-1559519999@www.milano.ana.it
SUMMARY:Campionato Naz. Mountain Bike a Bistagn
DESCRIPTION:
URL:https://www.milano.ana.it/event/campionato-naz-mountain-bike-a-bistagn/
CATEGORIES:Eventi Nazionali
END:VEVENT
BEGIN:VEVENT
DTSTART;VALUE=DATE:20190526
DTEND;VALUE=DATE:20190527
DTSTAMP:20260422T021203
CREATED:20190228T171643Z
LAST-MODIFIED:20190228T171643Z
UID:3898-1558828800-1558915199@www.milano.ana.it
SUMMARY:Milano - Assemblea dei Delegati
DESCRIPTION:
URL:https://www.milano.ana.it/event/milano-assemblea-dei-delegati/
CATEGORIES:Eventi Nazionali
END:VEVENT
BEGIN:VEVENT
DTSTART;VALUE=DATE:20190510
DTEND;VALUE=DATE:20190513
DTSTAMP:20260422T021203
CREATED:20181129T232239Z
LAST-MODIFIED:20181129T232601Z
UID:3645-1557446400-1557705599@www.milano.ana.it
SUMMARY:92^ Adunata nazionale a Milano
DESCRIPTION:
URL:https://www.milano.ana.it/event/92-adunata-nazionale-a-milano/
LOCATION:Duomo di Milano\, Piazza Duomo\, Milano\, Italia
CATEGORIES:Adunata Nazionale 2022
ATTACH;FMTTYPE=image/jpeg:https://www.milano.ana.it/wp-content/uploads/2018/05/PHOTO-2018-05-16-19-38-54.jpg
END:VEVENT
BEGIN:VEVENT
DTSTART;TZID=Europe/Paris:20190506T210000
DTEND;TZID=Europe/Paris:20190506T230000
DTSTAMP:20260422T021203
CREATED:20190228T171332Z
LAST-MODIFIED:20190504T072810Z
UID:3893-1557176400-1557183600@www.milano.ana.it
SUMMARY:Riunione Consiglio sezionale e Capigruppo
DESCRIPTION:
URL:https://www.milano.ana.it/event/riunione-consiglio-sezionale-2/
CATEGORIES:Eventi Sezionali
END:VEVENT
BEGIN:VEVENT
DTSTART;TZID=Europe/Paris:20190503T160000
DTEND;TZID=Europe/Paris:20190503T190000
DTSTAMP:20260422T021203
CREATED:20190228T171934Z
LAST-MODIFIED:20190228T171934Z
UID:3902-1556899200-1556910000@www.milano.ana.it
SUMMARY:Coro ANA Milano al Teatro alla Scala
DESCRIPTION:
URL:https://www.milano.ana.it/event/coro-ana-milano-al-teatro-alla-scala/
CATEGORIES:Adunata Nazionale 2022
END:VEVENT
BEGIN:VEVENT
DTSTART;TZID=Europe/Paris:20190503T080000
DTEND;TZID=Europe/Paris:20190503T120000
DTSTAMP:20260422T021203
CREATED:20190228T171802Z
LAST-MODIFIED:20190228T171802Z
UID:3900-1556870400-1556884800@www.milano.ana.it
SUMMARY:Conferenza stampa Adunata Milano 2019
DESCRIPTION:
URL:https://www.milano.ana.it/event/conferenza-stampa-adunata-milano-2019/
CATEGORIES:Adunata Nazionale 2022
END:VEVENT
END:VCALENDAR