BEGIN:VCALENDAR
VERSION:2.0
PRODID:-//Associazione Nazionale Alpini - Sezione di Milano - ECPv6.10.2//NONSGML v1.0//EN
CALSCALE:GREGORIAN
METHOD:PUBLISH
X-WR-CALNAME:Associazione Nazionale Alpini - Sezione di Milano
X-ORIGINAL-URL:https://www.milano.ana.it
X-WR-CALDESC:Eventi per Associazione Nazionale Alpini - Sezione di Milano
REFRESH-INTERVAL;VALUE=DURATION:PT1H
X-Robots-Tag:noindex
X-PUBLISHED-TTL:PT1H
BEGIN:VTIMEZONE
TZID:Europe/Paris
BEGIN:DAYLIGHT
TZOFFSETFROM:+0100
TZOFFSETTO:+0200
TZNAME:CEST
DTSTART:20240331T010000
END:DAYLIGHT
BEGIN:STANDARD
TZOFFSETFROM:+0200
TZOFFSETTO:+0100
TZNAME:CET
DTSTART:20241027T010000
END:STANDARD
END:VTIMEZONE
BEGIN:VEVENT
DTSTART;TZID=Europe/Paris:20240506T210000
DTEND;TZID=Europe/Paris:20240506T230000
DTSTAMP:20260420T235232
CREATED:20240316T185838Z
LAST-MODIFIED:20240316T185838Z
UID:7436-1715029200-1715036400@www.milano.ana.it
SUMMARY:Milano sede: Consigliosezionale
DESCRIPTION:
URL:https://www.milano.ana.it/event/milano-sede-consigliosezionale/
CATEGORIES:Eventi Sezionali
END:VEVENT
BEGIN:VEVENT
DTSTART;VALUE=DATE:20240505
DTEND;VALUE=DATE:20240506
DTSTAMP:20260420T235232
CREATED:20240409T144551Z
LAST-MODIFIED:20240409T144551Z
UID:7486-1714867200-1714953599@www.milano.ana.it
SUMMARY:3° Pellegrinaggio Madonna degli Alpini a Cervasca (CN)
DESCRIPTION:
URL:https://www.milano.ana.it/event/3-pellegrinaggio-madonna-degli-alpini-a-cervasca-cn/
CATEGORIES:Eventi Nazionali
END:VEVENT
BEGIN:VEVENT
DTSTART;TZID=Europe/Paris:20240415T210000
DTEND;TZID=Europe/Paris:20240415T230000
DTSTAMP:20260420T235232
CREATED:20240316T185742Z
LAST-MODIFIED:20240316T185742Z
UID:7434-1713214800-1713222000@www.milano.ana.it
SUMMARY:Sedi decentrate: Riunioni Capigruppo
DESCRIPTION:
URL:https://www.milano.ana.it/event/sedi-decentrate-riunioni-capigruppo-3/
CATEGORIES:Eventi Sezionali
END:VEVENT
BEGIN:VEVENT
DTSTART;VALUE=DATE:20240413
DTEND;VALUE=DATE:20240414
DTSTAMP:20260420T235232
CREATED:20240409T144424Z
LAST-MODIFIED:20240409T144424Z
UID:7484-1712966400-1713052799@www.milano.ana.it
SUMMARY:Alpinathlon a Cortina d'Ampezzo
DESCRIPTION:
URL:https://www.milano.ana.it/event/alpinathlon-a-cortina-dampezzo/
CATEGORIES:Eventi Nazionali
END:VEVENT
BEGIN:VEVENT
DTSTART;TZID=Europe/Paris:20240408T210000
DTEND;TZID=Europe/Paris:20240408T230000
DTSTAMP:20260420T235232
CREATED:20240316T185645Z
LAST-MODIFIED:20240316T185645Z
UID:7432-1712610000-1712617200@www.milano.ana.it
SUMMARY:Milano sede: Consiglio sezionale
DESCRIPTION:
URL:https://www.milano.ana.it/event/milano-sede-consiglio-sezionale-8/
CATEGORIES:Eventi Sezionali
END:VEVENT
BEGIN:VEVENT
DTSTART;TZID=Europe/Paris:20240406T150000
DTEND;TZID=Europe/Paris:20240406T190000
DTSTAMP:20260420T235232
CREATED:20240316T185357Z
LAST-MODIFIED:20240316T185536Z
UID:7430-1712415600-1712430000@www.milano.ana.it
SUMMARY:Monza: Giornata regionale riconoscenza agli Alpini
DESCRIPTION:
URL:https://www.milano.ana.it/event/monza-giornata-regionale-riconoscenza-agli-alpini/
CATEGORIES:Eventi Sezionali
END:VEVENT
BEGIN:VEVENT
DTSTART;TZID=Europe/Paris:20240320T210000
DTEND;TZID=Europe/Paris:20240320T230000
DTSTAMP:20260420T235232
CREATED:20240316T185217Z
LAST-MODIFIED:20240316T185217Z
UID:7428-1710968400-1710975600@www.milano.ana.it
SUMMARY:Sede sezionale : incontro su assicurazione
DESCRIPTION:
URL:https://www.milano.ana.it/event/sede-sezionale-incontro-su-assicurazione/
CATEGORIES:Eventi Sezionali
END:VEVENT
BEGIN:VEVENT
DTSTART;VALUE=DATE:20240317
DTEND;VALUE=DATE:20240318
DTSTAMP:20260420T235232
CREATED:20240316T185053Z
LAST-MODIFIED:20240316T185053Z
UID:7426-1710633600-1710719999@www.milano.ana.it
SUMMARY:163° Unità d'Italia
DESCRIPTION:
URL:https://www.milano.ana.it/event/163-unita-ditalia/
CATEGORIES:Eventi Nazionali
END:VEVENT
BEGIN:VEVENT
DTSTART;TZID=Europe/Paris:20240311T210000
DTEND;TZID=Europe/Paris:20240311T230000
DTSTAMP:20260420T235232
CREATED:20240109T193346Z
LAST-MODIFIED:20240109T193346Z
UID:7161-1710190800-1710198000@www.milano.ana.it
SUMMARY:Riunione Capigruppo sede sezionale
DESCRIPTION:
URL:https://www.milano.ana.it/event/riunione-capigruppo-sede-sezionale-3/
CATEGORIES:Eventi Sezionali
END:VEVENT
BEGIN:VEVENT
DTSTART;TZID=Europe/Paris:20240304T210000
DTEND;TZID=Europe/Paris:20240304T230000
DTSTAMP:20260420T235232
CREATED:20240109T193556Z
LAST-MODIFIED:20240109T193556Z
UID:7165-1709586000-1709593200@www.milano.ana.it
SUMMARY:Riunione Consiglio sezionale
DESCRIPTION:
URL:https://www.milano.ana.it/event/riunione-consiglio-sezionale-14/
CATEGORIES:Eventi Sezionali
END:VEVENT
BEGIN:VEVENT
DTSTART;TZID=Europe/Paris:20240303T090000
DTEND;TZID=Europe/Paris:20240303T120000
DTSTAMP:20260420T235232
CREATED:20240109T193717Z
LAST-MODIFIED:20240109T193717Z
UID:7167-1709456400-1709467200@www.milano.ana.it
SUMMARY:Milano - Assemblea sezionale
DESCRIPTION:
URL:https://www.milano.ana.it/event/milano-assemblea-sezionale-4/
CATEGORIES:Eventi Sezionali
END:VEVENT
BEGIN:VEVENT
DTSTART;TZID=Europe/Paris:20240225T100000
DTEND;TZID=Europe/Paris:20240225T120000
DTSTAMP:20260420T235232
CREATED:20240109T195549Z
LAST-MODIFIED:20240109T195549Z
UID:7193-1708855200-1708862400@www.milano.ana.it
SUMMARY:Assemblea Gruppo Vigevano-Mortara
DESCRIPTION:
URL:https://www.milano.ana.it/event/assemblea-gruppo-vigevano-mortara/
CATEGORIES:Eventi dei Gruppi
END:VEVENT
BEGIN:VEVENT
DTSTART;TZID=Europe/Paris:20240218T090000
DTEND;TZID=Europe/Paris:20240218T120000
DTSTAMP:20260420T235232
CREATED:20240109T174512Z
LAST-MODIFIED:20240109T174512Z
UID:7144-1708246800-1708257600@www.milano.ana.it
SUMMARY:Assemblea Gruppo Brugherio
DESCRIPTION:
URL:https://www.milano.ana.it/event/assemblea-gruppo-brugherio/
CATEGORIES:Eventi dei Gruppi
END:VEVENT
BEGIN:VEVENT
DTSTART;TZID=Europe/Paris:20240215T210000
DTEND;TZID=Europe/Paris:20240215T230000
DTSTAMP:20260420T235232
CREATED:20240109T195408Z
LAST-MODIFIED:20240109T195408Z
UID:7189-1708030800-1708038000@www.milano.ana.it
SUMMARY:Assemblea Gruppo Rozzano
DESCRIPTION:
URL:https://www.milano.ana.it/event/assemblea-gruppo-rozzano/
CATEGORIES:Eventi dei Gruppi
END:VEVENT
BEGIN:VEVENT
DTSTART;TZID=Europe/Paris:20240212T210000
DTEND;TZID=Europe/Paris:20240212T230000
DTSTAMP:20260420T235232
CREATED:20240109T193123Z
LAST-MODIFIED:20240109T193123Z
UID:7157-1707771600-1707778800@www.milano.ana.it
SUMMARY:Riunione Capigruppo decentrata
DESCRIPTION:
URL:https://www.milano.ana.it/event/riunione-capigruppo-decentrata/
CATEGORIES:Eventi Sezionali
END:VEVENT
BEGIN:VEVENT
DTSTART;TZID=Europe/Paris:20240211T090000
DTEND;TZID=Europe/Paris:20240211T120000
DTSTAMP:20260420T235232
CREATED:20240109T174249Z
LAST-MODIFIED:20240109T174249Z
UID:7140-1707642000-1707652800@www.milano.ana.it
SUMMARY:Assemblea Gruppo Agrate Brianza
DESCRIPTION:
URL:https://www.milano.ana.it/event/assemblea-gruppo-agrate-brianza/
CATEGORIES:Eventi dei Gruppi
END:VEVENT
BEGIN:VEVENT
DTSTART;TZID=Europe/Paris:20240210T150000
DTEND;TZID=Europe/Paris:20240210T170000
DTSTAMP:20260420T235232
CREATED:20231130T161717Z
LAST-MODIFIED:20231130T161717Z
UID:7069-1707577200-1707584400@www.milano.ana.it
SUMMARY:Bollate - Assemblea di Gruppo
DESCRIPTION:
URL:https://www.milano.ana.it/event/bollate-assemblea-di-gruppo-4/
CATEGORIES:Eventi dei Gruppi
END:VEVENT
BEGIN:VEVENT
DTSTART;TZID=Europe/Paris:20240208T210000
DTEND;TZID=Europe/Paris:20240208T230000
DTSTAMP:20260420T235232
CREATED:20240117T155423Z
LAST-MODIFIED:20240117T155423Z
UID:7216-1707426000-1707433200@www.milano.ana.it
SUMMARY:Assemblea Gruppo S.Donato Mil.-S.Giuliano Mil.
DESCRIPTION:
URL:https://www.milano.ana.it/event/assemblea-gruppo-s-donato-mil-s-giuliano-mil/
CATEGORIES:Eventi dei Gruppi
END:VEVENT
BEGIN:VEVENT
DTSTART;TZID=Europe/Paris:20240205T210000
DTEND;TZID=Europe/Paris:20240205T230000
DTSTAMP:20260420T235232
CREATED:20240109T193511Z
LAST-MODIFIED:20240109T193511Z
UID:7163-1707166800-1707174000@www.milano.ana.it
SUMMARY:Riunione Consiglio sezionale
DESCRIPTION:
URL:https://www.milano.ana.it/event/riunione-consiglio-sezionale-13/
CATEGORIES:Eventi Sezionali
END:VEVENT
BEGIN:VEVENT
DTSTART;TZID=Europe/Paris:20240204T210000
DTEND;TZID=Europe/Paris:20240204T230000
DTSTAMP:20260420T235232
CREATED:20231130T163424Z
LAST-MODIFIED:20231130T163424Z
UID:7103-1707080400-1707087600@www.milano.ana.it
SUMMARY:Vaprio d'Adda - Assemblea di Gruppo
DESCRIPTION:
URL:https://www.milano.ana.it/event/vaprio-dadda-assemblea-di-gruppo-4/
CATEGORIES:Eventi dei Gruppi
END:VEVENT
BEGIN:VEVENT
DTSTART;TZID=Europe/Paris:20240204T090000
DTEND;TZID=Europe/Paris:20240204T120000
DTSTAMP:20260420T235232
CREATED:20240109T194721Z
LAST-MODIFIED:20240109T194721Z
UID:7175-1707037200-1707048000@www.milano.ana.it
SUMMARY:Assemblea Gruppo Limito-Pioltello-Segrate
DESCRIPTION:
URL:https://www.milano.ana.it/event/assemblea-gruppo-limito-pioltello-segrate-2/
CATEGORIES:Eventi dei Gruppi
END:VEVENT
BEGIN:VEVENT
DTSTART;TZID=Europe/Paris:20240202T210000
DTEND;TZID=Europe/Paris:20240202T230000
DTSTAMP:20260420T235232
CREATED:20240109T174938Z
LAST-MODIFIED:20240109T174938Z
UID:7152-1706907600-1706914800@www.milano.ana.it
SUMMARY:Assemblea Gruppo Gessate
DESCRIPTION:
URL:https://www.milano.ana.it/event/assemblea-gruppo-gessate/
CATEGORIES:Eventi dei Gruppi
END:VEVENT
BEGIN:VEVENT
DTSTART;TZID=Europe/Paris:20240201T210000
DTEND;TZID=Europe/Paris:20240201T230000
DTSTAMP:20260420T235232
CREATED:20240109T195024Z
LAST-MODIFIED:20240109T195024Z
UID:7181-1706821200-1706828400@www.milano.ana.it
SUMMARY:Assemblea Gruppo Milano Centro
DESCRIPTION:
URL:https://www.milano.ana.it/event/assemblea-gruppo-milano-centro/
CATEGORIES:Eventi dei Gruppi
END:VEVENT
BEGIN:VEVENT
DTSTART;TZID=Europe/Paris:20240201T210000
DTEND;TZID=Europe/Paris:20240201T230000
DTSTAMP:20260420T235232
CREATED:20231130T162915Z
LAST-MODIFIED:20231130T162915Z
UID:7093-1706821200-1706828400@www.milano.ana.it
SUMMARY:Limbiate - Assemblea di Gruppo
DESCRIPTION:
URL:https://www.milano.ana.it/event/limbiate-assemblea-di-gruppo-4/
CATEGORIES:Eventi dei Gruppi
END:VEVENT
BEGIN:VEVENT
DTSTART;TZID=Europe/Paris:20240130T203000
DTEND;TZID=Europe/Paris:20240130T223000
DTSTAMP:20260420T235232
CREATED:20231130T161530Z
LAST-MODIFIED:20231130T161530Z
UID:7065-1706646600-1706653800@www.milano.ana.it
SUMMARY:Arese - Assemblea di Gruppo
DESCRIPTION:
URL:https://www.milano.ana.it/event/arese-assemblea-di-gruppo-4/
CATEGORIES:Eventi dei Gruppi
END:VEVENT
BEGIN:VEVENT
DTSTART;TZID=Europe/Paris:20240128T100000
DTEND;TZID=Europe/Paris:20240128T120000
DTSTAMP:20260420T235232
CREATED:20240109T195318Z
LAST-MODIFIED:20240109T195318Z
UID:7187-1706436000-1706443200@www.milano.ana.it
SUMMARY:Assemblea Gruppo Pessano con Bornago
DESCRIPTION:
URL:https://www.milano.ana.it/event/assemblea-gruppo-pessano-con-bornago-2/
CATEGORIES:Eventi dei Gruppi
END:VEVENT
BEGIN:VEVENT
DTSTART;TZID=Europe/Paris:20240128T100000
DTEND;TZID=Europe/Paris:20240128T120000
DTSTAMP:20260420T235232
CREATED:20240109T194939Z
LAST-MODIFIED:20240109T194939Z
UID:7179-1706436000-1706443200@www.milano.ana.it
SUMMARY:Assemblea Gruppo Melzo
DESCRIPTION:
URL:https://www.milano.ana.it/event/assemblea-gruppo-melzo-2/
CATEGORIES:Eventi dei Gruppi
END:VEVENT
BEGIN:VEVENT
DTSTART;TZID=Europe/Paris:20240128T100000
DTEND;TZID=Europe/Paris:20240128T120000
DTSTAMP:20260420T235232
CREATED:20240109T174840Z
LAST-MODIFIED:20240109T174840Z
UID:7150-1706436000-1706443200@www.milano.ana.it
SUMMARY:Assemblea Gruppo Cologno Monzese
DESCRIPTION:
URL:https://www.milano.ana.it/event/assemblea-gruppo-cologno-monzese/
CATEGORIES:Eventi dei Gruppi
END:VEVENT
BEGIN:VEVENT
DTSTART;TZID=Europe/Paris:20240128T100000
DTEND;TZID=Europe/Paris:20240128T120000
DTSTAMP:20260420T235232
CREATED:20231130T163231Z
LAST-MODIFIED:20231130T163231Z
UID:7099-1706436000-1706443200@www.milano.ana.it
SUMMARY:Rho - Assemblea di Gruppo
DESCRIPTION:DA CONFERMARE !
URL:https://www.milano.ana.it/event/rho-assemblea-di-gruppo-5/
CATEGORIES:Eventi dei Gruppi
END:VEVENT
BEGIN:VEVENT
DTSTART;TZID=Europe/Paris:20240128T093000
DTEND;TZID=Europe/Paris:20240128T120000
DTSTAMP:20260420T235232
CREATED:20240109T174637Z
LAST-MODIFIED:20240109T174637Z
UID:7146-1706434200-1706443200@www.milano.ana.it
SUMMARY:Assemblea Gruppo Cassano d'Adda
DESCRIPTION:
URL:https://www.milano.ana.it/event/assemblea-gruppo-cassano-dadda-2/
CATEGORIES:Eventi dei Gruppi
END:VEVENT
END:VCALENDAR