BEGIN:VCALENDAR
VERSION:2.0
PRODID:-//Associazione Nazionale Alpini - Sezione di Milano - ECPv6.10.2//NONSGML v1.0//EN
CALSCALE:GREGORIAN
METHOD:PUBLISH
X-WR-CALNAME:Associazione Nazionale Alpini - Sezione di Milano
X-ORIGINAL-URL:https://www.milano.ana.it
X-WR-CALDESC:Eventi per Associazione Nazionale Alpini - Sezione di Milano
REFRESH-INTERVAL;VALUE=DURATION:PT1H
X-Robots-Tag:noindex
X-PUBLISHED-TTL:PT1H
BEGIN:VTIMEZONE
TZID:Europe/Paris
BEGIN:DAYLIGHT
TZOFFSETFROM:+0100
TZOFFSETTO:+0200
TZNAME:CEST
DTSTART:20170326T010000
END:DAYLIGHT
BEGIN:STANDARD
TZOFFSETFROM:+0200
TZOFFSETTO:+0100
TZNAME:CET
DTSTART:20171029T010000
END:STANDARD
BEGIN:DAYLIGHT
TZOFFSETFROM:+0100
TZOFFSETTO:+0200
TZNAME:CEST
DTSTART:20180325T010000
END:DAYLIGHT
BEGIN:STANDARD
TZOFFSETFROM:+0200
TZOFFSETTO:+0100
TZNAME:CET
DTSTART:20181028T010000
END:STANDARD
END:VTIMEZONE
BEGIN:VEVENT
DTSTART;VALUE=DATE:20181020
DTEND;VALUE=DATE:20181022
DTSTAMP:20260423T003422
CREATED:20181129T234841Z
LAST-MODIFIED:20181129T234841Z
UID:3695-1539993600-1540166399@www.milano.ana.it
SUMMARY:Raduno 2° Raggruppamento - Mariano Comense
DESCRIPTION:
URL:https://www.milano.ana.it/event/raduno-2-raggruppamento-mariano-comense/
CATEGORIES:Eventi Nazionali
END:VEVENT
BEGIN:VEVENT
DTSTART;VALUE=DATE:20181013
DTEND;VALUE=DATE:20181015
DTSTAMP:20260423T003422
CREATED:20181129T234927Z
LAST-MODIFIED:20181129T234927Z
UID:3697-1539388800-1539561599@www.milano.ana.it
SUMMARY:Raduno 1° Raggruppamento - Vercelli
DESCRIPTION:
URL:https://www.milano.ana.it/event/raduno-1-raggruppamento-vercelli/
CATEGORIES:Eventi Nazionali
END:VEVENT
BEGIN:VEVENT
DTSTART;TZID=Europe/Paris:20181008T210000
DTEND;TZID=Europe/Paris:20181008T230000
DTSTAMP:20260423T003422
CREATED:20181202T230235Z
LAST-MODIFIED:20181202T230235Z
UID:3717-1539032400-1539039600@www.milano.ana.it
SUMMARY:Riunione Capigruppo - Sedi decentrate
DESCRIPTION:
URL:https://www.milano.ana.it/event/riunione-capigruppo-sedi-decentrate/
CATEGORIES:Eventi Sezionali
END:VEVENT
BEGIN:VEVENT
DTSTART;VALUE=DATE:20181007
DTEND;VALUE=DATE:20181008
DTSTAMP:20260423T003422
CREATED:20181202T230311Z
LAST-MODIFIED:20181202T230311Z
UID:3719-1538870400-1538956799@www.milano.ana.it
SUMMARY:Pellegrinaggio al Sacrario Mil. Caduti d'Oltremare
DESCRIPTION:
URL:https://www.milano.ana.it/event/pellegrinaggio-al-sacrario-mil-caduti-doltremare/
CATEGORIES:Eventi Nazionali
END:VEVENT
BEGIN:VEVENT
DTSTART;TZID=Europe/Paris:20181001T080000
DTEND;TZID=Europe/Paris:20181001T170000
DTSTAMP:20260423T003422
CREATED:20181202T230400Z
LAST-MODIFIED:20181202T230400Z
UID:3721-1538380800-1538413200@www.milano.ana.it
SUMMARY:Consiglio sezionale
DESCRIPTION:
URL:https://www.milano.ana.it/event/consiglio-sezionale/
LOCATION:Sede sezione\, Via Vincenzo Monti\, 36\, Milano\, 20123\, Italia
CATEGORIES:Eventi Sezionali
ATTACH;FMTTYPE=image/jpeg:https://www.milano.ana.it/wp-content/uploads/2018/04/CDS-Milano-2018-1.jpg
END:VEVENT
BEGIN:VEVENT
DTSTART;VALUE=DATE:20180930
DTEND;VALUE=DATE:20181001
DTSTAMP:20260423T003422
CREATED:20181202T230436Z
LAST-MODIFIED:20181202T230436Z
UID:3723-1538265600-1538351999@www.milano.ana.it
SUMMARY:Perinaledo 3° Camp. Naz. ANA Mountain Bike
DESCRIPTION:
URL:https://www.milano.ana.it/event/perinaledo-3-camp-naz-ana-mountain-bike/
CATEGORIES:Eventi Nazionali
END:VEVENT
BEGIN:VEVENT
DTSTART;VALUE=DATE:20180929
DTEND;VALUE=DATE:20181001
DTSTAMP:20260423T003422
CREATED:20181202T230530Z
LAST-MODIFIED:20181202T230530Z
UID:3725-1538179200-1538351999@www.milano.ana.it
SUMMARY:Festa Alpina sezionale d'Autunno
DESCRIPTION:
URL:https://www.milano.ana.it/event/festa-alpina-sezionale-dautunno/
ATTACH;FMTTYPE=image/jpeg:https://www.milano.ana.it/wp-content/uploads/2018/09/festa-autunno-2018-5.jpg
END:VEVENT
BEGIN:VEVENT
DTSTART;VALUE=DATE:20180922
DTEND;VALUE=DATE:20180923
DTSTAMP:20260423T003422
CREATED:20181202T230757Z
LAST-MODIFIED:20181202T231340Z
UID:3729-1537574400-1537660799@www.milano.ana.it
SUMMARY:San Maurizio Patrono degli Alpini
DESCRIPTION:
URL:https://www.milano.ana.it/event/san-maurizio-patrono-degli-alpini/
CATEGORIES:Eventi Nazionali
ATTACH;FMTTYPE=image/jpeg:https://www.milano.ana.it/wp-content/uploads/2018/12/san-maurizio.jpg
END:VEVENT
BEGIN:VEVENT
DTSTART;VALUE=DATE:20180922
DTEND;VALUE=DATE:20180924
DTSTAMP:20260423T003422
CREATED:20181202T230607Z
LAST-MODIFIED:20181202T230607Z
UID:3727-1537574400-1537747199@www.milano.ana.it
SUMMARY:Raduno Fanfare Alpine a Bologna
DESCRIPTION:
URL:https://www.milano.ana.it/event/raduno-fanfare-alpine-a-bologna/
CATEGORIES:Eventi Nazionali
END:VEVENT
BEGIN:VEVENT
DTSTART;TZID=Europe/Paris:20180910T210000
DTEND;TZID=Europe/Paris:20180910T230000
DTSTAMP:20260423T003422
CREATED:20181202T231214Z
LAST-MODIFIED:20181202T231327Z
UID:3732-1536613200-1536620400@www.milano.ana.it
SUMMARY:Riunione Capigruppo - Sede sezionale
DESCRIPTION:
URL:https://www.milano.ana.it/event/riunione-capigruppo-sede-sezionale/
LOCATION:Sede sezione\, Via Vincenzo Monti\, 36\, Milano\, 20123\, Italia
CATEGORIES:Eventi Sezionali
END:VEVENT
BEGIN:VEVENT
DTSTART;VALUE=DATE:20180909
DTEND;VALUE=DATE:20180910
DTSTAMP:20260423T003422
CREATED:20181202T231250Z
LAST-MODIFIED:20181202T231250Z
UID:3734-1536451200-1536537599@www.milano.ana.it
SUMMARY:60° pellegrinaggio al Monte Bernadia
DESCRIPTION:
URL:https://www.milano.ana.it/event/60-pellegrinaggio-al-monte-bernadia/
CATEGORIES:Eventi Nazionali
END:VEVENT
BEGIN:VEVENT
DTSTART;TZID=Europe/Paris:20180903T210000
DTEND;TZID=Europe/Paris:20180903T230000
DTSTAMP:20260423T003422
CREATED:20181202T231645Z
LAST-MODIFIED:20181202T231645Z
UID:3738-1536008400-1536015600@www.milano.ana.it
SUMMARY:Consiglio sezionale
DESCRIPTION:
URL:https://www.milano.ana.it/event/consiglio-sezionale-2/
LOCATION:Sede sezione\, Via Vincenzo Monti\, 36\, Milano\, 20123\, Italia
CATEGORIES:Eventi Sezionali
ATTACH;FMTTYPE=image/jpeg:https://www.milano.ana.it/wp-content/uploads/2018/04/CDS-Milano-2018-1.jpg
END:VEVENT
BEGIN:VEVENT
DTSTART;VALUE=DATE:20180901
DTEND;VALUE=DATE:20180902
DTSTAMP:20260423T003422
CREATED:20181202T231529Z
LAST-MODIFIED:20181202T231529Z
UID:3736-1535760000-1535846399@www.milano.ana.it
SUMMARY:Pellegrinaggio Monte Pasubio
DESCRIPTION:
URL:https://www.milano.ana.it/event/pellegrinaggio-monte-pasubio/
CATEGORIES:Eventi Nazionali
END:VEVENT
BEGIN:VEVENT
DTSTART;VALUE=DATE:20180113
DTEND;VALUE=DATE:20180115
DTSTAMP:20260423T003422
CREATED:20171128T221459Z
LAST-MODIFIED:20171128T221459Z
UID:2250-1515805200-1515891599@www.milano.ana.it
SUMMARY:VIGEVANO - Beatificazione di Teresio Olivelli
DESCRIPTION:
URL:https://www.milano.ana.it/event/vigevano-beatificazione-di-teresio-olivelli/
CATEGORIES:Eventi Sezionali
END:VEVENT
BEGIN:VEVENT
DTSTART;VALUE=DATE:20180113
DTEND;VALUE=DATE:20180115
DTSTAMP:20260423T003422
CREATED:20171128T221359Z
LAST-MODIFIED:20171128T221359Z
UID:2248-1515805200-1515891599@www.milano.ana.it
SUMMARY:LODI - Assemblea di Gruppo
DESCRIPTION:
URL:https://www.milano.ana.it/event/lodi-assemblea-di-gruppo/
CATEGORIES:Eventi dei Gruppi
END:VEVENT
BEGIN:VEVENT
DTSTART;VALUE=DATE:20180112
DTEND;VALUE=DATE:20180114
DTSTAMP:20260423T003422
CREATED:20171128T221239Z
LAST-MODIFIED:20171128T221239Z
UID:2246-1515718800-1515805199@www.milano.ana.it
SUMMARY:CERIANO LAGHETTO - Assemblea di Gruppo
DESCRIPTION:
URL:https://www.milano.ana.it/event/ceriano-laghetto-assemblea-di-gruppo/
CATEGORIES:Eventi dei Gruppi
END:VEVENT
BEGIN:VEVENT
DTSTART;VALUE=DATE:20180112
DTEND;VALUE=DATE:20180114
DTSTAMP:20260423T003422
CREATED:20171128T221200Z
LAST-MODIFIED:20171128T221200Z
UID:2244-1515718800-1515805199@www.milano.ana.it
SUMMARY:LACCHIARELLA - Assemblea di Gruppo
DESCRIPTION:
URL:https://www.milano.ana.it/event/lacchiarella-assemblea-di-gruppo/
CATEGORIES:Eventi dei Gruppi
END:VEVENT
BEGIN:VEVENT
DTSTART;TZID=Europe/Paris:20180108T220000
DTEND;TZID=Europe/Paris:20180109T000000
DTSTAMP:20260423T003422
CREATED:20171128T221104Z
LAST-MODIFIED:20171202T084525Z
UID:2242-1515448800-1515456000@www.milano.ana.it
SUMMARY:MILANO - Riunione Consiglio sezionale
DESCRIPTION:
URL:https://www.milano.ana.it/event/milano-riunione-consiglio-sezionale-3/
LOCATION:Sede sezione\, Via Vincenzo Monti\, 36\, Milano\, 20123\, Italia
CATEGORIES:Eventi Sezionali
END:VEVENT
BEGIN:VEVENT
DTSTART;VALUE=DATE:20180104
DTEND;VALUE=DATE:20180106
DTSTAMP:20260423T003422
CREATED:20171128T220905Z
LAST-MODIFIED:20171128T220905Z
UID:2240-1515027600-1515113999@www.milano.ana.it
SUMMARY:LEGNANO - Assemblea di Gruppo
DESCRIPTION:
URL:https://www.milano.ana.it/event/legnano-assemblea-di-gruppo/
CATEGORIES:Eventi dei Gruppi
END:VEVENT
BEGIN:VEVENT
DTSTART;TZID=Europe/Paris:20171213T220000
DTEND;TZID=Europe/Paris:20171214T000000
DTSTAMP:20260423T003422
CREATED:20171128T215906Z
LAST-MODIFIED:20171128T220647Z
UID:2238-1513202400-1513209600@www.milano.ana.it
SUMMARY:MILANO - Scambio di auguri in sede sezionale
DESCRIPTION:
URL:https://www.milano.ana.it/event/milano-scambio-di-auguri-in-sede-sezionale/
LOCATION:Sede sezione\, Via Vincenzo Monti\, 36\, Milano\, 20123\, Italia
CATEGORIES:Eventi Sezionali
END:VEVENT
BEGIN:VEVENT
DTSTART;TZID=Europe/Paris:20171212T220000
DTEND;TZID=Europe/Paris:20171213T000000
DTSTAMP:20260423T003422
CREATED:20171128T215815Z
LAST-MODIFIED:20171128T215815Z
UID:2236-1513116000-1513123200@www.milano.ana.it
SUMMARY:MILANO - Riunione Capigruppo e Consiglieri
DESCRIPTION:
URL:https://www.milano.ana.it/event/milano-riunione-capigruppo-e-consiglieri/
LOCATION:Sede sezione\, Via Vincenzo Monti\, 36\, Milano\, 20123\, Italia
CATEGORIES:Eventi Sezionali
END:VEVENT
BEGIN:VEVENT
DTSTART;TZID=Europe/Paris:20171210T100000
DTEND;TZID=Europe/Paris:20171210T133000
DTSTAMP:20260423T003422
CREATED:20171128T215601Z
LAST-MODIFIED:20171202T084555Z
UID:2233-1512900000-1512912600@www.milano.ana.it
SUMMARY:MILANO - S.Messa in Duomo "per non dimenticare"
DESCRIPTION:
URL:https://www.milano.ana.it/event/milano-s-messa-in-duomo-per-non-dimenticare/
LOCATION:Duomo di Milano\, Piazza Duomo\, Milano\, Italia
CATEGORIES:Eventi Nazionali,Eventi Sezionali
END:VEVENT
BEGIN:VEVENT
DTSTART;TZID=Europe/Paris:20171204T220000
DTEND;TZID=Europe/Paris:20171205T000000
DTSTAMP:20260423T003422
CREATED:20171128T215404Z
LAST-MODIFIED:20171202T084446Z
UID:2231-1512424800-1512432000@www.milano.ana.it
SUMMARY:MILANO - Riunione Consiglio sezionale
DESCRIPTION:
URL:https://www.milano.ana.it/event/milano-riunione-consiglio-sezionale-2/
LOCATION:Sede sezione\, Via Vincenzo Monti\, 36\, Milano\, 20123\, Italia
CATEGORIES:Eventi Sezionali
END:VEVENT
BEGIN:VEVENT
DTSTART;VALUE=DATE:20171202
DTEND;VALUE=DATE:20171204
DTSTAMP:20260423T003422
CREATED:20171128T215203Z
LAST-MODIFIED:20171128T215310Z
UID:2229-1512176400-1512262799@www.milano.ana.it
SUMMARY:UNITA' P.C. - Assemblea di Gruppo
DESCRIPTION:
URL:https://www.milano.ana.it/event/unita-p-c-assemblea-di-gruppo/
CATEGORIES:Eventi Protezione Civile
END:VEVENT
BEGIN:VEVENT
DTSTART;VALUE=DATE:20171201
DTEND;VALUE=DATE:20171203
DTSTAMP:20260423T003422
CREATED:20171128T215102Z
LAST-MODIFIED:20171128T215102Z
UID:2227-1512090000-1512176399@www.milano.ana.it
SUMMARY:SAN VITTORE OLONA - Assemblea di Gruppo
DESCRIPTION:
URL:https://www.milano.ana.it/event/san-vittore-olona-assemblea-di-gruppo/
CATEGORIES:Eventi dei Gruppi
END:VEVENT
BEGIN:VEVENT
DTSTART;VALUE=DATE:20171125
DTEND;VALUE=DATE:20171127
DTSTAMP:20260423T003422
CREATED:20171023T152428Z
LAST-MODIFIED:20171023T152428Z
UID:1869-1511571600-1511657999@www.milano.ana.it
SUMMARY:MAGENTA - Assemblea di Gruppo
DESCRIPTION:
URL:https://www.milano.ana.it/event/magenta-assemblea-di-gruppo/
CATEGORIES:Eventi dei Gruppi
END:VEVENT
BEGIN:VEVENT
DTSTART;VALUE=DATE:20171119
DTEND;VALUE=DATE:20171121
DTSTAMP:20260423T003422
CREATED:20171023T152118Z
LAST-MODIFIED:20171023T152142Z
UID:1863-1511053200-1511139599@www.milano.ana.it
SUMMARY:CESANO MADERNO - Assemblea di Gruppo
DESCRIPTION:
URL:https://www.milano.ana.it/event/cesano-maderno-assemblea-di-gruppo/
CATEGORIES:Eventi dei Gruppi
END:VEVENT
BEGIN:VEVENT
DTSTART;TZID=Europe/Paris:20171112T090000
DTEND;TZID=Europe/Paris:20171112T180000
DTSTAMP:20260423T003422
CREATED:20171023T152027Z
LAST-MODIFIED:20171023T152027Z
UID:1861-1510477200-1510509600@www.milano.ana.it
SUMMARY:Riunione Capigruppo in sede sezionale
DESCRIPTION:
URL:https://www.milano.ana.it/event/riunione-capigruppo-in-sede-sezionale/
LOCATION:Sede sezione\, Via Vincenzo Monti\, 36\, Milano\, 20123\, Italia
CATEGORIES:Eventi Sezionali
END:VEVENT
BEGIN:VEVENT
DTSTART;VALUE=DATE:20171112
DTEND;VALUE=DATE:20171114
DTSTAMP:20260423T003422
CREATED:20171023T151949Z
LAST-MODIFIED:20171023T152152Z
UID:1859-1510448400-1510534799@www.milano.ana.it
SUMMARY:CORSICO - Assemblea di Gruppo
DESCRIPTION:
URL:https://www.milano.ana.it/event/corsico-assemblea-di-gruppo/
CATEGORIES:Eventi dei Gruppi
END:VEVENT
BEGIN:VEVENT
DTSTART;VALUE=DATE:20171111
DTEND;VALUE=DATE:20171113
DTSTAMP:20260423T003422
CREATED:20171023T151914Z
LAST-MODIFIED:20171023T152158Z
UID:1857-1510362000-1510448399@www.milano.ana.it
SUMMARY:CASTANO PRIMO - Assemblea di Gruppo
DESCRIPTION:
URL:https://www.milano.ana.it/event/castano-primo-assemblea-di-gruppo/
CATEGORIES:Eventi dei Gruppi
END:VEVENT
END:VCALENDAR