BEGIN:VCALENDAR
VERSION:2.0
PRODID:-//Associazione Nazionale Alpini - Sezione di Milano - ECPv6.10.2//NONSGML v1.0//EN
CALSCALE:GREGORIAN
METHOD:PUBLISH
X-WR-CALNAME:Associazione Nazionale Alpini - Sezione di Milano
X-ORIGINAL-URL:https://www.milano.ana.it
X-WR-CALDESC:Eventi per Associazione Nazionale Alpini - Sezione di Milano
REFRESH-INTERVAL;VALUE=DURATION:PT1H
X-Robots-Tag:noindex
X-PUBLISHED-TTL:PT1H
BEGIN:VTIMEZONE
TZID:Europe/Paris
BEGIN:DAYLIGHT
TZOFFSETFROM:+0100
TZOFFSETTO:+0200
TZNAME:CEST
DTSTART:20190331T010000
END:DAYLIGHT
BEGIN:STANDARD
TZOFFSETFROM:+0200
TZOFFSETTO:+0100
TZNAME:CET
DTSTART:20191027T010000
END:STANDARD
END:VTIMEZONE
BEGIN:VEVENT
DTSTART;TZID=Europe/Paris:20190211T210000
DTEND;TZID=Europe/Paris:20190211T210000
DTSTAMP:20260423T101910
CREATED:20181228T153244Z
LAST-MODIFIED:20181228T153244Z
UID:3814-1549918800-1549918800@www.milano.ana.it
SUMMARY:Riunione Capi Gruppo
DESCRIPTION:
URL:https://www.milano.ana.it/event/riunione-capi-gruppo-2/
CATEGORIES:Eventi Sezionali
END:VEVENT
BEGIN:VEVENT
DTSTART;TZID=Europe/Paris:20190210T090000
DTEND;TZID=Europe/Paris:20190210T120000
DTSTAMP:20260423T101910
CREATED:20181128T235723Z
LAST-MODIFIED:20181128T235723Z
UID:3603-1549789200-1549800000@www.milano.ana.it
SUMMARY:Assemblea del Gruppo di Agrate Brianza
DESCRIPTION:
URL:https://www.milano.ana.it/event/assemblea-del-gruppo-di-agrate-brianza/
CATEGORIES:Eventi dei Gruppi
END:VEVENT
BEGIN:VEVENT
DTSTART;TZID=Europe/Paris:20190207T210000
DTEND;TZID=Europe/Paris:20190207T223000
DTSTAMP:20260423T101910
CREATED:20181129T230513Z
LAST-MODIFIED:20181129T230513Z
UID:3621-1549573200-1549578600@www.milano.ana.it
SUMMARY:Assemblea del Gruppo di Bareggio
DESCRIPTION:
URL:https://www.milano.ana.it/event/assemblea-del-gruppo-di-bareggio-2/
CATEGORIES:Eventi dei Gruppi
END:VEVENT
BEGIN:VEVENT
DTSTART;TZID=Europe/Paris:20190206T210000
DTEND;TZID=Europe/Paris:20190206T210000
DTSTAMP:20260423T101910
CREATED:20190118T143508Z
LAST-MODIFIED:20190118T144102Z
UID:3837-1549486800-1549486800@www.milano.ana.it
SUMMARY:Assemblea del Gruppo di Brugherio
DESCRIPTION:
URL:https://www.milano.ana.it/event/assemblea-del-gruppo-di-brugherio/
CATEGORIES:Eventi dei Gruppi
END:VEVENT
BEGIN:VEVENT
DTSTART;TZID=Europe/Paris:20190204T210000
DTEND;TZID=Europe/Paris:20190204T210000
DTSTAMP:20260423T101910
CREATED:20181228T152520Z
LAST-MODIFIED:20181228T152520Z
UID:3808-1549314000-1549314000@www.milano.ana.it
SUMMARY:Riunone Consiglio sezionale
DESCRIPTION:
URL:https://www.milano.ana.it/event/riunone-consiglio-sezionale-4/
CATEGORIES:Eventi Sezionali
END:VEVENT
BEGIN:VEVENT
DTSTART;TZID=Europe/Paris:20190203T210000
DTEND;TZID=Europe/Paris:20190203T223000
DTSTAMP:20260423T101910
CREATED:20181128T235855Z
LAST-MODIFIED:20181128T235855Z
UID:3607-1549227600-1549233000@www.milano.ana.it
SUMMARY:Assemblea del Gruppo di Missaglia
DESCRIPTION:
URL:https://www.milano.ana.it/event/assemblea-del-gruppo-di-missaglia/
CATEGORIES:Eventi dei Gruppi
END:VEVENT
BEGIN:VEVENT
DTSTART;TZID=Europe/Paris:20190201T210000
DTEND;TZID=Europe/Paris:20190201T230000
DTSTAMP:20260423T101910
CREATED:20181129T230641Z
LAST-MODIFIED:20181129T230641Z
UID:3625-1549054800-1549062000@www.milano.ana.it
SUMMARY:Assemblea del Gruppo di Cormano
DESCRIPTION:
URL:https://www.milano.ana.it/event/assemblea-del-gruppo-di-cormano/
CATEGORIES:Eventi dei Gruppi
END:VEVENT
BEGIN:VEVENT
DTSTART;TZID=Europe/Paris:20190131T210000
DTEND;TZID=Europe/Paris:20190131T223000
DTSTAMP:20260423T101910
CREATED:20181129T233005Z
LAST-MODIFIED:20181129T233005Z
UID:3655-1548968400-1548973800@www.milano.ana.it
SUMMARY:Assemblea del Gruppo di Milano Centro
DESCRIPTION:
URL:https://www.milano.ana.it/event/assemblea-del-gruppo-di-milano-centro/
CATEGORIES:Eventi dei Gruppi
END:VEVENT
BEGIN:VEVENT
DTSTART;TZID=Europe/Paris:20190129T210000
DTEND;TZID=Europe/Paris:20190129T223000
DTSTAMP:20260423T101910
CREATED:20181129T233052Z
LAST-MODIFIED:20181129T233052Z
UID:3657-1548795600-1548801000@www.milano.ana.it
SUMMARY:Assemblea del Gruppo di Arese
DESCRIPTION:
URL:https://www.milano.ana.it/event/assemblea-del-gruppo-di-arese/
CATEGORIES:Eventi dei Gruppi
END:VEVENT
BEGIN:VEVENT
DTSTART;TZID=Europe/Paris:20190127T090000
DTEND;TZID=Europe/Paris:20190127T120000
DTSTAMP:20260423T101910
CREATED:20181129T233204Z
LAST-MODIFIED:20181129T233204Z
UID:3661-1548579600-1548590400@www.milano.ana.it
SUMMARY:Assemblea del Gruppo di Bresso
DESCRIPTION:
URL:https://www.milano.ana.it/event/assemblea-del-gruppo-di-bresso/
CATEGORIES:Eventi dei Gruppi
END:VEVENT
BEGIN:VEVENT
DTSTART;TZID=Europe/Paris:20190127T090000
DTEND;TZID=Europe/Paris:20190127T120000
DTSTAMP:20260423T101910
CREATED:20181129T233132Z
LAST-MODIFIED:20181129T233132Z
UID:3659-1548579600-1548590400@www.milano.ana.it
SUMMARY:Assemblea del Gruppo di Limbiate
DESCRIPTION:
URL:https://www.milano.ana.it/event/assemblea-del-gruppo-di-limbiate/
CATEGORIES:Eventi dei Gruppi
END:VEVENT
BEGIN:VEVENT
DTSTART;TZID=Europe/Paris:20190126T210000
DTEND;TZID=Europe/Paris:20190126T230000
DTSTAMP:20260423T101910
CREATED:20181129T231437Z
LAST-MODIFIED:20190118T090240Z
UID:3639-1548536400-1548543600@www.milano.ana.it
SUMMARY:Assemblea del Gruppo di Busto Garolfo
DESCRIPTION:
URL:https://www.milano.ana.it/event/assemblea-del-gruppo-di-busto-garolfo/
CATEGORIES:Eventi dei Gruppi
END:VEVENT
BEGIN:VEVENT
DTSTART;TZID=Europe/Paris:20190126T210000
DTEND;TZID=Europe/Paris:20190126T210000
DTSTAMP:20260423T101910
CREATED:20190118T143622Z
LAST-MODIFIED:20190118T143622Z
UID:3839-1548536400-1548536400@www.milano.ana.it
SUMMARY:Assemblea del Gruppo di Milano Crescenzago
DESCRIPTION:
URL:https://www.milano.ana.it/event/assemblea-del-gruppo-di-milano-crescenzago/
CATEGORIES:Eventi dei Gruppi
END:VEVENT
BEGIN:VEVENT
DTSTART;TZID=Europe/Paris:20190125T210000
DTEND;TZID=Europe/Paris:20190125T230000
DTSTAMP:20260423T101910
CREATED:20181128T230121Z
LAST-MODIFIED:20181128T231414Z
UID:3591-1548450000-1548457200@www.milano.ana.it
SUMMARY:Assemblea del Gruppo di Arconate
DESCRIPTION:
URL:https://www.milano.ana.it/event/assemblea-del-gruppo-di-arconate/
LOCATION:Sede di Arconate\, Via Montello\,1\, Arconate\, Italia
CATEGORIES:Eventi dei Gruppi
END:VEVENT
BEGIN:VEVENT
DTSTART;TZID=Europe/Paris:20190124T210000
DTEND;TZID=Europe/Paris:20190124T223000
DTSTAMP:20260423T101910
CREATED:20181129T233240Z
LAST-MODIFIED:20181129T233240Z
UID:3663-1548363600-1548369000@www.milano.ana.it
SUMMARY:Assemblea del Gruppo di Vimercate
DESCRIPTION:
URL:https://www.milano.ana.it/event/assemblea-del-gruppo-di-vimercate/
CATEGORIES:Eventi dei Gruppi
END:VEVENT
BEGIN:VEVENT
DTSTART;TZID=Europe/Paris:20190120T100000
DTEND;TZID=Europe/Paris:20190120T120000
DTSTAMP:20260423T101910
CREATED:20181128T235340Z
LAST-MODIFIED:20181128T235525Z
UID:3597-1547978400-1547985600@www.milano.ana.it
SUMMARY:Assemblea del Gruppo di Pessano con Bornago
DESCRIPTION:
URL:https://www.milano.ana.it/event/assemblea-del-gruppo-di-pessano-con-bornago/
CATEGORIES:Eventi dei Gruppi
END:VEVENT
BEGIN:VEVENT
DTSTART;TZID=Europe/Paris:20190120T093000
DTEND;TZID=Europe/Paris:20190120T120000
DTSTAMP:20260423T101910
CREATED:20181129T233733Z
LAST-MODIFIED:20181129T233733Z
UID:3675-1547976600-1547985600@www.milano.ana.it
SUMMARY:Assemblea del Gruppo di Cassano d'Adda
DESCRIPTION:
URL:https://www.milano.ana.it/event/assemblea-del-gruppo-di-cassano-dadda/
CATEGORIES:Eventi dei Gruppi
END:VEVENT
BEGIN:VEVENT
DTSTART;TZID=Europe/Paris:20190120T090000
DTEND;TZID=Europe/Paris:20190120T120000
DTSTAMP:20260423T101910
CREATED:20181202T230049Z
LAST-MODIFIED:20181202T230049Z
UID:3715-1547974800-1547985600@www.milano.ana.it
SUMMARY:Assemblea del Gruppo di Melzo
DESCRIPTION:
URL:https://www.milano.ana.it/event/assemblea-del-gruppo-di-melzo-2/
CATEGORIES:Eventi dei Gruppi
END:VEVENT
BEGIN:VEVENT
DTSTART;TZID=Europe/Paris:20190120T090000
DTEND;TZID=Europe/Paris:20190120T120000
DTSTAMP:20260423T101910
CREATED:20181129T230755Z
LAST-MODIFIED:20181129T230755Z
UID:3629-1547974800-1547985600@www.milano.ana.it
SUMMARY:Assemblea del Gruppo di Limito-Pioltello-Segrate
DESCRIPTION:
URL:https://www.milano.ana.it/event/assemblea-del-gruppo-di-limito-pioltello-segrate/
CATEGORIES:Eventi dei Gruppi
END:VEVENT
BEGIN:VEVENT
DTSTART;TZID=Europe/Paris:20190118T210000
DTEND;TZID=Europe/Paris:20190118T210000
DTSTAMP:20260423T101910
CREATED:20181228T144115Z
LAST-MODIFIED:20181228T144115Z
UID:3800-1547845200-1547845200@www.milano.ana.it
SUMMARY:Assemblea del Gruppo di Giussano
DESCRIPTION:
URL:https://www.milano.ana.it/event/assemblea-del-gruppo-di-giussano/
CATEGORIES:Eventi dei Gruppi
END:VEVENT
BEGIN:VEVENT
DTSTART;TZID=Europe/Paris:20190118T204500
DTEND;TZID=Europe/Paris:20190118T204500
DTSTAMP:20260423T101910
CREATED:20181228T144240Z
LAST-MODIFIED:20181228T144240Z
UID:3802-1547844300-1547844300@www.milano.ana.it
SUMMARY:Assemblea del Gruppo di Vaprio d'Adda
DESCRIPTION:
URL:https://www.milano.ana.it/event/assemblea-del-gruppo-di-vaprio-dadda/
CATEGORIES:Eventi dei Gruppi
END:VEVENT
BEGIN:VEVENT
DTSTART;TZID=Europe/Paris:20190117T210000
DTEND;TZID=Europe/Paris:20190117T223000
DTSTAMP:20260423T101910
CREATED:20181129T231516Z
LAST-MODIFIED:20181129T231516Z
UID:3641-1547758800-1547764200@www.milano.ana.it
SUMMARY:Assemblea del Gruppo di Paderno Dugnano
DESCRIPTION:
URL:https://www.milano.ana.it/event/assemblea-del-gruppo-di-paderno-dugnano/
CATEGORIES:Eventi dei Gruppi
END:VEVENT
BEGIN:VEVENT
DTSTART;TZID=Europe/Paris:20190117T210000
DTEND;TZID=Europe/Paris:20190117T210000
DTSTAMP:20260423T101910
CREATED:20181228T143945Z
LAST-MODIFIED:20181228T143945Z
UID:3798-1547758800-1547758800@www.milano.ana.it
SUMMARY:Assemblea del Gruppo di Milano Lorenteggio
DESCRIPTION:
URL:https://www.milano.ana.it/event/assemblea-del-gruppo-di-milano-lorenteggio-2/
CATEGORIES:Eventi dei Gruppi
END:VEVENT
BEGIN:VEVENT
DTSTART;TZID=Europe/Paris:20190114T210000
DTEND;TZID=Europe/Paris:20190114T210000
DTSTAMP:20260423T101910
CREATED:20181228T153147Z
LAST-MODIFIED:20181228T153147Z
UID:3812-1547499600-1547499600@www.milano.ana.it
SUMMARY:Riunione Capi Gruppo
DESCRIPTION:
URL:https://www.milano.ana.it/event/riunione-capi-gruppo/
CATEGORIES:Eventi Sezionali
END:VEVENT
BEGIN:VEVENT
DTSTART;TZID=Europe/Paris:20190113T093000
DTEND;TZID=Europe/Paris:20190113T123000
DTSTAMP:20260423T101910
CREATED:20181129T230829Z
LAST-MODIFIED:20181129T230829Z
UID:3631-1547371800-1547382600@www.milano.ana.it
SUMMARY:Assemblea del Gruppo di Melegnano-Mediglia-V.P.
DESCRIPTION:
URL:https://www.milano.ana.it/event/assemblea-del-gruppo-di-melegnano-mediglia-v-p/
CATEGORIES:Eventi dei Gruppi
END:VEVENT
BEGIN:VEVENT
DTSTART;TZID=Europe/Paris:20190113T090000
DTEND;TZID=Europe/Paris:20190113T120000
DTSTAMP:20260423T101910
CREATED:20181129T230721Z
LAST-MODIFIED:20181129T230721Z
UID:3627-1547370000-1547380800@www.milano.ana.it
SUMMARY:RHO - Assemblea di Gruppo
DESCRIPTION:
URL:https://www.milano.ana.it/event/rho-assemblea-di-gruppo/
CATEGORIES:Eventi dei Gruppi
END:VEVENT
BEGIN:VEVENT
DTSTART;TZID=Europe/Paris:20190112T210000
DTEND;TZID=Europe/Paris:20190112T223000
DTSTAMP:20260423T101910
CREATED:20181129T232649Z
LAST-MODIFIED:20181129T232649Z
UID:3649-1547326800-1547332200@www.milano.ana.it
SUMMARY:Assemblea del Gruppo di Lodi
DESCRIPTION:
URL:https://www.milano.ana.it/event/assemblea-del-gruppo-di-lodi/
CATEGORIES:Eventi dei Gruppi
END:VEVENT
BEGIN:VEVENT
DTSTART;TZID=Europe/Paris:20190111T211500
DTEND;TZID=Europe/Paris:20190111T230000
DTSTAMP:20260423T101910
CREATED:20181129T232128Z
LAST-MODIFIED:20181129T232128Z
UID:3643-1547241300-1547247600@www.milano.ana.it
SUMMARY:Assemblea del Gruppo di Lacchiarella
DESCRIPTION:
URL:https://www.milano.ana.it/event/assemblea-del-gruppo-di-lacchiarella/
CATEGORIES:Eventi dei Gruppi
END:VEVENT
BEGIN:VEVENT
DTSTART;TZID=Europe/Paris:20190111T210000
DTEND;TZID=Europe/Paris:20190111T230000
DTSTAMP:20260423T101910
CREATED:20181128T235607Z
LAST-MODIFIED:20181128T235628Z
UID:3601-1547240400-1547247600@www.milano.ana.it
SUMMARY:Assemblea del Gruppo di Ceriano Laghetto
DESCRIPTION:
URL:https://www.milano.ana.it/event/assemblea-del-gruppo-di-ceriano-laghetto/
CATEGORIES:Eventi dei Gruppi
END:VEVENT
BEGIN:VEVENT
DTSTART;TZID=Europe/Paris:20190110T210000
DTEND;TZID=Europe/Paris:20190110T223000
DTSTAMP:20260423T101910
CREATED:20181129T233322Z
LAST-MODIFIED:20181129T233322Z
UID:3665-1547154000-1547159400@www.milano.ana.it
SUMMARY:Assemblea del Gruppo di Legnano
DESCRIPTION:
URL:https://www.milano.ana.it/event/assemblea-del-gruppo-di-legnano/
CATEGORIES:Eventi dei Gruppi
END:VEVENT
END:VCALENDAR