BEGIN:VCALENDAR
VERSION:2.0
PRODID:-//Associazione Nazionale Alpini - Sezione di Milano - ECPv6.10.2//NONSGML v1.0//EN
CALSCALE:GREGORIAN
METHOD:PUBLISH
X-WR-CALNAME:Associazione Nazionale Alpini - Sezione di Milano
X-ORIGINAL-URL:https://www.milano.ana.it
X-WR-CALDESC:Eventi per Associazione Nazionale Alpini - Sezione di Milano
REFRESH-INTERVAL;VALUE=DURATION:PT1H
X-Robots-Tag:noindex
X-PUBLISHED-TTL:PT1H
BEGIN:VTIMEZONE
TZID:Europe/Paris
BEGIN:DAYLIGHT
TZOFFSETFROM:+0100
TZOFFSETTO:+0200
TZNAME:CEST
DTSTART:20200329T010000
END:DAYLIGHT
BEGIN:STANDARD
TZOFFSETFROM:+0200
TZOFFSETTO:+0100
TZNAME:CET
DTSTART:20201025T010000
END:STANDARD
BEGIN:DAYLIGHT
TZOFFSETFROM:+0100
TZOFFSETTO:+0200
TZNAME:CEST
DTSTART:20210328T010000
END:DAYLIGHT
BEGIN:STANDARD
TZOFFSETFROM:+0200
TZOFFSETTO:+0100
TZNAME:CET
DTSTART:20211031T010000
END:STANDARD
END:VTIMEZONE
BEGIN:VEVENT
DTSTART;TZID=Europe/Paris:20210129T210000
DTEND;TZID=Europe/Paris:20210129T210000
DTSTAMP:20260421T073156
CREATED:20201231T105633Z
LAST-MODIFIED:20201231T105633Z
UID:4976-1611954000-1611954000@www.milano.ana.it
SUMMARY:Assemblea Gruppo Lentate Sul Seveso
DESCRIPTION:
URL:https://www.milano.ana.it/event/assemblea-gruppo-lentate-sul-seveso/
CATEGORIES:Eventi dei Gruppi
END:VEVENT
BEGIN:VEVENT
DTSTART;TZID=Europe/Paris:20210124T093000
DTEND;TZID=Europe/Paris:20210124T120000
DTSTAMP:20260421T073156
CREATED:20201018T195526Z
LAST-MODIFIED:20201018T195526Z
UID:4905-1611480600-1611489600@www.milano.ana.it
SUMMARY:Assemblea Gruppo Cassano d'Adda
DESCRIPTION:
URL:https://www.milano.ana.it/event/assemblea-gruppo-cassano-dadda/
CATEGORIES:Eventi dei Gruppi
END:VEVENT
BEGIN:VEVENT
DTSTART;TZID=Europe/Paris:20210124T090000
DTEND;TZID=Europe/Paris:20210124T120000
DTSTAMP:20260421T073156
CREATED:20201231T105951Z
LAST-MODIFIED:20201231T105951Z
UID:4982-1611478800-1611489600@www.milano.ana.it
SUMMARY:Assemblea Gruppo Ceriano Laghetto
DESCRIPTION:
URL:https://www.milano.ana.it/event/assemblea-gruppo-ceriano-laghetto/
CATEGORIES:Eventi dei Gruppi
END:VEVENT
BEGIN:VEVENT
DTSTART;TZID=Europe/Paris:20210124T090000
DTEND;TZID=Europe/Paris:20210124T120000
DTSTAMP:20260421T073156
CREATED:20201231T105523Z
LAST-MODIFIED:20201231T105523Z
UID:4974-1611478800-1611489600@www.milano.ana.it
SUMMARY:Assemblea Gruppo Melzo
DESCRIPTION:
URL:https://www.milano.ana.it/event/assemblea-gruppo-melzo/
CATEGORIES:Eventi dei Gruppi
END:VEVENT
BEGIN:VEVENT
DTSTART;TZID=Europe/Paris:20210124T090000
DTEND;TZID=Europe/Paris:20210124T120000
DTSTAMP:20260421T073156
CREATED:20201231T105428Z
LAST-MODIFIED:20201231T105428Z
UID:4972-1611478800-1611489600@www.milano.ana.it
SUMMARY:Assemblea Gruppo Limito Pioltello Segrate
DESCRIPTION:
URL:https://www.milano.ana.it/event/assemblea-gruppo-limito-pioltello-segrate/
CATEGORIES:Eventi dei Gruppi
END:VEVENT
BEGIN:VEVENT
DTSTART;TZID=Europe/Paris:20210123T100000
DTEND;TZID=Europe/Paris:20210123T120000
DTSTAMP:20260421T073156
CREATED:20201231T105327Z
LAST-MODIFIED:20201231T105327Z
UID:4970-1611396000-1611403200@www.milano.ana.it
SUMMARY:Assemblea Gruppo Magenta
DESCRIPTION:
URL:https://www.milano.ana.it/event/assemblea-gruppo-magenta-2/
CATEGORIES:Eventi dei Gruppi
END:VEVENT
BEGIN:VEVENT
DTSTART;TZID=Europe/Paris:20210122T210000
DTEND;TZID=Europe/Paris:20210122T230000
DTSTAMP:20260421T073156
CREATED:20201231T105225Z
LAST-MODIFIED:20201231T105225Z
UID:4968-1611349200-1611356400@www.milano.ana.it
SUMMARY:Assemblea Gruppo Vaprio D'Adda
DESCRIPTION:
URL:https://www.milano.ana.it/event/assemblea-gruppo-vaprio-dadda/
CATEGORIES:Eventi dei Gruppi
END:VEVENT
BEGIN:VEVENT
DTSTART;TZID=Europe/Paris:20210122T210000
DTEND;TZID=Europe/Paris:20210122T230000
DTSTAMP:20260421T073156
CREATED:20201231T105125Z
LAST-MODIFIED:20201231T105125Z
UID:4966-1611349200-1611356400@www.milano.ana.it
SUMMARY:Assemblea Gruppo Pessano Con Bornago
DESCRIPTION:
URL:https://www.milano.ana.it/event/assemblea-gruppo-pessano-con-bornago/
CATEGORIES:Eventi dei Gruppi
END:VEVENT
BEGIN:VEVENT
DTSTART;TZID=Europe/Paris:20210121T210000
DTEND;TZID=Europe/Paris:20210121T230000
DTSTAMP:20260421T073156
CREATED:20201231T104939Z
LAST-MODIFIED:20201231T104939Z
UID:4964-1611262800-1611270000@www.milano.ana.it
SUMMARY:Assemblea Gruppo Vimercate
DESCRIPTION:
URL:https://www.milano.ana.it/event/assemblea-gruppo-vimercate/
CATEGORIES:Eventi dei Gruppi
END:VEVENT
BEGIN:VEVENT
DTSTART;TZID=Europe/Paris:20210118T210000
DTEND;TZID=Europe/Paris:20210118T230000
DTSTAMP:20260421T073156
CREATED:20210110T093040Z
LAST-MODIFIED:20210110T093040Z
UID:4992-1611003600-1611010800@www.milano.ana.it
SUMMARY:Riunione Capigruppo Web
DESCRIPTION:
URL:https://www.milano.ana.it/event/riunione-capigruppo-web/
CATEGORIES:Eventi Sezionali
END:VEVENT
BEGIN:VEVENT
DTSTART;TZID=Europe/Paris:20210117T090000
DTEND;TZID=Europe/Paris:20210117T120000
DTSTAMP:20260421T073156
CREATED:20201231T110050Z
LAST-MODIFIED:20201231T110050Z
UID:4984-1610874000-1610884800@www.milano.ana.it
SUMMARY:Assemblea Gruppo Cernusco Sul Naviglio
DESCRIPTION:
URL:https://www.milano.ana.it/event/assemblea-gruppo-cernusco-sul-naviglio/
CATEGORIES:Eventi dei Gruppi
END:VEVENT
BEGIN:VEVENT
DTSTART;TZID=Europe/Paris:20210117T090000
DTEND;TZID=Europe/Paris:20210117T120000
DTSTAMP:20260421T073156
CREATED:20201231T104844Z
LAST-MODIFIED:20201231T104844Z
UID:4962-1610874000-1610884800@www.milano.ana.it
SUMMARY:Assemblea Gruppo Melegnano Mediglia V.P.
DESCRIPTION:
URL:https://www.milano.ana.it/event/assemblea-gruppo-melegnano-mediglia-v-p/
CATEGORIES:Eventi dei Gruppi
END:VEVENT
BEGIN:VEVENT
DTSTART;TZID=Europe/Paris:20210114T210000
DTEND;TZID=Europe/Paris:20210114T230000
DTSTAMP:20260421T073156
CREATED:20201231T104716Z
LAST-MODIFIED:20201231T104716Z
UID:4960-1610658000-1610665200@www.milano.ana.it
SUMMARY:Assemblea Gruppo Paderno Dugnano
DESCRIPTION:
URL:https://www.milano.ana.it/event/assemblea-gruppo-paderno-dugnano/
CATEGORIES:Eventi dei Gruppi
END:VEVENT
BEGIN:VEVENT
DTSTART;TZID=Europe/Paris:20210114T210000
DTEND;TZID=Europe/Paris:20210114T230000
DTSTAMP:20260421T073157
CREATED:20201231T104618Z
LAST-MODIFIED:20201231T104618Z
UID:4958-1610658000-1610665200@www.milano.ana.it
SUMMARY:Assemblea Gruppo Legnano
DESCRIPTION:
URL:https://www.milano.ana.it/event/assemblea-gruppo-legnano/
CATEGORIES:Eventi dei Gruppi
END:VEVENT
BEGIN:VEVENT
DTSTART;TZID=Europe/Paris:20210114T210000
DTEND;TZID=Europe/Paris:20210114T230000
DTSTAMP:20260421T073157
CREATED:20201018T195419Z
LAST-MODIFIED:20201018T195419Z
UID:4903-1610658000-1610665200@www.milano.ana.it
SUMMARY:Assemblea Gruppo Cavenago Brianza
DESCRIPTION:
URL:https://www.milano.ana.it/event/assemblea-gruppo-cavenago-brianza/
CATEGORIES:Eventi dei Gruppi
END:VEVENT
BEGIN:VEVENT
DTSTART;TZID=Europe/Paris:20210111T210000
DTEND;TZID=Europe/Paris:20210111T230000
DTSTAMP:20260421T073157
CREATED:20210110T092944Z
LAST-MODIFIED:20210110T092944Z
UID:4990-1610398800-1610406000@www.milano.ana.it
SUMMARY:Consiglio sezionale Web
DESCRIPTION:
URL:https://www.milano.ana.it/event/consiglio-sezionale-web/
CATEGORIES:Eventi Sezionali
END:VEVENT
BEGIN:VEVENT
DTSTART;TZID=Europe/Paris:20201213T080000
DTEND;TZID=Europe/Paris:20201213T120000
DTSTAMP:20260421T073157
CREATED:20200930T070915Z
LAST-MODIFIED:20200930T070915Z
UID:4871-1607846400-1607860800@www.milano.ana.it
SUMMARY:S.Messa di Natale
DESCRIPTION:
URL:https://www.milano.ana.it/event/s-messa-di-natale/
CATEGORIES:Eventi Nazionali
END:VEVENT
BEGIN:VEVENT
DTSTART;TZID=Europe/Paris:20201130T210000
DTEND;TZID=Europe/Paris:20201130T230000
DTSTAMP:20260421T073157
CREATED:20200930T071324Z
LAST-MODIFIED:20200930T071324Z
UID:4875-1606770000-1606777200@www.milano.ana.it
SUMMARY:Riunione Consiglio sezionale
DESCRIPTION:
URL:https://www.milano.ana.it/event/riunione-consiglio-sezionale-8/
CATEGORIES:Eventi Sezionali
END:VEVENT
BEGIN:VEVENT
DTSTART;TZID=Europe/Paris:20201129T090000
DTEND;TZID=Europe/Paris:20201129T120000
DTSTAMP:20260421T073157
CREATED:20201018T195310Z
LAST-MODIFIED:20201018T195310Z
UID:4901-1606640400-1606651200@www.milano.ana.it
SUMMARY:Assemblea Gruppo Cinisello Balsamo
DESCRIPTION:
URL:https://www.milano.ana.it/event/assemblea-gruppo-cinisello-balsamo/
CATEGORIES:Eventi dei Gruppi
END:VEVENT
BEGIN:VEVENT
DTSTART;VALUE=DATE:20201128
DTEND;VALUE=DATE:20201129
DTSTAMP:20260421T073157
CREATED:20200930T070620Z
LAST-MODIFIED:20200930T070620Z
UID:4867-1606521600-1606607999@www.milano.ana.it
SUMMARY:Raccolta Banco Alimentare
DESCRIPTION:
URL:https://www.milano.ana.it/event/raccolta-banco-alimentare/
CATEGORIES:Eventi dei Gruppi
END:VEVENT
BEGIN:VEVENT
DTSTART;TZID=Europe/Paris:20201122T093000
DTEND;TZID=Europe/Paris:20201122T120000
DTSTAMP:20260421T073157
CREATED:20201018T195159Z
LAST-MODIFIED:20201018T195159Z
UID:4899-1606037400-1606046400@www.milano.ana.it
SUMMARY:Assemblea Gruppo Sesto S.Giovanni
DESCRIPTION:
URL:https://www.milano.ana.it/event/assemblea-gruppo-sesto-s-giovanni/
CATEGORIES:Eventi dei Gruppi
END:VEVENT
BEGIN:VEVENT
DTSTART;TZID=Europe/Paris:20201122T090000
DTEND;TZID=Europe/Paris:20201122T120000
DTSTAMP:20260421T073157
CREATED:20201018T195030Z
LAST-MODIFIED:20201018T195030Z
UID:4897-1606035600-1606046400@www.milano.ana.it
SUMMARY:Assemblea Gruppo Cesano Maderno
DESCRIPTION:
URL:https://www.milano.ana.it/event/assemblea-gruppo-cesano-maderno/
CATEGORIES:Eventi dei Gruppi
END:VEVENT
BEGIN:VEVENT
DTSTART;TZID=Europe/Paris:20201120T210000
DTEND;TZID=Europe/Paris:20201120T230000
DTSTAMP:20260421T073157
CREATED:20201018T194918Z
LAST-MODIFIED:20201018T194918Z
UID:4895-1605906000-1605913200@www.milano.ana.it
SUMMARY:Assemblea Gruppo Lainate
DESCRIPTION:
URL:https://www.milano.ana.it/event/assemblea-gruppo-lainate/
CATEGORIES:Eventi dei Gruppi
END:VEVENT
BEGIN:VEVENT
DTSTART;TZID=Europe/Paris:20201115T103000
DTEND;TZID=Europe/Paris:20201115T120000
DTSTAMP:20260421T073157
CREATED:20201018T194804Z
LAST-MODIFIED:20201018T194804Z
UID:4893-1605436200-1605441600@www.milano.ana.it
SUMMARY:Assemblea Gruppo Corsico
DESCRIPTION:
URL:https://www.milano.ana.it/event/assemblea-gruppo-corsico/
CATEGORIES:Eventi dei Gruppi
END:VEVENT
BEGIN:VEVENT
DTSTART;TZID=Europe/Paris:20201114T210000
DTEND;TZID=Europe/Paris:20201114T230000
DTSTAMP:20260421T073157
CREATED:20200930T071055Z
LAST-MODIFIED:20200930T071055Z
UID:4873-1605387600-1605394800@www.milano.ana.it
SUMMARY:Assemblea Gruppo Magenta
DESCRIPTION:
URL:https://www.milano.ana.it/event/assemblea-gruppo-magenta/
END:VEVENT
BEGIN:VEVENT
DTSTART;TZID=Europe/Paris:20201109T210000
DTEND;TZID=Europe/Paris:20201109T230000
DTSTAMP:20260421T073157
CREATED:20200930T070525Z
LAST-MODIFIED:20200930T070525Z
UID:4865-1604955600-1604962800@www.milano.ana.it
SUMMARY:Riunione Capigruppo
DESCRIPTION:
URL:https://www.milano.ana.it/event/riunione-capigruppo-3/
CATEGORIES:Eventi Sezionali
END:VEVENT
BEGIN:VEVENT
DTSTART;TZID=Europe/Paris:20201107T210000
DTEND;TZID=Europe/Paris:20201107T230000
DTSTAMP:20260421T073157
CREATED:20201018T194641Z
LAST-MODIFIED:20201018T194641Z
UID:4891-1604782800-1604790000@www.milano.ana.it
SUMMARY:Assemblea Gruppo Castano Primo
DESCRIPTION:
URL:https://www.milano.ana.it/event/assemblea-gruppo-castano-primo/
CATEGORIES:Eventi dei Gruppi
END:VEVENT
BEGIN:VEVENT
DTSTART;VALUE=DATE:20201104
DTEND;VALUE=DATE:20201105
DTSTAMP:20260421T073157
CREATED:20200930T070406Z
LAST-MODIFIED:20200930T070406Z
UID:4863-1604448000-1604534399@www.milano.ana.it
SUMMARY:Festa Unità nazionale e Forze Armate
DESCRIPTION:
URL:https://www.milano.ana.it/event/festa-unita-nazionale-e-forze-armate/
CATEGORIES:Eventi Sezionali
END:VEVENT
BEGIN:VEVENT
DTSTART;TZID=Europe/Paris:20201102T210000
DTEND;TZID=Europe/Paris:20201102T230000
DTSTAMP:20260421T073157
CREATED:20200930T070250Z
LAST-MODIFIED:20200930T070250Z
UID:4861-1604350800-1604358000@www.milano.ana.it
SUMMARY:Riunione Consiglio sezionale
DESCRIPTION:
URL:https://www.milano.ana.it/event/riunione-consiglio-sezionale-6/
CATEGORIES:Eventi Sezionali
END:VEVENT
BEGIN:VEVENT
DTSTART;TZID=Europe/Paris:20201031T100000
DTEND;TZID=Europe/Paris:20201031T110000
DTSTAMP:20260421T073157
CREATED:20200930T065914Z
LAST-MODIFIED:20200930T065914Z
UID:4859-1604138400-1604142000@www.milano.ana.it
SUMMARY:S.Messa defunti della Sezione
DESCRIPTION:Deposizione corona al Monumento all’Alpino in piazza Giovanni XXIII a cui segue la S.Messa alle 10:30 presso il vicino Istituto Leone XIII. A seguire pranzo in sede sezionale su prenotazione diretta al gestore (Guido tel. 3925014322)
URL:https://www.milano.ana.it/event/s-messa-defunti-della-sezione/
CATEGORIES:Eventi Sezionali
END:VEVENT
END:VCALENDAR