BEGIN:VCALENDAR
VERSION:2.0
PRODID:-//Associazione Nazionale Alpini - Sezione di Milano - ECPv6.10.2//NONSGML v1.0//EN
CALSCALE:GREGORIAN
METHOD:PUBLISH
X-WR-CALNAME:Associazione Nazionale Alpini - Sezione di Milano
X-ORIGINAL-URL:https://www.milano.ana.it
X-WR-CALDESC:Eventi per Associazione Nazionale Alpini - Sezione di Milano
REFRESH-INTERVAL;VALUE=DURATION:PT1H
X-Robots-Tag:noindex
X-PUBLISHED-TTL:PT1H
BEGIN:VTIMEZONE
TZID:Europe/Paris
BEGIN:DAYLIGHT
TZOFFSETFROM:+0100
TZOFFSETTO:+0200
TZNAME:CEST
DTSTART:20230326T010000
END:DAYLIGHT
BEGIN:STANDARD
TZOFFSETFROM:+0200
TZOFFSETTO:+0100
TZNAME:CET
DTSTART:20231029T010000
END:STANDARD
END:VTIMEZONE
BEGIN:VEVENT
DTSTART;TZID=Europe/Paris:20230202T210000
DTEND;TZID=Europe/Paris:20230202T230000
DTSTAMP:20260423T121748
CREATED:20230119T163021Z
LAST-MODIFIED:20230119T163021Z
UID:6418-1675371600-1675378800@www.milano.ana.it
SUMMARY:Milano Centro - Assemblea di Gruppo
DESCRIPTION:
URL:https://www.milano.ana.it/event/milano-centro-assemblea-di-gruppo-2/
CATEGORIES:Eventi dei Gruppi
END:VEVENT
BEGIN:VEVENT
DTSTART;TZID=Europe/Paris:20230204T140000
DTEND;TZID=Europe/Paris:20230204T180000
DTSTAMP:20260423T121748
CREATED:20221120T104759Z
LAST-MODIFIED:20221120T104759Z
UID:6223-1675519200-1675533600@www.milano.ana.it
SUMMARY:Coro ANA Milano - Assemblea di Gruppo
DESCRIPTION:
URL:https://www.milano.ana.it/event/coro-ana-milano-assemblea-di-gruppo-2/
LOCATION:Sede sezione\, Via Vincenzo Monti\, 36\, Milano\, 20123\, Italia
CATEGORIES:Eventi dei Gruppi
END:VEVENT
BEGIN:VEVENT
DTSTART;TZID=Europe/Paris:20230205T090000
DTEND;TZID=Europe/Paris:20230205T120000
DTSTAMP:20260423T121748
CREATED:20221116T140431Z
LAST-MODIFIED:20221116T140431Z
UID:6215-1675587600-1675598400@www.milano.ana.it
SUMMARY:Agrate Brianza - Assemblea di Gruppo
DESCRIPTION:
URL:https://www.milano.ana.it/event/agrate-brianza-assemblea-di-gruppo-3/
CATEGORIES:Eventi dei Gruppi
END:VEVENT
BEGIN:VEVENT
DTSTART;TZID=Europe/Paris:20230205T090000
DTEND;TZID=Europe/Paris:20230205T120000
DTSTAMP:20260423T121748
CREATED:20221121T154504Z
LAST-MODIFIED:20221121T154504Z
UID:6241-1675587600-1675598400@www.milano.ana.it
SUMMARY:Limbiate - Assemblea di Gruppo
DESCRIPTION:
URL:https://www.milano.ana.it/event/limbiate-assemblea-di-gruppo-3/
CATEGORIES:Eventi dei Gruppi
END:VEVENT
BEGIN:VEVENT
DTSTART;TZID=Europe/Paris:20230205T090000
DTEND;TZID=Europe/Paris:20230205T120000
DTSTAMP:20260423T121748
CREATED:20221129T195646Z
LAST-MODIFIED:20221129T195646Z
UID:6272-1675587600-1675598400@www.milano.ana.it
SUMMARY:Brugherio - Assemblea di Gruppo
DESCRIPTION:
URL:https://www.milano.ana.it/event/brugherio-assemblea-di-gruppo-3/
CATEGORIES:Eventi dei Gruppi
END:VEVENT
BEGIN:VEVENT
DTSTART;TZID=Europe/Paris:20230206T210000
DTEND;TZID=Europe/Paris:20230206T230000
DTSTAMP:20260423T121748
CREATED:20230116T152949Z
LAST-MODIFIED:20230116T152949Z
UID:6359-1675717200-1675724400@www.milano.ana.it
SUMMARY:Milano sede - Riunione Consiglio sezionale
DESCRIPTION:
URL:https://www.milano.ana.it/event/milano-sede-riunione-consiglio-sezionale-2/
CATEGORIES:Eventi Sezionali
END:VEVENT
BEGIN:VEVENT
DTSTART;TZID=Europe/Paris:20230213T210000
DTEND;TZID=Europe/Paris:20230213T230000
DTSTAMP:20260423T121748
CREATED:20230116T153622Z
LAST-MODIFIED:20230116T153622Z
UID:6371-1676322000-1676329200@www.milano.ana.it
SUMMARY:Sedi decentrate - Riunione Capigruppo
DESCRIPTION:
URL:https://www.milano.ana.it/event/sedi-decentrate-riunione-capigruppo/
CATEGORIES:Eventi Sezionali
END:VEVENT
BEGIN:VEVENT
DTSTART;TZID=Europe/Paris:20230218T150000
DTEND;TZID=Europe/Paris:20230218T180000
DTSTAMP:20260423T121748
CREATED:20221227T082643Z
LAST-MODIFIED:20221227T082643Z
UID:6315-1676732400-1676743200@www.milano.ana.it
SUMMARY:Bollate - Assemblea di Gruppo
DESCRIPTION:
URL:https://www.milano.ana.it/event/bollate-assemblea-di-gruppo-3/
CATEGORIES:Eventi dei Gruppi
END:VEVENT
BEGIN:VEVENT
DTSTART;TZID=Europe/Paris:20230226T100000
DTEND;TZID=Europe/Paris:20230226T120000
DTSTAMP:20260423T121748
CREATED:20230119T162932Z
LAST-MODIFIED:20230119T162932Z
UID:6416-1677405600-1677412800@www.milano.ana.it
SUMMARY:Vigevano/Mortara - Assemblea di Gruppo
DESCRIPTION:
URL:https://www.milano.ana.it/event/vigevano-mortara-assemblea-di-gruppo-3/
CATEGORIES:Eventi dei Gruppi
END:VEVENT
END:VCALENDAR