BEGIN:VCALENDAR
VERSION:2.0
PRODID:-//Associazione Nazionale Alpini - Sezione di Milano - ECPv6.10.2//NONSGML v1.0//EN
CALSCALE:GREGORIAN
METHOD:PUBLISH
X-ORIGINAL-URL:https://www.milano.ana.it
X-WR-CALDESC:Eventi per Associazione Nazionale Alpini - Sezione di Milano
REFRESH-INTERVAL;VALUE=DURATION:PT1H
X-Robots-Tag:noindex
X-PUBLISHED-TTL:PT1H
BEGIN:VTIMEZONE
TZID:Europe/Paris
BEGIN:DAYLIGHT
TZOFFSETFROM:+0100
TZOFFSETTO:+0200
TZNAME:CEST
DTSTART:20230326T010000
END:DAYLIGHT
BEGIN:STANDARD
TZOFFSETFROM:+0200
TZOFFSETTO:+0100
TZNAME:CET
DTSTART:20231029T010000
END:STANDARD
END:VTIMEZONE
BEGIN:VEVENT
DTSTART;TZID=Europe/Paris:20230304T140000
DTEND;TZID=Europe/Paris:20230304T180000
DTSTAMP:20260421T155453
CREATED:20230209T094203Z
LAST-MODIFIED:20230209T094203Z
UID:6463-1677938400-1677952800@www.milano.ana.it
SUMMARY:Assemblea Coro ANA Milano
DESCRIPTION:
URL:https://www.milano.ana.it/event/assemblea-coro-ana-milano/
CATEGORIES:Eventi dei Gruppi
END:VEVENT
BEGIN:VEVENT
DTSTART;TZID=Europe/Paris:20230305T090000
DTEND;TZID=Europe/Paris:20230305T120000
DTSTAMP:20260421T155453
CREATED:20230116T155609Z
LAST-MODIFIED:20230116T155609Z
UID:6383-1678006800-1678017600@www.milano.ana.it
SUMMARY:Milano - Assemblea sezionale
DESCRIPTION:
URL:https://www.milano.ana.it/event/milano-assemblea-sezionale-3/
CATEGORIES:Eventi Sezionali
END:VEVENT
BEGIN:VEVENT
DTSTART;TZID=Europe/Paris:20230306T210000
DTEND;TZID=Europe/Paris:20230306T230000
DTSTAMP:20260421T155453
CREATED:20230116T153048Z
LAST-MODIFIED:20230116T153048Z
UID:6361-1678136400-1678143600@www.milano.ana.it
SUMMARY:Milano sede - Riunione Consiglio sezionale
DESCRIPTION:
URL:https://www.milano.ana.it/event/milano-sede-riunione-consiglio-sezionale-3/
CATEGORIES:Eventi Sezionali
END:VEVENT
BEGIN:VEVENT
DTSTART;TZID=Europe/Paris:20230313T210000
DTEND;TZID=Europe/Paris:20230313T230000
DTSTAMP:20260421T155453
CREATED:20230116T153752Z
LAST-MODIFIED:20230116T153752Z
UID:6373-1678741200-1678748400@www.milano.ana.it
SUMMARY:Riunione Capigruppo - modalità da definire
DESCRIPTION:
URL:https://www.milano.ana.it/event/riunione-capigruppo-modalita-da-definire/
CATEGORIES:Eventi Sezionali
END:VEVENT
BEGIN:VEVENT
DTSTART;VALUE=DATE:20230319
DTEND;VALUE=DATE:20230320
DTSTAMP:20260421T155453
CREATED:20230116T161444Z
LAST-MODIFIED:20230116T161444Z
UID:6401-1679184000-1679270399@www.milano.ana.it
SUMMARY:Pavia - Centenario della Sezione
DESCRIPTION:
URL:https://www.milano.ana.it/event/pavia-centenario-della-sezione-2/
CATEGORIES:Eventi Sezionali
END:VEVENT
END:VCALENDAR