BEGIN:VCALENDAR
VERSION:2.0
PRODID:-//Associazione Nazionale Alpini - Sezione di Milano - ECPv6.10.2//NONSGML v1.0//EN
CALSCALE:GREGORIAN
METHOD:PUBLISH
X-ORIGINAL-URL:https://www.milano.ana.it
X-WR-CALDESC:Eventi per Associazione Nazionale Alpini - Sezione di Milano
REFRESH-INTERVAL;VALUE=DURATION:PT1H
X-Robots-Tag:noindex
X-PUBLISHED-TTL:PT1H
BEGIN:VTIMEZONE
TZID:Europe/Paris
BEGIN:DAYLIGHT
TZOFFSETFROM:+0100
TZOFFSETTO:+0200
TZNAME:CEST
DTSTART:20230326T010000
END:DAYLIGHT
BEGIN:STANDARD
TZOFFSETFROM:+0200
TZOFFSETTO:+0100
TZNAME:CET
DTSTART:20231029T010000
END:STANDARD
END:VTIMEZONE
BEGIN:VEVENT
DTSTART;TZID=Europe/Paris:20231201T210000
DTEND;TZID=Europe/Paris:20231201T230000
DTSTAMP:20260421T110233
CREATED:20231130T163324Z
LAST-MODIFIED:20231130T163324Z
UID:7101-1701464400-1701471600@www.milano.ana.it
SUMMARY:S.Vittore Olona - Assemblea di Gruppo
DESCRIPTION:
URL:https://www.milano.ana.it/event/s-vittore-olona-assemblea-di-gruppo-2/
CATEGORIES:Eventi dei Gruppi
END:VEVENT
BEGIN:VEVENT
DTSTART;TZID=Europe/Paris:20231204T210000
DTEND;TZID=Europe/Paris:20231204T230000
DTSTAMP:20260421T110233
CREATED:20231004T155744Z
LAST-MODIFIED:20231004T155744Z
UID:6937-1701723600-1701730800@www.milano.ana.it
SUMMARY:Milano sede - Riunione Consiglieri e Capigruppo
DESCRIPTION:
URL:https://www.milano.ana.it/event/milano-sede-riunione-consiglieri-e-capigruppo/
CATEGORIES:Eventi Sezionali
END:VEVENT
BEGIN:VEVENT
DTSTART;TZID=Europe/Paris:20231210T080000
DTEND;TZID=Europe/Paris:20231210T120000
DTSTAMP:20260421T110233
CREATED:20231004T155858Z
LAST-MODIFIED:20231004T155858Z
UID:6939-1702195200-1702209600@www.milano.ana.it
SUMMARY:Milano - S.Messa in Duomo
DESCRIPTION:
URL:https://www.milano.ana.it/event/milano-s-messa-in-duomo/
CATEGORIES:Eventi Nazionali
END:VEVENT
BEGIN:VEVENT
DTSTART;TZID=Europe/Paris:20231213T210000
DTEND;TZID=Europe/Paris:20231213T230000
DTSTAMP:20260421T110233
CREATED:20231004T155959Z
LAST-MODIFIED:20231004T155959Z
UID:6941-1702501200-1702508400@www.milano.ana.it
SUMMARY:Milano sede - Scambio di auguri
DESCRIPTION:
URL:https://www.milano.ana.it/event/milano-sede-scambio-di-auguri/
CATEGORIES:Eventi Sezionali
END:VEVENT
END:VCALENDAR