BEGIN:VCALENDAR
VERSION:2.0
PRODID:-//Associazione Nazionale Alpini - Sezione di Milano - ECPv6.10.2//NONSGML v1.0//EN
CALSCALE:GREGORIAN
METHOD:PUBLISH
X-ORIGINAL-URL:https://www.milano.ana.it
X-WR-CALDESC:Eventi per Associazione Nazionale Alpini - Sezione di Milano
REFRESH-INTERVAL;VALUE=DURATION:PT1H
X-Robots-Tag:noindex
X-PUBLISHED-TTL:PT1H
BEGIN:VTIMEZONE
TZID:Europe/Paris
BEGIN:DAYLIGHT
TZOFFSETFROM:+0100
TZOFFSETTO:+0200
TZNAME:CEST
DTSTART:20240331T010000
END:DAYLIGHT
BEGIN:STANDARD
TZOFFSETFROM:+0200
TZOFFSETTO:+0100
TZNAME:CET
DTSTART:20241027T010000
END:STANDARD
END:VTIMEZONE
BEGIN:VEVENT
DTSTART;TZID=Europe/Paris:20240701T210000
DTEND;TZID=Europe/Paris:20240701T230000
DTSTAMP:20260421T160834
CREATED:20240409T152244Z
LAST-MODIFIED:20240409T152244Z
UID:7506-1719867600-1719874800@www.milano.ana.it
SUMMARY:Milano sede: riunione Consiglio sezionale
DESCRIPTION:
URL:https://www.milano.ana.it/event/milano-sede-riunione-consiglio-sezionale-7/
CATEGORIES:Eventi Sezionali
END:VEVENT
BEGIN:VEVENT
DTSTART;VALUE=DATE:20240707
DTEND;VALUE=DATE:20240708
DTSTAMP:20260421T160834
CREATED:20240409T152448Z
LAST-MODIFIED:20240409T152448Z
UID:7508-1720310400-1720396799@www.milano.ana.it
SUMMARY:Col di Nava (IM): 75° raduno solenne al Sacrario della Cuneense
DESCRIPTION:
URL:https://www.milano.ana.it/event/col-di-nava-im-75-raduno-solenne-al-sacrario-della-cuneense/
CATEGORIES:Eventi Nazionali
END:VEVENT
BEGIN:VEVENT
DTSTART;VALUE=DATE:20240708
DTEND;VALUE=DATE:20240709
DTSTAMP:20260421T160834
CREATED:20240409T152825Z
LAST-MODIFIED:20240409T152825Z
UID:7512-1720396800-1720483199@www.milano.ana.it
SUMMARY:104° anniversario fondazione ANA
DESCRIPTION:
URL:https://www.milano.ana.it/event/104-anniversario-fondazione-ana/
CATEGORIES:Eventi Nazionali
END:VEVENT
BEGIN:VEVENT
DTSTART;TZID=Europe/Paris:20240708T210000
DTEND;TZID=Europe/Paris:20240708T230000
DTSTAMP:20260421T160834
CREATED:20240409T152638Z
LAST-MODIFIED:20240409T152638Z
UID:7510-1720472400-1720479600@www.milano.ana.it
SUMMARY:Milano sede: riunione Capigruppo
DESCRIPTION:
URL:https://www.milano.ana.it/event/milano-sede-riunione-capigruppo-4/
CATEGORIES:Eventi Sezionali
END:VEVENT
BEGIN:VEVENT
DTSTART;VALUE=DATE:20240714
DTEND;VALUE=DATE:20240715
DTSTAMP:20260421T160834
CREATED:20240409T152924Z
LAST-MODIFIED:20240409T152924Z
UID:7514-1720915200-1721001599@www.milano.ana.it
SUMMARY:Pellegrinaggio solenne in Ortigara
DESCRIPTION:
URL:https://www.milano.ana.it/event/pellegrinaggio-solenne-in-ortigara/
CATEGORIES:Eventi Nazionali
END:VEVENT
BEGIN:VEVENT
DTSTART;VALUE=DATE:20240721
DTEND;VALUE=DATE:20240722
DTSTAMP:20260421T160834
CREATED:20240409T153036Z
LAST-MODIFIED:20240409T153036Z
UID:7516-1721520000-1721606399@www.milano.ana.it
SUMMARY:Premio Fedeltà alla Montagna
DESCRIPTION:
URL:https://www.milano.ana.it/event/premio-fedelta-alla-montagna-2/
CATEGORIES:Eventi Nazionali
END:VEVENT
BEGIN:VEVENT
DTSTART;VALUE=DATE:20240727
DTEND;VALUE=DATE:20240729
DTSTAMP:20260421T160834
CREATED:20240409T153158Z
LAST-MODIFIED:20240409T153158Z
UID:7518-1722038400-1722211199@www.milano.ana.it
SUMMARY:59° pellegrinaggio solenne in Adamello
DESCRIPTION:
URL:https://www.milano.ana.it/event/59-pellegrinaggio-solenne-in-adamello/
CATEGORIES:Eventi Nazionali
END:VEVENT
END:VCALENDAR