BEGIN:VCALENDAR
VERSION:2.0
PRODID:-//Associazione Nazionale Alpini - Sezione di Milano - ECPv6.10.2//NONSGML v1.0//EN
CALSCALE:GREGORIAN
METHOD:PUBLISH
X-ORIGINAL-URL:https://www.milano.ana.it
X-WR-CALDESC:Eventi per Associazione Nazionale Alpini - Sezione di Milano
REFRESH-INTERVAL;VALUE=DURATION:PT1H
X-Robots-Tag:noindex
X-PUBLISHED-TTL:PT1H
BEGIN:VTIMEZONE
TZID:Europe/Paris
BEGIN:DAYLIGHT
TZOFFSETFROM:+0100
TZOFFSETTO:+0200
TZNAME:CEST
DTSTART:20240331T010000
END:DAYLIGHT
BEGIN:STANDARD
TZOFFSETFROM:+0200
TZOFFSETTO:+0100
TZNAME:CET
DTSTART:20241027T010000
END:STANDARD
END:VTIMEZONE
BEGIN:VEVENT
DTSTART;TZID=Europe/Paris:20241104T210000
DTEND;TZID=Europe/Paris:20241104T230000
DTSTAMP:20260421T155529
CREATED:20241003T150707Z
LAST-MODIFIED:20241003T150707Z
UID:7702-1730754000-1730761200@www.milano.ana.it
SUMMARY:Milano sede: Consiglio sezionale
DESCRIPTION:
URL:https://www.milano.ana.it/event/milano-sede-consiglio-sezionale-10/
CATEGORIES:Eventi Sezionali
END:VEVENT
BEGIN:VEVENT
DTSTART;TZID=Europe/Paris:20241108T203000
DTEND;TZID=Europe/Paris:20241108T230000
DTSTAMP:20260421T155529
CREATED:20241017T160054Z
LAST-MODIFIED:20241017T160054Z
UID:7756-1731097800-1731106800@www.milano.ana.it
SUMMARY:Corsico - Assemblea ordinaria del Gruppo
DESCRIPTION:
URL:https://www.milano.ana.it/event/corsico-assemblea-ordinaria-del-gruppo/
CATEGORIES:Eventi dei Gruppi
END:VEVENT
BEGIN:VEVENT
DTSTART;TZID=Europe/Paris:20241108T210000
DTEND;TZID=Europe/Paris:20241108T230000
DTSTAMP:20260421T155529
CREATED:20241017T155538Z
LAST-MODIFIED:20241017T155538Z
UID:7746-1731099600-1731106800@www.milano.ana.it
SUMMARY:Abbiategrasso - Assemblea ordinaria del Gruppo
DESCRIPTION:
URL:https://www.milano.ana.it/event/abbiategrasso-assemblea-ordinaria-del-gruppo/
CATEGORIES:Eventi dei Gruppi
END:VEVENT
BEGIN:VEVENT
DTSTART;TZID=Europe/Paris:20241110T100000
DTEND;TZID=Europe/Paris:20241110T120000
DTSTAMP:20260421T155529
CREATED:20241017T160005Z
LAST-MODIFIED:20241017T160005Z
UID:7754-1731232800-1731240000@www.milano.ana.it
SUMMARY:Cesano Maderno - Assemblea ordinaria del Gruppo
DESCRIPTION:
URL:https://www.milano.ana.it/event/cesano-maderno-assemblea-ordinaria-del-gruppo/
CATEGORIES:Eventi dei Gruppi
END:VEVENT
BEGIN:VEVENT
DTSTART;TZID=Europe/Paris:20241111T210000
DTEND;TZID=Europe/Paris:20241111T230000
DTSTAMP:20260421T155529
CREATED:20241003T150827Z
LAST-MODIFIED:20241003T150827Z
UID:7704-1731358800-1731366000@www.milano.ana.it
SUMMARY:Riunioni Capigruppo
DESCRIPTION:
URL:https://www.milano.ana.it/event/riunioni-capigruppo/
CATEGORIES:Eventi Sezionali
END:VEVENT
BEGIN:VEVENT
DTSTART;TZID=Europe/Paris:20241123T150000
DTEND;TZID=Europe/Paris:20241123T170000
DTSTAMP:20260421T155529
CREATED:20241007T153048Z
LAST-MODIFIED:20241007T153048Z
UID:7717-1732374000-1732381200@www.milano.ana.it
SUMMARY:Magenta - Assemblea ordinaria del Gruppo
DESCRIPTION:
URL:https://www.milano.ana.it/event/magenta-assemblea-ordinaria-del-gruppo-3/
CATEGORIES:Eventi dei Gruppi
END:VEVENT
END:VCALENDAR